BEGIN:VCALENDAR
VERSION:2.0
PRODID:-//First Call KC - ECPv6.15.20//NONSGML v1.0//EN
CALSCALE:GREGORIAN
METHOD:PUBLISH
X-ORIGINAL-URL:https://www.firstcallkc.org
X-WR-CALDESC:Events for First Call KC
REFRESH-INTERVAL;VALUE=DURATION:PT1H
X-Robots-Tag:noindex
X-PUBLISHED-TTL:PT1H
BEGIN:VTIMEZONE
TZID:America/Chicago
BEGIN:DAYLIGHT
TZOFFSETFROM:-0600
TZOFFSETTO:-0500
TZNAME:CDT
DTSTART:20290311T080000
END:DAYLIGHT
BEGIN:STANDARD
TZOFFSETFROM:-0500
TZOFFSETTO:-0600
TZNAME:CST
DTSTART:20291104T070000
END:STANDARD
BEGIN:DAYLIGHT
TZOFFSETFROM:-0600
TZOFFSETTO:-0500
TZNAME:CDT
DTSTART:20300310T080000
END:DAYLIGHT
BEGIN:STANDARD
TZOFFSETFROM:-0500
TZOFFSETTO:-0600
TZNAME:CST
DTSTART:20301103T070000
END:STANDARD
BEGIN:DAYLIGHT
TZOFFSETFROM:-0600
TZOFFSETTO:-0500
TZNAME:CDT
DTSTART:20310309T080000
END:DAYLIGHT
BEGIN:STANDARD
TZOFFSETFROM:-0500
TZOFFSETTO:-0600
TZNAME:CST
DTSTART:20311102T070000
END:STANDARD
END:VTIMEZONE
BEGIN:VEVENT
DTSTART;TZID=America/Chicago:20300529T180000
DTEND;TZID=America/Chicago:20300619T200000
DTSTAMP:20260423T031448
CREATED:20251208T174011Z
LAST-MODIFIED:20251208T181141Z
UID:10001421-1906308000-1908129600@www.firstcallkc.org
SUMMARY:How To Cope: July 2026
DESCRIPTION:A seven-session course for adult family members and friends impacted by a loved one’s substance use. How to Cope helps participants overcome the related physical\, psychological\, and social effects and build a healthy life for themselves. How to Cope is recognized by the National Association of State Alcohol/Drug Abuse directors as a research informed program proven to strengthen relationship skills and increase resiliency. \nJuly: 7/8\, 7/13\, 7/15\, 7/20\, 7/22\, 7/27\, 7/29
URL:https://www.firstcallkc.org/register/how-to-cope-july/2030-05-29/
LOCATION:First Call\, 9091 State Line Road\, Kansas City\, MO\, United States
CATEGORIES:How To Cope
END:VEVENT
BEGIN:VEVENT
DTSTART;TZID=America/Chicago:20300603T180000
DTEND;TZID=America/Chicago:20300624T200000
DTSTAMP:20260423T031448
CREATED:20251208T174011Z
LAST-MODIFIED:20251208T181141Z
UID:10001422-1906740000-1908561600@www.firstcallkc.org
SUMMARY:How To Cope: July 2026
DESCRIPTION:A seven-session course for adult family members and friends impacted by a loved one’s substance use. How to Cope helps participants overcome the related physical\, psychological\, and social effects and build a healthy life for themselves. How to Cope is recognized by the National Association of State Alcohol/Drug Abuse directors as a research informed program proven to strengthen relationship skills and increase resiliency. \nJuly: 7/8\, 7/13\, 7/15\, 7/20\, 7/22\, 7/27\, 7/29
URL:https://www.firstcallkc.org/register/how-to-cope-july/2030-06-03/
LOCATION:First Call\, 9091 State Line Road\, Kansas City\, MO\, United States
CATEGORIES:How To Cope
END:VEVENT
BEGIN:VEVENT
DTSTART;TZID=America/Chicago:20300605T180000
DTEND;TZID=America/Chicago:20300626T200000
DTSTAMP:20260423T031448
CREATED:20251208T174011Z
LAST-MODIFIED:20251208T181141Z
UID:10001423-1906912800-1908734400@www.firstcallkc.org
SUMMARY:How To Cope: July 2026
DESCRIPTION:A seven-session course for adult family members and friends impacted by a loved one’s substance use. How to Cope helps participants overcome the related physical\, psychological\, and social effects and build a healthy life for themselves. How to Cope is recognized by the National Association of State Alcohol/Drug Abuse directors as a research informed program proven to strengthen relationship skills and increase resiliency. \nJuly: 7/8\, 7/13\, 7/15\, 7/20\, 7/22\, 7/27\, 7/29
URL:https://www.firstcallkc.org/register/how-to-cope-july/2030-06-05/
LOCATION:First Call\, 9091 State Line Road\, Kansas City\, MO\, United States
CATEGORIES:How To Cope
END:VEVENT
BEGIN:VEVENT
DTSTART;TZID=America/Chicago:20300610T180000
DTEND;TZID=America/Chicago:20300701T200000
DTSTAMP:20260423T031448
CREATED:20251208T174011Z
LAST-MODIFIED:20251208T181141Z
UID:10001424-1907344800-1909166400@www.firstcallkc.org
SUMMARY:How To Cope: July 2026
DESCRIPTION:A seven-session course for adult family members and friends impacted by a loved one’s substance use. How to Cope helps participants overcome the related physical\, psychological\, and social effects and build a healthy life for themselves. How to Cope is recognized by the National Association of State Alcohol/Drug Abuse directors as a research informed program proven to strengthen relationship skills and increase resiliency. \nJuly: 7/8\, 7/13\, 7/15\, 7/20\, 7/22\, 7/27\, 7/29
URL:https://www.firstcallkc.org/register/how-to-cope-july/2030-06-10/
LOCATION:First Call\, 9091 State Line Road\, Kansas City\, MO\, United States
CATEGORIES:How To Cope
END:VEVENT
BEGIN:VEVENT
DTSTART;TZID=America/Chicago:20300612T180000
DTEND;TZID=America/Chicago:20300703T200000
DTSTAMP:20260423T031449
CREATED:20251208T174011Z
LAST-MODIFIED:20251208T181141Z
UID:10001425-1907517600-1909339200@www.firstcallkc.org
SUMMARY:How To Cope: July 2026
DESCRIPTION:A seven-session course for adult family members and friends impacted by a loved one’s substance use. How to Cope helps participants overcome the related physical\, psychological\, and social effects and build a healthy life for themselves. How to Cope is recognized by the National Association of State Alcohol/Drug Abuse directors as a research informed program proven to strengthen relationship skills and increase resiliency. \nJuly: 7/8\, 7/13\, 7/15\, 7/20\, 7/22\, 7/27\, 7/29
URL:https://www.firstcallkc.org/register/how-to-cope-july/2030-06-12/
LOCATION:First Call\, 9091 State Line Road\, Kansas City\, MO\, United States
CATEGORIES:How To Cope
END:VEVENT
BEGIN:VEVENT
DTSTART;TZID=America/Chicago:20300617T180000
DTEND;TZID=America/Chicago:20300708T200000
DTSTAMP:20260423T031449
CREATED:20251208T174011Z
LAST-MODIFIED:20251208T181141Z
UID:10001426-1907949600-1909771200@www.firstcallkc.org
SUMMARY:How To Cope: July 2026
DESCRIPTION:A seven-session course for adult family members and friends impacted by a loved one’s substance use. How to Cope helps participants overcome the related physical\, psychological\, and social effects and build a healthy life for themselves. How to Cope is recognized by the National Association of State Alcohol/Drug Abuse directors as a research informed program proven to strengthen relationship skills and increase resiliency. \nJuly: 7/8\, 7/13\, 7/15\, 7/20\, 7/22\, 7/27\, 7/29
URL:https://www.firstcallkc.org/register/how-to-cope-july/2030-06-17/
LOCATION:First Call\, 9091 State Line Road\, Kansas City\, MO\, United States
CATEGORIES:How To Cope
END:VEVENT
BEGIN:VEVENT
DTSTART;TZID=America/Chicago:20300619T180000
DTEND;TZID=America/Chicago:20300710T200000
DTSTAMP:20260423T031449
CREATED:20251208T174011Z
LAST-MODIFIED:20251208T181141Z
UID:10001427-1908122400-1909944000@www.firstcallkc.org
SUMMARY:How To Cope: July 2026
DESCRIPTION:A seven-session course for adult family members and friends impacted by a loved one’s substance use. How to Cope helps participants overcome the related physical\, psychological\, and social effects and build a healthy life for themselves. How to Cope is recognized by the National Association of State Alcohol/Drug Abuse directors as a research informed program proven to strengthen relationship skills and increase resiliency. \nJuly: 7/8\, 7/13\, 7/15\, 7/20\, 7/22\, 7/27\, 7/29
URL:https://www.firstcallkc.org/register/how-to-cope-july/2030-06-19/
LOCATION:First Call\, 9091 State Line Road\, Kansas City\, MO\, United States
CATEGORIES:How To Cope
END:VEVENT
BEGIN:VEVENT
DTSTART;TZID=America/Chicago:20300624T180000
DTEND;TZID=America/Chicago:20300715T200000
DTSTAMP:20260423T031449
CREATED:20251208T174011Z
LAST-MODIFIED:20251208T181141Z
UID:10001428-1908554400-1910376000@www.firstcallkc.org
SUMMARY:How To Cope: July 2026
DESCRIPTION:A seven-session course for adult family members and friends impacted by a loved one’s substance use. How to Cope helps participants overcome the related physical\, psychological\, and social effects and build a healthy life for themselves. How to Cope is recognized by the National Association of State Alcohol/Drug Abuse directors as a research informed program proven to strengthen relationship skills and increase resiliency. \nJuly: 7/8\, 7/13\, 7/15\, 7/20\, 7/22\, 7/27\, 7/29
URL:https://www.firstcallkc.org/register/how-to-cope-july/2030-06-24/
LOCATION:First Call\, 9091 State Line Road\, Kansas City\, MO\, United States
CATEGORIES:How To Cope
END:VEVENT
BEGIN:VEVENT
DTSTART;TZID=America/Chicago:20300626T180000
DTEND;TZID=America/Chicago:20300717T200000
DTSTAMP:20260423T031449
CREATED:20251208T174011Z
LAST-MODIFIED:20251208T181141Z
UID:10001429-1908727200-1910548800@www.firstcallkc.org
SUMMARY:How To Cope: July 2026
DESCRIPTION:A seven-session course for adult family members and friends impacted by a loved one’s substance use. How to Cope helps participants overcome the related physical\, psychological\, and social effects and build a healthy life for themselves. How to Cope is recognized by the National Association of State Alcohol/Drug Abuse directors as a research informed program proven to strengthen relationship skills and increase resiliency. \nJuly: 7/8\, 7/13\, 7/15\, 7/20\, 7/22\, 7/27\, 7/29
URL:https://www.firstcallkc.org/register/how-to-cope-july/2030-06-26/
LOCATION:First Call\, 9091 State Line Road\, Kansas City\, MO\, United States
CATEGORIES:How To Cope
END:VEVENT
BEGIN:VEVENT
DTSTART;TZID=America/Chicago:20300701T180000
DTEND;TZID=America/Chicago:20300722T200000
DTSTAMP:20260423T031449
CREATED:20251208T174011Z
LAST-MODIFIED:20251208T181141Z
UID:10001430-1909159200-1910980800@www.firstcallkc.org
SUMMARY:How To Cope: July 2026
DESCRIPTION:A seven-session course for adult family members and friends impacted by a loved one’s substance use. How to Cope helps participants overcome the related physical\, psychological\, and social effects and build a healthy life for themselves. How to Cope is recognized by the National Association of State Alcohol/Drug Abuse directors as a research informed program proven to strengthen relationship skills and increase resiliency. \nJuly: 7/8\, 7/13\, 7/15\, 7/20\, 7/22\, 7/27\, 7/29
URL:https://www.firstcallkc.org/register/how-to-cope-july/2030-07-01/
LOCATION:First Call\, 9091 State Line Road\, Kansas City\, MO\, United States
CATEGORIES:How To Cope
END:VEVENT
BEGIN:VEVENT
DTSTART;TZID=America/Chicago:20300703T180000
DTEND;TZID=America/Chicago:20300724T200000
DTSTAMP:20260423T031449
CREATED:20251208T174011Z
LAST-MODIFIED:20251208T181141Z
UID:10001431-1909332000-1911153600@www.firstcallkc.org
SUMMARY:How To Cope: July 2026
DESCRIPTION:A seven-session course for adult family members and friends impacted by a loved one’s substance use. How to Cope helps participants overcome the related physical\, psychological\, and social effects and build a healthy life for themselves. How to Cope is recognized by the National Association of State Alcohol/Drug Abuse directors as a research informed program proven to strengthen relationship skills and increase resiliency. \nJuly: 7/8\, 7/13\, 7/15\, 7/20\, 7/22\, 7/27\, 7/29
URL:https://www.firstcallkc.org/register/how-to-cope-july/2030-07-03/
LOCATION:First Call\, 9091 State Line Road\, Kansas City\, MO\, United States
CATEGORIES:How To Cope
END:VEVENT
BEGIN:VEVENT
DTSTART;TZID=America/Chicago:20300708T180000
DTEND;TZID=America/Chicago:20300729T200000
DTSTAMP:20260423T031449
CREATED:20251208T174011Z
LAST-MODIFIED:20251208T181141Z
UID:10001432-1909764000-1911585600@www.firstcallkc.org
SUMMARY:How To Cope: July 2026
DESCRIPTION:A seven-session course for adult family members and friends impacted by a loved one’s substance use. How to Cope helps participants overcome the related physical\, psychological\, and social effects and build a healthy life for themselves. How to Cope is recognized by the National Association of State Alcohol/Drug Abuse directors as a research informed program proven to strengthen relationship skills and increase resiliency. \nJuly: 7/8\, 7/13\, 7/15\, 7/20\, 7/22\, 7/27\, 7/29
URL:https://www.firstcallkc.org/register/how-to-cope-july/2030-07-08/
LOCATION:First Call\, 9091 State Line Road\, Kansas City\, MO\, United States
CATEGORIES:How To Cope
END:VEVENT
BEGIN:VEVENT
DTSTART;TZID=America/Chicago:20300710T180000
DTEND;TZID=America/Chicago:20300731T200000
DTSTAMP:20260423T031449
CREATED:20251208T174011Z
LAST-MODIFIED:20251208T181141Z
UID:10001433-1909936800-1911758400@www.firstcallkc.org
SUMMARY:How To Cope: July 2026
DESCRIPTION:A seven-session course for adult family members and friends impacted by a loved one’s substance use. How to Cope helps participants overcome the related physical\, psychological\, and social effects and build a healthy life for themselves. How to Cope is recognized by the National Association of State Alcohol/Drug Abuse directors as a research informed program proven to strengthen relationship skills and increase resiliency. \nJuly: 7/8\, 7/13\, 7/15\, 7/20\, 7/22\, 7/27\, 7/29
URL:https://www.firstcallkc.org/register/how-to-cope-july/2030-07-10/
LOCATION:First Call\, 9091 State Line Road\, Kansas City\, MO\, United States
CATEGORIES:How To Cope
END:VEVENT
BEGIN:VEVENT
DTSTART;TZID=America/Chicago:20300715T180000
DTEND;TZID=America/Chicago:20300805T200000
DTSTAMP:20260423T031449
CREATED:20251208T174011Z
LAST-MODIFIED:20251208T181141Z
UID:10001434-1910368800-1912190400@www.firstcallkc.org
SUMMARY:How To Cope: July 2026
DESCRIPTION:A seven-session course for adult family members and friends impacted by a loved one’s substance use. How to Cope helps participants overcome the related physical\, psychological\, and social effects and build a healthy life for themselves. How to Cope is recognized by the National Association of State Alcohol/Drug Abuse directors as a research informed program proven to strengthen relationship skills and increase resiliency. \nJuly: 7/8\, 7/13\, 7/15\, 7/20\, 7/22\, 7/27\, 7/29
URL:https://www.firstcallkc.org/register/how-to-cope-july/2030-07-15/
LOCATION:First Call\, 9091 State Line Road\, Kansas City\, MO\, United States
CATEGORIES:How To Cope
END:VEVENT
BEGIN:VEVENT
DTSTART;TZID=America/Chicago:20300717T180000
DTEND;TZID=America/Chicago:20300807T200000
DTSTAMP:20260423T031449
CREATED:20251208T174011Z
LAST-MODIFIED:20251208T181141Z
UID:10001435-1910541600-1912363200@www.firstcallkc.org
SUMMARY:How To Cope: July 2026
DESCRIPTION:A seven-session course for adult family members and friends impacted by a loved one’s substance use. How to Cope helps participants overcome the related physical\, psychological\, and social effects and build a healthy life for themselves. How to Cope is recognized by the National Association of State Alcohol/Drug Abuse directors as a research informed program proven to strengthen relationship skills and increase resiliency. \nJuly: 7/8\, 7/13\, 7/15\, 7/20\, 7/22\, 7/27\, 7/29
URL:https://www.firstcallkc.org/register/how-to-cope-july/2030-07-17/
LOCATION:First Call\, 9091 State Line Road\, Kansas City\, MO\, United States
CATEGORIES:How To Cope
END:VEVENT
BEGIN:VEVENT
DTSTART;TZID=America/Chicago:20300722T180000
DTEND;TZID=America/Chicago:20300812T200000
DTSTAMP:20260423T031449
CREATED:20251208T174011Z
LAST-MODIFIED:20251208T181141Z
UID:10001436-1910973600-1912795200@www.firstcallkc.org
SUMMARY:How To Cope: July 2026
DESCRIPTION:A seven-session course for adult family members and friends impacted by a loved one’s substance use. How to Cope helps participants overcome the related physical\, psychological\, and social effects and build a healthy life for themselves. How to Cope is recognized by the National Association of State Alcohol/Drug Abuse directors as a research informed program proven to strengthen relationship skills and increase resiliency. \nJuly: 7/8\, 7/13\, 7/15\, 7/20\, 7/22\, 7/27\, 7/29
URL:https://www.firstcallkc.org/register/how-to-cope-july/2030-07-22/
LOCATION:First Call\, 9091 State Line Road\, Kansas City\, MO\, United States
CATEGORIES:How To Cope
END:VEVENT
BEGIN:VEVENT
DTSTART;TZID=America/Chicago:20300724T180000
DTEND;TZID=America/Chicago:20300814T200000
DTSTAMP:20260423T031449
CREATED:20251208T174011Z
LAST-MODIFIED:20251208T181141Z
UID:10001437-1911146400-1912968000@www.firstcallkc.org
SUMMARY:How To Cope: July 2026
DESCRIPTION:A seven-session course for adult family members and friends impacted by a loved one’s substance use. How to Cope helps participants overcome the related physical\, psychological\, and social effects and build a healthy life for themselves. How to Cope is recognized by the National Association of State Alcohol/Drug Abuse directors as a research informed program proven to strengthen relationship skills and increase resiliency. \nJuly: 7/8\, 7/13\, 7/15\, 7/20\, 7/22\, 7/27\, 7/29
URL:https://www.firstcallkc.org/register/how-to-cope-july/2030-07-24/
LOCATION:First Call\, 9091 State Line Road\, Kansas City\, MO\, United States
CATEGORIES:How To Cope
END:VEVENT
BEGIN:VEVENT
DTSTART;TZID=America/Chicago:20300729T180000
DTEND;TZID=America/Chicago:20300819T200000
DTSTAMP:20260423T031449
CREATED:20251208T174011Z
LAST-MODIFIED:20251208T181141Z
UID:10001438-1911578400-1913400000@www.firstcallkc.org
SUMMARY:How To Cope: July 2026
DESCRIPTION:A seven-session course for adult family members and friends impacted by a loved one’s substance use. How to Cope helps participants overcome the related physical\, psychological\, and social effects and build a healthy life for themselves. How to Cope is recognized by the National Association of State Alcohol/Drug Abuse directors as a research informed program proven to strengthen relationship skills and increase resiliency. \nJuly: 7/8\, 7/13\, 7/15\, 7/20\, 7/22\, 7/27\, 7/29
URL:https://www.firstcallkc.org/register/how-to-cope-july/2030-07-29/
LOCATION:First Call\, 9091 State Line Road\, Kansas City\, MO\, United States
CATEGORIES:How To Cope
END:VEVENT
BEGIN:VEVENT
DTSTART;TZID=America/Chicago:20300731T180000
DTEND;TZID=America/Chicago:20300821T200000
DTSTAMP:20260423T031449
CREATED:20251208T174011Z
LAST-MODIFIED:20251208T181141Z
UID:10001439-1911751200-1913572800@www.firstcallkc.org
SUMMARY:How To Cope: July 2026
DESCRIPTION:A seven-session course for adult family members and friends impacted by a loved one’s substance use. How to Cope helps participants overcome the related physical\, psychological\, and social effects and build a healthy life for themselves. How to Cope is recognized by the National Association of State Alcohol/Drug Abuse directors as a research informed program proven to strengthen relationship skills and increase resiliency. \nJuly: 7/8\, 7/13\, 7/15\, 7/20\, 7/22\, 7/27\, 7/29
URL:https://www.firstcallkc.org/register/how-to-cope-july/2030-07-31/
LOCATION:First Call\, 9091 State Line Road\, Kansas City\, MO\, United States
CATEGORIES:How To Cope
END:VEVENT
BEGIN:VEVENT
DTSTART;TZID=America/Chicago:20300805T180000
DTEND;TZID=America/Chicago:20300826T200000
DTSTAMP:20260423T031449
CREATED:20251208T174011Z
LAST-MODIFIED:20251208T181141Z
UID:10001440-1912183200-1914004800@www.firstcallkc.org
SUMMARY:How To Cope: July 2026
DESCRIPTION:A seven-session course for adult family members and friends impacted by a loved one’s substance use. How to Cope helps participants overcome the related physical\, psychological\, and social effects and build a healthy life for themselves. How to Cope is recognized by the National Association of State Alcohol/Drug Abuse directors as a research informed program proven to strengthen relationship skills and increase resiliency. \nJuly: 7/8\, 7/13\, 7/15\, 7/20\, 7/22\, 7/27\, 7/29
URL:https://www.firstcallkc.org/register/how-to-cope-july/2030-08-05/
LOCATION:First Call\, 9091 State Line Road\, Kansas City\, MO\, United States
CATEGORIES:How To Cope
END:VEVENT
BEGIN:VEVENT
DTSTART;TZID=America/Chicago:20300807T180000
DTEND;TZID=America/Chicago:20300828T200000
DTSTAMP:20260423T031449
CREATED:20251208T174011Z
LAST-MODIFIED:20251208T181141Z
UID:10001441-1912356000-1914177600@www.firstcallkc.org
SUMMARY:How To Cope: July 2026
DESCRIPTION:A seven-session course for adult family members and friends impacted by a loved one’s substance use. How to Cope helps participants overcome the related physical\, psychological\, and social effects and build a healthy life for themselves. How to Cope is recognized by the National Association of State Alcohol/Drug Abuse directors as a research informed program proven to strengthen relationship skills and increase resiliency. \nJuly: 7/8\, 7/13\, 7/15\, 7/20\, 7/22\, 7/27\, 7/29
URL:https://www.firstcallkc.org/register/how-to-cope-july/2030-08-07/
LOCATION:First Call\, 9091 State Line Road\, Kansas City\, MO\, United States
CATEGORIES:How To Cope
END:VEVENT
BEGIN:VEVENT
DTSTART;TZID=America/Chicago:20300812T180000
DTEND;TZID=America/Chicago:20300902T200000
DTSTAMP:20260423T031449
CREATED:20251208T174011Z
LAST-MODIFIED:20251208T181141Z
UID:10001442-1912788000-1914609600@www.firstcallkc.org
SUMMARY:How To Cope: July 2026
DESCRIPTION:A seven-session course for adult family members and friends impacted by a loved one’s substance use. How to Cope helps participants overcome the related physical\, psychological\, and social effects and build a healthy life for themselves. How to Cope is recognized by the National Association of State Alcohol/Drug Abuse directors as a research informed program proven to strengthen relationship skills and increase resiliency. \nJuly: 7/8\, 7/13\, 7/15\, 7/20\, 7/22\, 7/27\, 7/29
URL:https://www.firstcallkc.org/register/how-to-cope-july/2030-08-12/
LOCATION:First Call\, 9091 State Line Road\, Kansas City\, MO\, United States
CATEGORIES:How To Cope
END:VEVENT
BEGIN:VEVENT
DTSTART;TZID=America/Chicago:20300814T180000
DTEND;TZID=America/Chicago:20300904T200000
DTSTAMP:20260423T031449
CREATED:20251208T174011Z
LAST-MODIFIED:20251208T181141Z
UID:10001443-1912960800-1914782400@www.firstcallkc.org
SUMMARY:How To Cope: July 2026
DESCRIPTION:A seven-session course for adult family members and friends impacted by a loved one’s substance use. How to Cope helps participants overcome the related physical\, psychological\, and social effects and build a healthy life for themselves. How to Cope is recognized by the National Association of State Alcohol/Drug Abuse directors as a research informed program proven to strengthen relationship skills and increase resiliency. \nJuly: 7/8\, 7/13\, 7/15\, 7/20\, 7/22\, 7/27\, 7/29
URL:https://www.firstcallkc.org/register/how-to-cope-july/2030-08-14/
LOCATION:First Call\, 9091 State Line Road\, Kansas City\, MO\, United States
CATEGORIES:How To Cope
END:VEVENT
BEGIN:VEVENT
DTSTART;TZID=America/Chicago:20300819T180000
DTEND;TZID=America/Chicago:20300909T200000
DTSTAMP:20260423T031449
CREATED:20251208T174011Z
LAST-MODIFIED:20251208T181141Z
UID:10001444-1913392800-1915214400@www.firstcallkc.org
SUMMARY:How To Cope: July 2026
DESCRIPTION:A seven-session course for adult family members and friends impacted by a loved one’s substance use. How to Cope helps participants overcome the related physical\, psychological\, and social effects and build a healthy life for themselves. How to Cope is recognized by the National Association of State Alcohol/Drug Abuse directors as a research informed program proven to strengthen relationship skills and increase resiliency. \nJuly: 7/8\, 7/13\, 7/15\, 7/20\, 7/22\, 7/27\, 7/29
URL:https://www.firstcallkc.org/register/how-to-cope-july/2030-08-19/
LOCATION:First Call\, 9091 State Line Road\, Kansas City\, MO\, United States
CATEGORIES:How To Cope
END:VEVENT
BEGIN:VEVENT
DTSTART;TZID=America/Chicago:20300821T180000
DTEND;TZID=America/Chicago:20300911T200000
DTSTAMP:20260423T031449
CREATED:20251208T174011Z
LAST-MODIFIED:20251208T181141Z
UID:10001445-1913565600-1915387200@www.firstcallkc.org
SUMMARY:How To Cope: July 2026
DESCRIPTION:A seven-session course for adult family members and friends impacted by a loved one’s substance use. How to Cope helps participants overcome the related physical\, psychological\, and social effects and build a healthy life for themselves. How to Cope is recognized by the National Association of State Alcohol/Drug Abuse directors as a research informed program proven to strengthen relationship skills and increase resiliency. \nJuly: 7/8\, 7/13\, 7/15\, 7/20\, 7/22\, 7/27\, 7/29
URL:https://www.firstcallkc.org/register/how-to-cope-july/2030-08-21/
LOCATION:First Call\, 9091 State Line Road\, Kansas City\, MO\, United States
CATEGORIES:How To Cope
END:VEVENT
BEGIN:VEVENT
DTSTART;TZID=America/Chicago:20300826T180000
DTEND;TZID=America/Chicago:20300916T200000
DTSTAMP:20260423T031449
CREATED:20251208T174011Z
LAST-MODIFIED:20251208T181141Z
UID:10001446-1913997600-1915819200@www.firstcallkc.org
SUMMARY:How To Cope: July 2026
DESCRIPTION:A seven-session course for adult family members and friends impacted by a loved one’s substance use. How to Cope helps participants overcome the related physical\, psychological\, and social effects and build a healthy life for themselves. How to Cope is recognized by the National Association of State Alcohol/Drug Abuse directors as a research informed program proven to strengthen relationship skills and increase resiliency. \nJuly: 7/8\, 7/13\, 7/15\, 7/20\, 7/22\, 7/27\, 7/29
URL:https://www.firstcallkc.org/register/how-to-cope-july/2030-08-26/
LOCATION:First Call\, 9091 State Line Road\, Kansas City\, MO\, United States
CATEGORIES:How To Cope
END:VEVENT
BEGIN:VEVENT
DTSTART;TZID=America/Chicago:20300828T180000
DTEND;TZID=America/Chicago:20300918T200000
DTSTAMP:20260423T031449
CREATED:20251208T174011Z
LAST-MODIFIED:20251208T181141Z
UID:10001447-1914170400-1915992000@www.firstcallkc.org
SUMMARY:How To Cope: July 2026
DESCRIPTION:A seven-session course for adult family members and friends impacted by a loved one’s substance use. How to Cope helps participants overcome the related physical\, psychological\, and social effects and build a healthy life for themselves. How to Cope is recognized by the National Association of State Alcohol/Drug Abuse directors as a research informed program proven to strengthen relationship skills and increase resiliency. \nJuly: 7/8\, 7/13\, 7/15\, 7/20\, 7/22\, 7/27\, 7/29
URL:https://www.firstcallkc.org/register/how-to-cope-july/2030-08-28/
LOCATION:First Call\, 9091 State Line Road\, Kansas City\, MO\, United States
CATEGORIES:How To Cope
END:VEVENT
BEGIN:VEVENT
DTSTART;TZID=America/Chicago:20300902T180000
DTEND;TZID=America/Chicago:20300923T200000
DTSTAMP:20260423T031449
CREATED:20251208T174011Z
LAST-MODIFIED:20251208T181141Z
UID:10001448-1914602400-1916424000@www.firstcallkc.org
SUMMARY:How To Cope: July 2026
DESCRIPTION:A seven-session course for adult family members and friends impacted by a loved one’s substance use. How to Cope helps participants overcome the related physical\, psychological\, and social effects and build a healthy life for themselves. How to Cope is recognized by the National Association of State Alcohol/Drug Abuse directors as a research informed program proven to strengthen relationship skills and increase resiliency. \nJuly: 7/8\, 7/13\, 7/15\, 7/20\, 7/22\, 7/27\, 7/29
URL:https://www.firstcallkc.org/register/how-to-cope-july/2030-09-02/
LOCATION:First Call\, 9091 State Line Road\, Kansas City\, MO\, United States
CATEGORIES:How To Cope
END:VEVENT
BEGIN:VEVENT
DTSTART;TZID=America/Chicago:20300904T180000
DTEND;TZID=America/Chicago:20300925T200000
DTSTAMP:20260423T031449
CREATED:20251208T174011Z
LAST-MODIFIED:20251208T181141Z
UID:10001449-1914775200-1916596800@www.firstcallkc.org
SUMMARY:How To Cope: July 2026
DESCRIPTION:A seven-session course for adult family members and friends impacted by a loved one’s substance use. How to Cope helps participants overcome the related physical\, psychological\, and social effects and build a healthy life for themselves. How to Cope is recognized by the National Association of State Alcohol/Drug Abuse directors as a research informed program proven to strengthen relationship skills and increase resiliency. \nJuly: 7/8\, 7/13\, 7/15\, 7/20\, 7/22\, 7/27\, 7/29
URL:https://www.firstcallkc.org/register/how-to-cope-july/2030-09-04/
LOCATION:First Call\, 9091 State Line Road\, Kansas City\, MO\, United States
CATEGORIES:How To Cope
END:VEVENT
BEGIN:VEVENT
DTSTART;TZID=America/Chicago:20300909T180000
DTEND;TZID=America/Chicago:20300930T200000
DTSTAMP:20260423T031449
CREATED:20251208T174011Z
LAST-MODIFIED:20251208T181141Z
UID:10001450-1915207200-1917028800@www.firstcallkc.org
SUMMARY:How To Cope: July 2026
DESCRIPTION:A seven-session course for adult family members and friends impacted by a loved one’s substance use. How to Cope helps participants overcome the related physical\, psychological\, and social effects and build a healthy life for themselves. How to Cope is recognized by the National Association of State Alcohol/Drug Abuse directors as a research informed program proven to strengthen relationship skills and increase resiliency. \nJuly: 7/8\, 7/13\, 7/15\, 7/20\, 7/22\, 7/27\, 7/29
URL:https://www.firstcallkc.org/register/how-to-cope-july/2030-09-09/
LOCATION:First Call\, 9091 State Line Road\, Kansas City\, MO\, United States
CATEGORIES:How To Cope
END:VEVENT
END:VCALENDAR