BEGIN:VCALENDAR
VERSION:2.0
PRODID:-//First Call KC - ECPv6.15.20//NONSGML v1.0//EN
CALSCALE:GREGORIAN
METHOD:PUBLISH
X-WR-CALNAME:First Call KC
X-ORIGINAL-URL:https://www.firstcallkc.org
X-WR-CALDESC:Events for First Call KC
REFRESH-INTERVAL;VALUE=DURATION:PT1H
X-Robots-Tag:noindex
X-PUBLISHED-TTL:PT1H
BEGIN:VTIMEZONE
TZID:America/Chicago
BEGIN:DAYLIGHT
TZOFFSETFROM:-0600
TZOFFSETTO:-0500
TZNAME:CDT
DTSTART:20280312T080000
END:DAYLIGHT
BEGIN:STANDARD
TZOFFSETFROM:-0500
TZOFFSETTO:-0600
TZNAME:CST
DTSTART:20281105T070000
END:STANDARD
BEGIN:DAYLIGHT
TZOFFSETFROM:-0600
TZOFFSETTO:-0500
TZNAME:CDT
DTSTART:20290311T080000
END:DAYLIGHT
BEGIN:STANDARD
TZOFFSETFROM:-0500
TZOFFSETTO:-0600
TZNAME:CST
DTSTART:20291104T070000
END:STANDARD
BEGIN:DAYLIGHT
TZOFFSETFROM:-0600
TZOFFSETTO:-0500
TZNAME:CDT
DTSTART:20300310T080000
END:DAYLIGHT
BEGIN:STANDARD
TZOFFSETFROM:-0500
TZOFFSETTO:-0600
TZNAME:CST
DTSTART:20301103T070000
END:STANDARD
END:VTIMEZONE
BEGIN:VEVENT
DTSTART;TZID=America/Chicago:20290411T180000
DTEND;TZID=America/Chicago:20290502T200000
DTSTAMP:20260421T030044
CREATED:20251208T174011Z
LAST-MODIFIED:20251208T181141Z
UID:10001303-1870624800-1872446400@www.firstcallkc.org
SUMMARY:How To Cope: July 2026
DESCRIPTION:A seven-session course for adult family members and friends impacted by a loved one’s substance use. How to Cope helps participants overcome the related physical\, psychological\, and social effects and build a healthy life for themselves. How to Cope is recognized by the National Association of State Alcohol/Drug Abuse directors as a research informed program proven to strengthen relationship skills and increase resiliency. \nJuly: 7/8\, 7/13\, 7/15\, 7/20\, 7/22\, 7/27\, 7/29
URL:https://www.firstcallkc.org/register/how-to-cope-july/2029-04-11/
LOCATION:First Call\, 9091 State Line Road\, Kansas City\, MO\, United States
CATEGORIES:How To Cope
END:VEVENT
BEGIN:VEVENT
DTSTART;TZID=America/Chicago:20290416T180000
DTEND;TZID=America/Chicago:20290507T200000
DTSTAMP:20260421T030044
CREATED:20251208T174011Z
LAST-MODIFIED:20251208T181141Z
UID:10001304-1871056800-1872878400@www.firstcallkc.org
SUMMARY:How To Cope: July 2026
DESCRIPTION:A seven-session course for adult family members and friends impacted by a loved one’s substance use. How to Cope helps participants overcome the related physical\, psychological\, and social effects and build a healthy life for themselves. How to Cope is recognized by the National Association of State Alcohol/Drug Abuse directors as a research informed program proven to strengthen relationship skills and increase resiliency. \nJuly: 7/8\, 7/13\, 7/15\, 7/20\, 7/22\, 7/27\, 7/29
URL:https://www.firstcallkc.org/register/how-to-cope-july/2029-04-16/
LOCATION:First Call\, 9091 State Line Road\, Kansas City\, MO\, United States
CATEGORIES:How To Cope
END:VEVENT
BEGIN:VEVENT
DTSTART;TZID=America/Chicago:20290418T180000
DTEND;TZID=America/Chicago:20290509T200000
DTSTAMP:20260421T030044
CREATED:20251208T174011Z
LAST-MODIFIED:20251208T181141Z
UID:10001305-1871229600-1873051200@www.firstcallkc.org
SUMMARY:How To Cope: July 2026
DESCRIPTION:A seven-session course for adult family members and friends impacted by a loved one’s substance use. How to Cope helps participants overcome the related physical\, psychological\, and social effects and build a healthy life for themselves. How to Cope is recognized by the National Association of State Alcohol/Drug Abuse directors as a research informed program proven to strengthen relationship skills and increase resiliency. \nJuly: 7/8\, 7/13\, 7/15\, 7/20\, 7/22\, 7/27\, 7/29
URL:https://www.firstcallkc.org/register/how-to-cope-july/2029-04-18/
LOCATION:First Call\, 9091 State Line Road\, Kansas City\, MO\, United States
CATEGORIES:How To Cope
END:VEVENT
BEGIN:VEVENT
DTSTART;TZID=America/Chicago:20290423T180000
DTEND;TZID=America/Chicago:20290514T200000
DTSTAMP:20260421T030044
CREATED:20251208T174011Z
LAST-MODIFIED:20251208T181141Z
UID:10001306-1871661600-1873483200@www.firstcallkc.org
SUMMARY:How To Cope: July 2026
DESCRIPTION:A seven-session course for adult family members and friends impacted by a loved one’s substance use. How to Cope helps participants overcome the related physical\, psychological\, and social effects and build a healthy life for themselves. How to Cope is recognized by the National Association of State Alcohol/Drug Abuse directors as a research informed program proven to strengthen relationship skills and increase resiliency. \nJuly: 7/8\, 7/13\, 7/15\, 7/20\, 7/22\, 7/27\, 7/29
URL:https://www.firstcallkc.org/register/how-to-cope-july/2029-04-23/
LOCATION:First Call\, 9091 State Line Road\, Kansas City\, MO\, United States
CATEGORIES:How To Cope
END:VEVENT
BEGIN:VEVENT
DTSTART;TZID=America/Chicago:20290425T180000
DTEND;TZID=America/Chicago:20290516T200000
DTSTAMP:20260421T030044
CREATED:20251208T174011Z
LAST-MODIFIED:20251208T181141Z
UID:10001307-1871834400-1873656000@www.firstcallkc.org
SUMMARY:How To Cope: July 2026
DESCRIPTION:A seven-session course for adult family members and friends impacted by a loved one’s substance use. How to Cope helps participants overcome the related physical\, psychological\, and social effects and build a healthy life for themselves. How to Cope is recognized by the National Association of State Alcohol/Drug Abuse directors as a research informed program proven to strengthen relationship skills and increase resiliency. \nJuly: 7/8\, 7/13\, 7/15\, 7/20\, 7/22\, 7/27\, 7/29
URL:https://www.firstcallkc.org/register/how-to-cope-july/2029-04-25/
LOCATION:First Call\, 9091 State Line Road\, Kansas City\, MO\, United States
CATEGORIES:How To Cope
END:VEVENT
BEGIN:VEVENT
DTSTART;TZID=America/Chicago:20290430T180000
DTEND;TZID=America/Chicago:20290521T200000
DTSTAMP:20260421T030044
CREATED:20251208T174011Z
LAST-MODIFIED:20251208T181141Z
UID:10001308-1872266400-1874088000@www.firstcallkc.org
SUMMARY:How To Cope: July 2026
DESCRIPTION:A seven-session course for adult family members and friends impacted by a loved one’s substance use. How to Cope helps participants overcome the related physical\, psychological\, and social effects and build a healthy life for themselves. How to Cope is recognized by the National Association of State Alcohol/Drug Abuse directors as a research informed program proven to strengthen relationship skills and increase resiliency. \nJuly: 7/8\, 7/13\, 7/15\, 7/20\, 7/22\, 7/27\, 7/29
URL:https://www.firstcallkc.org/register/how-to-cope-july/2029-04-30/
LOCATION:First Call\, 9091 State Line Road\, Kansas City\, MO\, United States
CATEGORIES:How To Cope
END:VEVENT
BEGIN:VEVENT
DTSTART;TZID=America/Chicago:20290502T180000
DTEND;TZID=America/Chicago:20290523T200000
DTSTAMP:20260421T030044
CREATED:20251208T174011Z
LAST-MODIFIED:20251208T181141Z
UID:10001309-1872439200-1874260800@www.firstcallkc.org
SUMMARY:How To Cope: July 2026
DESCRIPTION:A seven-session course for adult family members and friends impacted by a loved one’s substance use. How to Cope helps participants overcome the related physical\, psychological\, and social effects and build a healthy life for themselves. How to Cope is recognized by the National Association of State Alcohol/Drug Abuse directors as a research informed program proven to strengthen relationship skills and increase resiliency. \nJuly: 7/8\, 7/13\, 7/15\, 7/20\, 7/22\, 7/27\, 7/29
URL:https://www.firstcallkc.org/register/how-to-cope-july/2029-05-02/
LOCATION:First Call\, 9091 State Line Road\, Kansas City\, MO\, United States
CATEGORIES:How To Cope
END:VEVENT
BEGIN:VEVENT
DTSTART;TZID=America/Chicago:20290507T180000
DTEND;TZID=America/Chicago:20290528T200000
DTSTAMP:20260421T030044
CREATED:20251208T174011Z
LAST-MODIFIED:20251208T181141Z
UID:10001310-1872871200-1874692800@www.firstcallkc.org
SUMMARY:How To Cope: July 2026
DESCRIPTION:A seven-session course for adult family members and friends impacted by a loved one’s substance use. How to Cope helps participants overcome the related physical\, psychological\, and social effects and build a healthy life for themselves. How to Cope is recognized by the National Association of State Alcohol/Drug Abuse directors as a research informed program proven to strengthen relationship skills and increase resiliency. \nJuly: 7/8\, 7/13\, 7/15\, 7/20\, 7/22\, 7/27\, 7/29
URL:https://www.firstcallkc.org/register/how-to-cope-july/2029-05-07/
LOCATION:First Call\, 9091 State Line Road\, Kansas City\, MO\, United States
CATEGORIES:How To Cope
END:VEVENT
BEGIN:VEVENT
DTSTART;TZID=America/Chicago:20290509T180000
DTEND;TZID=America/Chicago:20290530T200000
DTSTAMP:20260421T030044
CREATED:20251208T174011Z
LAST-MODIFIED:20251208T181141Z
UID:10001311-1873044000-1874865600@www.firstcallkc.org
SUMMARY:How To Cope: July 2026
DESCRIPTION:A seven-session course for adult family members and friends impacted by a loved one’s substance use. How to Cope helps participants overcome the related physical\, psychological\, and social effects and build a healthy life for themselves. How to Cope is recognized by the National Association of State Alcohol/Drug Abuse directors as a research informed program proven to strengthen relationship skills and increase resiliency. \nJuly: 7/8\, 7/13\, 7/15\, 7/20\, 7/22\, 7/27\, 7/29
URL:https://www.firstcallkc.org/register/how-to-cope-july/2029-05-09/
LOCATION:First Call\, 9091 State Line Road\, Kansas City\, MO\, United States
CATEGORIES:How To Cope
END:VEVENT
BEGIN:VEVENT
DTSTART;TZID=America/Chicago:20290514T180000
DTEND;TZID=America/Chicago:20290604T200000
DTSTAMP:20260421T030044
CREATED:20251208T174011Z
LAST-MODIFIED:20251208T181141Z
UID:10001312-1873476000-1875297600@www.firstcallkc.org
SUMMARY:How To Cope: July 2026
DESCRIPTION:A seven-session course for adult family members and friends impacted by a loved one’s substance use. How to Cope helps participants overcome the related physical\, psychological\, and social effects and build a healthy life for themselves. How to Cope is recognized by the National Association of State Alcohol/Drug Abuse directors as a research informed program proven to strengthen relationship skills and increase resiliency. \nJuly: 7/8\, 7/13\, 7/15\, 7/20\, 7/22\, 7/27\, 7/29
URL:https://www.firstcallkc.org/register/how-to-cope-july/2029-05-14/
LOCATION:First Call\, 9091 State Line Road\, Kansas City\, MO\, United States
CATEGORIES:How To Cope
END:VEVENT
BEGIN:VEVENT
DTSTART;TZID=America/Chicago:20290516T180000
DTEND;TZID=America/Chicago:20290606T200000
DTSTAMP:20260421T030044
CREATED:20251208T174011Z
LAST-MODIFIED:20251208T181141Z
UID:10001313-1873648800-1875470400@www.firstcallkc.org
SUMMARY:How To Cope: July 2026
DESCRIPTION:A seven-session course for adult family members and friends impacted by a loved one’s substance use. How to Cope helps participants overcome the related physical\, psychological\, and social effects and build a healthy life for themselves. How to Cope is recognized by the National Association of State Alcohol/Drug Abuse directors as a research informed program proven to strengthen relationship skills and increase resiliency. \nJuly: 7/8\, 7/13\, 7/15\, 7/20\, 7/22\, 7/27\, 7/29
URL:https://www.firstcallkc.org/register/how-to-cope-july/2029-05-16/
LOCATION:First Call\, 9091 State Line Road\, Kansas City\, MO\, United States
CATEGORIES:How To Cope
END:VEVENT
BEGIN:VEVENT
DTSTART;TZID=America/Chicago:20290521T180000
DTEND;TZID=America/Chicago:20290611T200000
DTSTAMP:20260421T030044
CREATED:20251208T174011Z
LAST-MODIFIED:20251208T181141Z
UID:10001314-1874080800-1875902400@www.firstcallkc.org
SUMMARY:How To Cope: July 2026
DESCRIPTION:A seven-session course for adult family members and friends impacted by a loved one’s substance use. How to Cope helps participants overcome the related physical\, psychological\, and social effects and build a healthy life for themselves. How to Cope is recognized by the National Association of State Alcohol/Drug Abuse directors as a research informed program proven to strengthen relationship skills and increase resiliency. \nJuly: 7/8\, 7/13\, 7/15\, 7/20\, 7/22\, 7/27\, 7/29
URL:https://www.firstcallkc.org/register/how-to-cope-july/2029-05-21/
LOCATION:First Call\, 9091 State Line Road\, Kansas City\, MO\, United States
CATEGORIES:How To Cope
END:VEVENT
BEGIN:VEVENT
DTSTART;TZID=America/Chicago:20290523T180000
DTEND;TZID=America/Chicago:20290613T200000
DTSTAMP:20260421T030044
CREATED:20251208T174011Z
LAST-MODIFIED:20251208T181141Z
UID:10001315-1874253600-1876075200@www.firstcallkc.org
SUMMARY:How To Cope: July 2026
DESCRIPTION:A seven-session course for adult family members and friends impacted by a loved one’s substance use. How to Cope helps participants overcome the related physical\, psychological\, and social effects and build a healthy life for themselves. How to Cope is recognized by the National Association of State Alcohol/Drug Abuse directors as a research informed program proven to strengthen relationship skills and increase resiliency. \nJuly: 7/8\, 7/13\, 7/15\, 7/20\, 7/22\, 7/27\, 7/29
URL:https://www.firstcallkc.org/register/how-to-cope-july/2029-05-23/
LOCATION:First Call\, 9091 State Line Road\, Kansas City\, MO\, United States
CATEGORIES:How To Cope
END:VEVENT
BEGIN:VEVENT
DTSTART;TZID=America/Chicago:20290528T180000
DTEND;TZID=America/Chicago:20290618T200000
DTSTAMP:20260421T030044
CREATED:20251208T174011Z
LAST-MODIFIED:20251208T181141Z
UID:10001316-1874685600-1876507200@www.firstcallkc.org
SUMMARY:How To Cope: July 2026
DESCRIPTION:A seven-session course for adult family members and friends impacted by a loved one’s substance use. How to Cope helps participants overcome the related physical\, psychological\, and social effects and build a healthy life for themselves. How to Cope is recognized by the National Association of State Alcohol/Drug Abuse directors as a research informed program proven to strengthen relationship skills and increase resiliency. \nJuly: 7/8\, 7/13\, 7/15\, 7/20\, 7/22\, 7/27\, 7/29
URL:https://www.firstcallkc.org/register/how-to-cope-july/2029-05-28/
LOCATION:First Call\, 9091 State Line Road\, Kansas City\, MO\, United States
CATEGORIES:How To Cope
END:VEVENT
BEGIN:VEVENT
DTSTART;TZID=America/Chicago:20290530T180000
DTEND;TZID=America/Chicago:20290620T200000
DTSTAMP:20260421T030044
CREATED:20251208T174011Z
LAST-MODIFIED:20251208T181141Z
UID:10001317-1874858400-1876680000@www.firstcallkc.org
SUMMARY:How To Cope: July 2026
DESCRIPTION:A seven-session course for adult family members and friends impacted by a loved one’s substance use. How to Cope helps participants overcome the related physical\, psychological\, and social effects and build a healthy life for themselves. How to Cope is recognized by the National Association of State Alcohol/Drug Abuse directors as a research informed program proven to strengthen relationship skills and increase resiliency. \nJuly: 7/8\, 7/13\, 7/15\, 7/20\, 7/22\, 7/27\, 7/29
URL:https://www.firstcallkc.org/register/how-to-cope-july/2029-05-30/
LOCATION:First Call\, 9091 State Line Road\, Kansas City\, MO\, United States
CATEGORIES:How To Cope
END:VEVENT
BEGIN:VEVENT
DTSTART;TZID=America/Chicago:20290604T180000
DTEND;TZID=America/Chicago:20290625T200000
DTSTAMP:20260421T030044
CREATED:20251208T174011Z
LAST-MODIFIED:20251208T181141Z
UID:10001318-1875290400-1877112000@www.firstcallkc.org
SUMMARY:How To Cope: July 2026
DESCRIPTION:A seven-session course for adult family members and friends impacted by a loved one’s substance use. How to Cope helps participants overcome the related physical\, psychological\, and social effects and build a healthy life for themselves. How to Cope is recognized by the National Association of State Alcohol/Drug Abuse directors as a research informed program proven to strengthen relationship skills and increase resiliency. \nJuly: 7/8\, 7/13\, 7/15\, 7/20\, 7/22\, 7/27\, 7/29
URL:https://www.firstcallkc.org/register/how-to-cope-july/2029-06-04/
LOCATION:First Call\, 9091 State Line Road\, Kansas City\, MO\, United States
CATEGORIES:How To Cope
END:VEVENT
BEGIN:VEVENT
DTSTART;TZID=America/Chicago:20290606T180000
DTEND;TZID=America/Chicago:20290627T200000
DTSTAMP:20260421T030044
CREATED:20251208T174011Z
LAST-MODIFIED:20251208T181141Z
UID:10001319-1875463200-1877284800@www.firstcallkc.org
SUMMARY:How To Cope: July 2026
DESCRIPTION:A seven-session course for adult family members and friends impacted by a loved one’s substance use. How to Cope helps participants overcome the related physical\, psychological\, and social effects and build a healthy life for themselves. How to Cope is recognized by the National Association of State Alcohol/Drug Abuse directors as a research informed program proven to strengthen relationship skills and increase resiliency. \nJuly: 7/8\, 7/13\, 7/15\, 7/20\, 7/22\, 7/27\, 7/29
URL:https://www.firstcallkc.org/register/how-to-cope-july/2029-06-06/
LOCATION:First Call\, 9091 State Line Road\, Kansas City\, MO\, United States
CATEGORIES:How To Cope
END:VEVENT
BEGIN:VEVENT
DTSTART;TZID=America/Chicago:20290611T180000
DTEND;TZID=America/Chicago:20290702T200000
DTSTAMP:20260421T030044
CREATED:20251208T174011Z
LAST-MODIFIED:20251208T181141Z
UID:10001320-1875895200-1877716800@www.firstcallkc.org
SUMMARY:How To Cope: July 2026
DESCRIPTION:A seven-session course for adult family members and friends impacted by a loved one’s substance use. How to Cope helps participants overcome the related physical\, psychological\, and social effects and build a healthy life for themselves. How to Cope is recognized by the National Association of State Alcohol/Drug Abuse directors as a research informed program proven to strengthen relationship skills and increase resiliency. \nJuly: 7/8\, 7/13\, 7/15\, 7/20\, 7/22\, 7/27\, 7/29
URL:https://www.firstcallkc.org/register/how-to-cope-july/2029-06-11/
LOCATION:First Call\, 9091 State Line Road\, Kansas City\, MO\, United States
CATEGORIES:How To Cope
END:VEVENT
BEGIN:VEVENT
DTSTART;TZID=America/Chicago:20290613T180000
DTEND;TZID=America/Chicago:20290704T200000
DTSTAMP:20260421T030044
CREATED:20251208T174011Z
LAST-MODIFIED:20251208T181141Z
UID:10001321-1876068000-1877889600@www.firstcallkc.org
SUMMARY:How To Cope: July 2026
DESCRIPTION:A seven-session course for adult family members and friends impacted by a loved one’s substance use. How to Cope helps participants overcome the related physical\, psychological\, and social effects and build a healthy life for themselves. How to Cope is recognized by the National Association of State Alcohol/Drug Abuse directors as a research informed program proven to strengthen relationship skills and increase resiliency. \nJuly: 7/8\, 7/13\, 7/15\, 7/20\, 7/22\, 7/27\, 7/29
URL:https://www.firstcallkc.org/register/how-to-cope-july/2029-06-13/
LOCATION:First Call\, 9091 State Line Road\, Kansas City\, MO\, United States
CATEGORIES:How To Cope
END:VEVENT
BEGIN:VEVENT
DTSTART;TZID=America/Chicago:20290618T180000
DTEND;TZID=America/Chicago:20290709T200000
DTSTAMP:20260421T030044
CREATED:20251208T174011Z
LAST-MODIFIED:20251208T181141Z
UID:10001322-1876500000-1878321600@www.firstcallkc.org
SUMMARY:How To Cope: July 2026
DESCRIPTION:A seven-session course for adult family members and friends impacted by a loved one’s substance use. How to Cope helps participants overcome the related physical\, psychological\, and social effects and build a healthy life for themselves. How to Cope is recognized by the National Association of State Alcohol/Drug Abuse directors as a research informed program proven to strengthen relationship skills and increase resiliency. \nJuly: 7/8\, 7/13\, 7/15\, 7/20\, 7/22\, 7/27\, 7/29
URL:https://www.firstcallkc.org/register/how-to-cope-july/2029-06-18/
LOCATION:First Call\, 9091 State Line Road\, Kansas City\, MO\, United States
CATEGORIES:How To Cope
END:VEVENT
BEGIN:VEVENT
DTSTART;TZID=America/Chicago:20290620T180000
DTEND;TZID=America/Chicago:20290711T200000
DTSTAMP:20260421T030044
CREATED:20251208T174011Z
LAST-MODIFIED:20251208T181141Z
UID:10001323-1876672800-1878494400@www.firstcallkc.org
SUMMARY:How To Cope: July 2026
DESCRIPTION:A seven-session course for adult family members and friends impacted by a loved one’s substance use. How to Cope helps participants overcome the related physical\, psychological\, and social effects and build a healthy life for themselves. How to Cope is recognized by the National Association of State Alcohol/Drug Abuse directors as a research informed program proven to strengthen relationship skills and increase resiliency. \nJuly: 7/8\, 7/13\, 7/15\, 7/20\, 7/22\, 7/27\, 7/29
URL:https://www.firstcallkc.org/register/how-to-cope-july/2029-06-20/
LOCATION:First Call\, 9091 State Line Road\, Kansas City\, MO\, United States
CATEGORIES:How To Cope
END:VEVENT
BEGIN:VEVENT
DTSTART;TZID=America/Chicago:20290625T180000
DTEND;TZID=America/Chicago:20290716T200000
DTSTAMP:20260421T030044
CREATED:20251208T174011Z
LAST-MODIFIED:20251208T181141Z
UID:10001324-1877104800-1878926400@www.firstcallkc.org
SUMMARY:How To Cope: July 2026
DESCRIPTION:A seven-session course for adult family members and friends impacted by a loved one’s substance use. How to Cope helps participants overcome the related physical\, psychological\, and social effects and build a healthy life for themselves. How to Cope is recognized by the National Association of State Alcohol/Drug Abuse directors as a research informed program proven to strengthen relationship skills and increase resiliency. \nJuly: 7/8\, 7/13\, 7/15\, 7/20\, 7/22\, 7/27\, 7/29
URL:https://www.firstcallkc.org/register/how-to-cope-july/2029-06-25/
LOCATION:First Call\, 9091 State Line Road\, Kansas City\, MO\, United States
CATEGORIES:How To Cope
END:VEVENT
BEGIN:VEVENT
DTSTART;TZID=America/Chicago:20290627T180000
DTEND;TZID=America/Chicago:20290718T200000
DTSTAMP:20260421T030044
CREATED:20251208T174011Z
LAST-MODIFIED:20251208T181141Z
UID:10001325-1877277600-1879099200@www.firstcallkc.org
SUMMARY:How To Cope: July 2026
DESCRIPTION:A seven-session course for adult family members and friends impacted by a loved one’s substance use. How to Cope helps participants overcome the related physical\, psychological\, and social effects and build a healthy life for themselves. How to Cope is recognized by the National Association of State Alcohol/Drug Abuse directors as a research informed program proven to strengthen relationship skills and increase resiliency. \nJuly: 7/8\, 7/13\, 7/15\, 7/20\, 7/22\, 7/27\, 7/29
URL:https://www.firstcallkc.org/register/how-to-cope-july/2029-06-27/
LOCATION:First Call\, 9091 State Line Road\, Kansas City\, MO\, United States
CATEGORIES:How To Cope
END:VEVENT
BEGIN:VEVENT
DTSTART;TZID=America/Chicago:20290702T180000
DTEND;TZID=America/Chicago:20290723T200000
DTSTAMP:20260421T030044
CREATED:20251208T174011Z
LAST-MODIFIED:20251208T181141Z
UID:10001326-1877709600-1879531200@www.firstcallkc.org
SUMMARY:How To Cope: July 2026
DESCRIPTION:A seven-session course for adult family members and friends impacted by a loved one’s substance use. How to Cope helps participants overcome the related physical\, psychological\, and social effects and build a healthy life for themselves. How to Cope is recognized by the National Association of State Alcohol/Drug Abuse directors as a research informed program proven to strengthen relationship skills and increase resiliency. \nJuly: 7/8\, 7/13\, 7/15\, 7/20\, 7/22\, 7/27\, 7/29
URL:https://www.firstcallkc.org/register/how-to-cope-july/2029-07-02/
LOCATION:First Call\, 9091 State Line Road\, Kansas City\, MO\, United States
CATEGORIES:How To Cope
END:VEVENT
BEGIN:VEVENT
DTSTART;TZID=America/Chicago:20290704T180000
DTEND;TZID=America/Chicago:20290725T200000
DTSTAMP:20260421T030044
CREATED:20251208T174011Z
LAST-MODIFIED:20251208T181141Z
UID:10001327-1877882400-1879704000@www.firstcallkc.org
SUMMARY:How To Cope: July 2026
DESCRIPTION:A seven-session course for adult family members and friends impacted by a loved one’s substance use. How to Cope helps participants overcome the related physical\, psychological\, and social effects and build a healthy life for themselves. How to Cope is recognized by the National Association of State Alcohol/Drug Abuse directors as a research informed program proven to strengthen relationship skills and increase resiliency. \nJuly: 7/8\, 7/13\, 7/15\, 7/20\, 7/22\, 7/27\, 7/29
URL:https://www.firstcallkc.org/register/how-to-cope-july/2029-07-04/
LOCATION:First Call\, 9091 State Line Road\, Kansas City\, MO\, United States
CATEGORIES:How To Cope
END:VEVENT
BEGIN:VEVENT
DTSTART;TZID=America/Chicago:20290709T180000
DTEND;TZID=America/Chicago:20290730T200000
DTSTAMP:20260421T030044
CREATED:20251208T174011Z
LAST-MODIFIED:20251208T181141Z
UID:10001328-1878314400-1880136000@www.firstcallkc.org
SUMMARY:How To Cope: July 2026
DESCRIPTION:A seven-session course for adult family members and friends impacted by a loved one’s substance use. How to Cope helps participants overcome the related physical\, psychological\, and social effects and build a healthy life for themselves. How to Cope is recognized by the National Association of State Alcohol/Drug Abuse directors as a research informed program proven to strengthen relationship skills and increase resiliency. \nJuly: 7/8\, 7/13\, 7/15\, 7/20\, 7/22\, 7/27\, 7/29
URL:https://www.firstcallkc.org/register/how-to-cope-july/2029-07-09/
LOCATION:First Call\, 9091 State Line Road\, Kansas City\, MO\, United States
CATEGORIES:How To Cope
END:VEVENT
BEGIN:VEVENT
DTSTART;TZID=America/Chicago:20290711T180000
DTEND;TZID=America/Chicago:20290801T200000
DTSTAMP:20260421T030044
CREATED:20251208T174011Z
LAST-MODIFIED:20251208T181141Z
UID:10001329-1878487200-1880308800@www.firstcallkc.org
SUMMARY:How To Cope: July 2026
DESCRIPTION:A seven-session course for adult family members and friends impacted by a loved one’s substance use. How to Cope helps participants overcome the related physical\, psychological\, and social effects and build a healthy life for themselves. How to Cope is recognized by the National Association of State Alcohol/Drug Abuse directors as a research informed program proven to strengthen relationship skills and increase resiliency. \nJuly: 7/8\, 7/13\, 7/15\, 7/20\, 7/22\, 7/27\, 7/29
URL:https://www.firstcallkc.org/register/how-to-cope-july/2029-07-11/
LOCATION:First Call\, 9091 State Line Road\, Kansas City\, MO\, United States
CATEGORIES:How To Cope
END:VEVENT
BEGIN:VEVENT
DTSTART;TZID=America/Chicago:20290716T180000
DTEND;TZID=America/Chicago:20290806T200000
DTSTAMP:20260421T030044
CREATED:20251208T174011Z
LAST-MODIFIED:20251208T181141Z
UID:10001330-1878919200-1880740800@www.firstcallkc.org
SUMMARY:How To Cope: July 2026
DESCRIPTION:A seven-session course for adult family members and friends impacted by a loved one’s substance use. How to Cope helps participants overcome the related physical\, psychological\, and social effects and build a healthy life for themselves. How to Cope is recognized by the National Association of State Alcohol/Drug Abuse directors as a research informed program proven to strengthen relationship skills and increase resiliency. \nJuly: 7/8\, 7/13\, 7/15\, 7/20\, 7/22\, 7/27\, 7/29
URL:https://www.firstcallkc.org/register/how-to-cope-july/2029-07-16/
LOCATION:First Call\, 9091 State Line Road\, Kansas City\, MO\, United States
CATEGORIES:How To Cope
END:VEVENT
BEGIN:VEVENT
DTSTART;TZID=America/Chicago:20290718T180000
DTEND;TZID=America/Chicago:20290808T200000
DTSTAMP:20260421T030044
CREATED:20251208T174011Z
LAST-MODIFIED:20251208T181141Z
UID:10001331-1879092000-1880913600@www.firstcallkc.org
SUMMARY:How To Cope: July 2026
DESCRIPTION:A seven-session course for adult family members and friends impacted by a loved one’s substance use. How to Cope helps participants overcome the related physical\, psychological\, and social effects and build a healthy life for themselves. How to Cope is recognized by the National Association of State Alcohol/Drug Abuse directors as a research informed program proven to strengthen relationship skills and increase resiliency. \nJuly: 7/8\, 7/13\, 7/15\, 7/20\, 7/22\, 7/27\, 7/29
URL:https://www.firstcallkc.org/register/how-to-cope-july/2029-07-18/
LOCATION:First Call\, 9091 State Line Road\, Kansas City\, MO\, United States
CATEGORIES:How To Cope
END:VEVENT
BEGIN:VEVENT
DTSTART;TZID=America/Chicago:20290723T180000
DTEND;TZID=America/Chicago:20290813T200000
DTSTAMP:20260421T030044
CREATED:20251208T174011Z
LAST-MODIFIED:20251208T181141Z
UID:10001332-1879524000-1881345600@www.firstcallkc.org
SUMMARY:How To Cope: July 2026
DESCRIPTION:A seven-session course for adult family members and friends impacted by a loved one’s substance use. How to Cope helps participants overcome the related physical\, psychological\, and social effects and build a healthy life for themselves. How to Cope is recognized by the National Association of State Alcohol/Drug Abuse directors as a research informed program proven to strengthen relationship skills and increase resiliency. \nJuly: 7/8\, 7/13\, 7/15\, 7/20\, 7/22\, 7/27\, 7/29
URL:https://www.firstcallkc.org/register/how-to-cope-july/2029-07-23/
LOCATION:First Call\, 9091 State Line Road\, Kansas City\, MO\, United States
CATEGORIES:How To Cope
END:VEVENT
END:VCALENDAR