BEGIN:VCALENDAR
VERSION:2.0
PRODID:-//First Call KC - ECPv6.15.20//NONSGML v1.0//EN
CALSCALE:GREGORIAN
METHOD:PUBLISH
X-WR-CALNAME:First Call KC
X-ORIGINAL-URL:https://www.firstcallkc.org
X-WR-CALDESC:Events for First Call KC
REFRESH-INTERVAL;VALUE=DURATION:PT1H
X-Robots-Tag:noindex
X-PUBLISHED-TTL:PT1H
BEGIN:VTIMEZONE
TZID:America/Chicago
BEGIN:DAYLIGHT
TZOFFSETFROM:-0600
TZOFFSETTO:-0500
TZNAME:CDT
DTSTART:20280312T080000
END:DAYLIGHT
BEGIN:STANDARD
TZOFFSETFROM:-0500
TZOFFSETTO:-0600
TZNAME:CST
DTSTART:20281105T070000
END:STANDARD
BEGIN:DAYLIGHT
TZOFFSETFROM:-0600
TZOFFSETTO:-0500
TZNAME:CDT
DTSTART:20290311T080000
END:DAYLIGHT
BEGIN:STANDARD
TZOFFSETFROM:-0500
TZOFFSETTO:-0600
TZNAME:CST
DTSTART:20291104T070000
END:STANDARD
BEGIN:DAYLIGHT
TZOFFSETFROM:-0600
TZOFFSETTO:-0500
TZNAME:CDT
DTSTART:20300310T080000
END:DAYLIGHT
BEGIN:STANDARD
TZOFFSETFROM:-0500
TZOFFSETTO:-0600
TZNAME:CST
DTSTART:20301103T070000
END:STANDARD
END:VTIMEZONE
BEGIN:VEVENT
DTSTART;TZID=America/Chicago:20290723T180000
DTEND;TZID=America/Chicago:20290813T200000
DTSTAMP:20260421T101357
CREATED:20251208T174011Z
LAST-MODIFIED:20251208T181141Z
UID:10001332-1879524000-1881345600@www.firstcallkc.org
SUMMARY:How To Cope: July 2026
DESCRIPTION:A seven-session course for adult family members and friends impacted by a loved one’s substance use. How to Cope helps participants overcome the related physical\, psychological\, and social effects and build a healthy life for themselves. How to Cope is recognized by the National Association of State Alcohol/Drug Abuse directors as a research informed program proven to strengthen relationship skills and increase resiliency. \nJuly: 7/8\, 7/13\, 7/15\, 7/20\, 7/22\, 7/27\, 7/29
URL:https://www.firstcallkc.org/register/how-to-cope-july/2029-07-23/
LOCATION:First Call\, 9091 State Line Road\, Kansas City\, MO\, United States
CATEGORIES:How To Cope
END:VEVENT
BEGIN:VEVENT
DTSTART;TZID=America/Chicago:20290725T180000
DTEND;TZID=America/Chicago:20290815T200000
DTSTAMP:20260421T101357
CREATED:20251208T174011Z
LAST-MODIFIED:20251208T181141Z
UID:10001333-1879696800-1881518400@www.firstcallkc.org
SUMMARY:How To Cope: July 2026
DESCRIPTION:A seven-session course for adult family members and friends impacted by a loved one’s substance use. How to Cope helps participants overcome the related physical\, psychological\, and social effects and build a healthy life for themselves. How to Cope is recognized by the National Association of State Alcohol/Drug Abuse directors as a research informed program proven to strengthen relationship skills and increase resiliency. \nJuly: 7/8\, 7/13\, 7/15\, 7/20\, 7/22\, 7/27\, 7/29
URL:https://www.firstcallkc.org/register/how-to-cope-july/2029-07-25/
LOCATION:First Call\, 9091 State Line Road\, Kansas City\, MO\, United States
CATEGORIES:How To Cope
END:VEVENT
BEGIN:VEVENT
DTSTART;TZID=America/Chicago:20290730T180000
DTEND;TZID=America/Chicago:20290820T200000
DTSTAMP:20260421T101357
CREATED:20251208T174011Z
LAST-MODIFIED:20251208T181141Z
UID:10001334-1880128800-1881950400@www.firstcallkc.org
SUMMARY:How To Cope: July 2026
DESCRIPTION:A seven-session course for adult family members and friends impacted by a loved one’s substance use. How to Cope helps participants overcome the related physical\, psychological\, and social effects and build a healthy life for themselves. How to Cope is recognized by the National Association of State Alcohol/Drug Abuse directors as a research informed program proven to strengthen relationship skills and increase resiliency. \nJuly: 7/8\, 7/13\, 7/15\, 7/20\, 7/22\, 7/27\, 7/29
URL:https://www.firstcallkc.org/register/how-to-cope-july/2029-07-30/
LOCATION:First Call\, 9091 State Line Road\, Kansas City\, MO\, United States
CATEGORIES:How To Cope
END:VEVENT
BEGIN:VEVENT
DTSTART;TZID=America/Chicago:20290801T180000
DTEND;TZID=America/Chicago:20290822T200000
DTSTAMP:20260421T101357
CREATED:20251208T174011Z
LAST-MODIFIED:20251208T181141Z
UID:10001335-1880301600-1882123200@www.firstcallkc.org
SUMMARY:How To Cope: July 2026
DESCRIPTION:A seven-session course for adult family members and friends impacted by a loved one’s substance use. How to Cope helps participants overcome the related physical\, psychological\, and social effects and build a healthy life for themselves. How to Cope is recognized by the National Association of State Alcohol/Drug Abuse directors as a research informed program proven to strengthen relationship skills and increase resiliency. \nJuly: 7/8\, 7/13\, 7/15\, 7/20\, 7/22\, 7/27\, 7/29
URL:https://www.firstcallkc.org/register/how-to-cope-july/2029-08-01/
LOCATION:First Call\, 9091 State Line Road\, Kansas City\, MO\, United States
CATEGORIES:How To Cope
END:VEVENT
BEGIN:VEVENT
DTSTART;TZID=America/Chicago:20290806T180000
DTEND;TZID=America/Chicago:20290827T200000
DTSTAMP:20260421T101357
CREATED:20251208T174011Z
LAST-MODIFIED:20251208T181141Z
UID:10001336-1880733600-1882555200@www.firstcallkc.org
SUMMARY:How To Cope: July 2026
DESCRIPTION:A seven-session course for adult family members and friends impacted by a loved one’s substance use. How to Cope helps participants overcome the related physical\, psychological\, and social effects and build a healthy life for themselves. How to Cope is recognized by the National Association of State Alcohol/Drug Abuse directors as a research informed program proven to strengthen relationship skills and increase resiliency. \nJuly: 7/8\, 7/13\, 7/15\, 7/20\, 7/22\, 7/27\, 7/29
URL:https://www.firstcallkc.org/register/how-to-cope-july/2029-08-06/
LOCATION:First Call\, 9091 State Line Road\, Kansas City\, MO\, United States
CATEGORIES:How To Cope
END:VEVENT
BEGIN:VEVENT
DTSTART;TZID=America/Chicago:20290808T180000
DTEND;TZID=America/Chicago:20290829T200000
DTSTAMP:20260421T101357
CREATED:20251208T174011Z
LAST-MODIFIED:20251208T181141Z
UID:10001337-1880906400-1882728000@www.firstcallkc.org
SUMMARY:How To Cope: July 2026
DESCRIPTION:A seven-session course for adult family members and friends impacted by a loved one’s substance use. How to Cope helps participants overcome the related physical\, psychological\, and social effects and build a healthy life for themselves. How to Cope is recognized by the National Association of State Alcohol/Drug Abuse directors as a research informed program proven to strengthen relationship skills and increase resiliency. \nJuly: 7/8\, 7/13\, 7/15\, 7/20\, 7/22\, 7/27\, 7/29
URL:https://www.firstcallkc.org/register/how-to-cope-july/2029-08-08/
LOCATION:First Call\, 9091 State Line Road\, Kansas City\, MO\, United States
CATEGORIES:How To Cope
END:VEVENT
BEGIN:VEVENT
DTSTART;TZID=America/Chicago:20290813T180000
DTEND;TZID=America/Chicago:20290903T200000
DTSTAMP:20260421T101357
CREATED:20251208T174011Z
LAST-MODIFIED:20251208T181141Z
UID:10001338-1881338400-1883160000@www.firstcallkc.org
SUMMARY:How To Cope: July 2026
DESCRIPTION:A seven-session course for adult family members and friends impacted by a loved one’s substance use. How to Cope helps participants overcome the related physical\, psychological\, and social effects and build a healthy life for themselves. How to Cope is recognized by the National Association of State Alcohol/Drug Abuse directors as a research informed program proven to strengthen relationship skills and increase resiliency. \nJuly: 7/8\, 7/13\, 7/15\, 7/20\, 7/22\, 7/27\, 7/29
URL:https://www.firstcallkc.org/register/how-to-cope-july/2029-08-13/
LOCATION:First Call\, 9091 State Line Road\, Kansas City\, MO\, United States
CATEGORIES:How To Cope
END:VEVENT
BEGIN:VEVENT
DTSTART;TZID=America/Chicago:20290815T180000
DTEND;TZID=America/Chicago:20290905T200000
DTSTAMP:20260421T101357
CREATED:20251208T174011Z
LAST-MODIFIED:20251208T181141Z
UID:10001339-1881511200-1883332800@www.firstcallkc.org
SUMMARY:How To Cope: July 2026
DESCRIPTION:A seven-session course for adult family members and friends impacted by a loved one’s substance use. How to Cope helps participants overcome the related physical\, psychological\, and social effects and build a healthy life for themselves. How to Cope is recognized by the National Association of State Alcohol/Drug Abuse directors as a research informed program proven to strengthen relationship skills and increase resiliency. \nJuly: 7/8\, 7/13\, 7/15\, 7/20\, 7/22\, 7/27\, 7/29
URL:https://www.firstcallkc.org/register/how-to-cope-july/2029-08-15/
LOCATION:First Call\, 9091 State Line Road\, Kansas City\, MO\, United States
CATEGORIES:How To Cope
END:VEVENT
BEGIN:VEVENT
DTSTART;TZID=America/Chicago:20290820T180000
DTEND;TZID=America/Chicago:20290910T200000
DTSTAMP:20260421T101357
CREATED:20251208T174011Z
LAST-MODIFIED:20251208T181141Z
UID:10001340-1881943200-1883764800@www.firstcallkc.org
SUMMARY:How To Cope: July 2026
DESCRIPTION:A seven-session course for adult family members and friends impacted by a loved one’s substance use. How to Cope helps participants overcome the related physical\, psychological\, and social effects and build a healthy life for themselves. How to Cope is recognized by the National Association of State Alcohol/Drug Abuse directors as a research informed program proven to strengthen relationship skills and increase resiliency. \nJuly: 7/8\, 7/13\, 7/15\, 7/20\, 7/22\, 7/27\, 7/29
URL:https://www.firstcallkc.org/register/how-to-cope-july/2029-08-20/
LOCATION:First Call\, 9091 State Line Road\, Kansas City\, MO\, United States
CATEGORIES:How To Cope
END:VEVENT
BEGIN:VEVENT
DTSTART;TZID=America/Chicago:20290822T180000
DTEND;TZID=America/Chicago:20290912T200000
DTSTAMP:20260421T101357
CREATED:20251208T174011Z
LAST-MODIFIED:20251208T181141Z
UID:10001341-1882116000-1883937600@www.firstcallkc.org
SUMMARY:How To Cope: July 2026
DESCRIPTION:A seven-session course for adult family members and friends impacted by a loved one’s substance use. How to Cope helps participants overcome the related physical\, psychological\, and social effects and build a healthy life for themselves. How to Cope is recognized by the National Association of State Alcohol/Drug Abuse directors as a research informed program proven to strengthen relationship skills and increase resiliency. \nJuly: 7/8\, 7/13\, 7/15\, 7/20\, 7/22\, 7/27\, 7/29
URL:https://www.firstcallkc.org/register/how-to-cope-july/2029-08-22/
LOCATION:First Call\, 9091 State Line Road\, Kansas City\, MO\, United States
CATEGORIES:How To Cope
END:VEVENT
BEGIN:VEVENT
DTSTART;TZID=America/Chicago:20290827T180000
DTEND;TZID=America/Chicago:20290917T200000
DTSTAMP:20260421T101357
CREATED:20251208T174011Z
LAST-MODIFIED:20251208T181141Z
UID:10001342-1882548000-1884369600@www.firstcallkc.org
SUMMARY:How To Cope: July 2026
DESCRIPTION:A seven-session course for adult family members and friends impacted by a loved one’s substance use. How to Cope helps participants overcome the related physical\, psychological\, and social effects and build a healthy life for themselves. How to Cope is recognized by the National Association of State Alcohol/Drug Abuse directors as a research informed program proven to strengthen relationship skills and increase resiliency. \nJuly: 7/8\, 7/13\, 7/15\, 7/20\, 7/22\, 7/27\, 7/29
URL:https://www.firstcallkc.org/register/how-to-cope-july/2029-08-27/
LOCATION:First Call\, 9091 State Line Road\, Kansas City\, MO\, United States
CATEGORIES:How To Cope
END:VEVENT
BEGIN:VEVENT
DTSTART;TZID=America/Chicago:20290829T180000
DTEND;TZID=America/Chicago:20290919T200000
DTSTAMP:20260421T101357
CREATED:20251208T174011Z
LAST-MODIFIED:20251208T181141Z
UID:10001343-1882720800-1884542400@www.firstcallkc.org
SUMMARY:How To Cope: July 2026
DESCRIPTION:A seven-session course for adult family members and friends impacted by a loved one’s substance use. How to Cope helps participants overcome the related physical\, psychological\, and social effects and build a healthy life for themselves. How to Cope is recognized by the National Association of State Alcohol/Drug Abuse directors as a research informed program proven to strengthen relationship skills and increase resiliency. \nJuly: 7/8\, 7/13\, 7/15\, 7/20\, 7/22\, 7/27\, 7/29
URL:https://www.firstcallkc.org/register/how-to-cope-july/2029-08-29/
LOCATION:First Call\, 9091 State Line Road\, Kansas City\, MO\, United States
CATEGORIES:How To Cope
END:VEVENT
BEGIN:VEVENT
DTSTART;TZID=America/Chicago:20290903T180000
DTEND;TZID=America/Chicago:20290924T200000
DTSTAMP:20260421T101357
CREATED:20251208T174011Z
LAST-MODIFIED:20251208T181141Z
UID:10001344-1883152800-1884974400@www.firstcallkc.org
SUMMARY:How To Cope: July 2026
DESCRIPTION:A seven-session course for adult family members and friends impacted by a loved one’s substance use. How to Cope helps participants overcome the related physical\, psychological\, and social effects and build a healthy life for themselves. How to Cope is recognized by the National Association of State Alcohol/Drug Abuse directors as a research informed program proven to strengthen relationship skills and increase resiliency. \nJuly: 7/8\, 7/13\, 7/15\, 7/20\, 7/22\, 7/27\, 7/29
URL:https://www.firstcallkc.org/register/how-to-cope-july/2029-09-03/
LOCATION:First Call\, 9091 State Line Road\, Kansas City\, MO\, United States
CATEGORIES:How To Cope
END:VEVENT
BEGIN:VEVENT
DTSTART;TZID=America/Chicago:20290905T180000
DTEND;TZID=America/Chicago:20290926T200000
DTSTAMP:20260421T101357
CREATED:20251208T174011Z
LAST-MODIFIED:20251208T181141Z
UID:10001345-1883325600-1885147200@www.firstcallkc.org
SUMMARY:How To Cope: July 2026
DESCRIPTION:A seven-session course for adult family members and friends impacted by a loved one’s substance use. How to Cope helps participants overcome the related physical\, psychological\, and social effects and build a healthy life for themselves. How to Cope is recognized by the National Association of State Alcohol/Drug Abuse directors as a research informed program proven to strengthen relationship skills and increase resiliency. \nJuly: 7/8\, 7/13\, 7/15\, 7/20\, 7/22\, 7/27\, 7/29
URL:https://www.firstcallkc.org/register/how-to-cope-july/2029-09-05/
LOCATION:First Call\, 9091 State Line Road\, Kansas City\, MO\, United States
CATEGORIES:How To Cope
END:VEVENT
BEGIN:VEVENT
DTSTART;TZID=America/Chicago:20290910T180000
DTEND;TZID=America/Chicago:20291001T200000
DTSTAMP:20260421T101357
CREATED:20251208T174011Z
LAST-MODIFIED:20251208T181141Z
UID:10001346-1883757600-1885579200@www.firstcallkc.org
SUMMARY:How To Cope: July 2026
DESCRIPTION:A seven-session course for adult family members and friends impacted by a loved one’s substance use. How to Cope helps participants overcome the related physical\, psychological\, and social effects and build a healthy life for themselves. How to Cope is recognized by the National Association of State Alcohol/Drug Abuse directors as a research informed program proven to strengthen relationship skills and increase resiliency. \nJuly: 7/8\, 7/13\, 7/15\, 7/20\, 7/22\, 7/27\, 7/29
URL:https://www.firstcallkc.org/register/how-to-cope-july/2029-09-10/
LOCATION:First Call\, 9091 State Line Road\, Kansas City\, MO\, United States
CATEGORIES:How To Cope
END:VEVENT
BEGIN:VEVENT
DTSTART;TZID=America/Chicago:20290912T180000
DTEND;TZID=America/Chicago:20291003T200000
DTSTAMP:20260421T101357
CREATED:20251208T174011Z
LAST-MODIFIED:20251208T181141Z
UID:10001347-1883930400-1885752000@www.firstcallkc.org
SUMMARY:How To Cope: July 2026
DESCRIPTION:A seven-session course for adult family members and friends impacted by a loved one’s substance use. How to Cope helps participants overcome the related physical\, psychological\, and social effects and build a healthy life for themselves. How to Cope is recognized by the National Association of State Alcohol/Drug Abuse directors as a research informed program proven to strengthen relationship skills and increase resiliency. \nJuly: 7/8\, 7/13\, 7/15\, 7/20\, 7/22\, 7/27\, 7/29
URL:https://www.firstcallkc.org/register/how-to-cope-july/2029-09-12/
LOCATION:First Call\, 9091 State Line Road\, Kansas City\, MO\, United States
CATEGORIES:How To Cope
END:VEVENT
BEGIN:VEVENT
DTSTART;TZID=America/Chicago:20290917T180000
DTEND;TZID=America/Chicago:20291008T200000
DTSTAMP:20260421T101357
CREATED:20251208T174011Z
LAST-MODIFIED:20251208T181141Z
UID:10001348-1884362400-1886184000@www.firstcallkc.org
SUMMARY:How To Cope: July 2026
DESCRIPTION:A seven-session course for adult family members and friends impacted by a loved one’s substance use. How to Cope helps participants overcome the related physical\, psychological\, and social effects and build a healthy life for themselves. How to Cope is recognized by the National Association of State Alcohol/Drug Abuse directors as a research informed program proven to strengthen relationship skills and increase resiliency. \nJuly: 7/8\, 7/13\, 7/15\, 7/20\, 7/22\, 7/27\, 7/29
URL:https://www.firstcallkc.org/register/how-to-cope-july/2029-09-17/
LOCATION:First Call\, 9091 State Line Road\, Kansas City\, MO\, United States
CATEGORIES:How To Cope
END:VEVENT
BEGIN:VEVENT
DTSTART;TZID=America/Chicago:20290919T180000
DTEND;TZID=America/Chicago:20291010T200000
DTSTAMP:20260421T101357
CREATED:20251208T174011Z
LAST-MODIFIED:20251208T181141Z
UID:10001349-1884535200-1886356800@www.firstcallkc.org
SUMMARY:How To Cope: July 2026
DESCRIPTION:A seven-session course for adult family members and friends impacted by a loved one’s substance use. How to Cope helps participants overcome the related physical\, psychological\, and social effects and build a healthy life for themselves. How to Cope is recognized by the National Association of State Alcohol/Drug Abuse directors as a research informed program proven to strengthen relationship skills and increase resiliency. \nJuly: 7/8\, 7/13\, 7/15\, 7/20\, 7/22\, 7/27\, 7/29
URL:https://www.firstcallkc.org/register/how-to-cope-july/2029-09-19/
LOCATION:First Call\, 9091 State Line Road\, Kansas City\, MO\, United States
CATEGORIES:How To Cope
END:VEVENT
BEGIN:VEVENT
DTSTART;TZID=America/Chicago:20290924T180000
DTEND;TZID=America/Chicago:20291015T200000
DTSTAMP:20260421T101357
CREATED:20251208T174011Z
LAST-MODIFIED:20251208T181141Z
UID:10001350-1884967200-1886788800@www.firstcallkc.org
SUMMARY:How To Cope: July 2026
DESCRIPTION:A seven-session course for adult family members and friends impacted by a loved one’s substance use. How to Cope helps participants overcome the related physical\, psychological\, and social effects and build a healthy life for themselves. How to Cope is recognized by the National Association of State Alcohol/Drug Abuse directors as a research informed program proven to strengthen relationship skills and increase resiliency. \nJuly: 7/8\, 7/13\, 7/15\, 7/20\, 7/22\, 7/27\, 7/29
URL:https://www.firstcallkc.org/register/how-to-cope-july/2029-09-24/
LOCATION:First Call\, 9091 State Line Road\, Kansas City\, MO\, United States
CATEGORIES:How To Cope
END:VEVENT
BEGIN:VEVENT
DTSTART;TZID=America/Chicago:20290926T180000
DTEND;TZID=America/Chicago:20291017T200000
DTSTAMP:20260421T101357
CREATED:20251208T174011Z
LAST-MODIFIED:20251208T181141Z
UID:10001351-1885140000-1886961600@www.firstcallkc.org
SUMMARY:How To Cope: July 2026
DESCRIPTION:A seven-session course for adult family members and friends impacted by a loved one’s substance use. How to Cope helps participants overcome the related physical\, psychological\, and social effects and build a healthy life for themselves. How to Cope is recognized by the National Association of State Alcohol/Drug Abuse directors as a research informed program proven to strengthen relationship skills and increase resiliency. \nJuly: 7/8\, 7/13\, 7/15\, 7/20\, 7/22\, 7/27\, 7/29
URL:https://www.firstcallkc.org/register/how-to-cope-july/2029-09-26/
LOCATION:First Call\, 9091 State Line Road\, Kansas City\, MO\, United States
CATEGORIES:How To Cope
END:VEVENT
BEGIN:VEVENT
DTSTART;TZID=America/Chicago:20291001T180000
DTEND;TZID=America/Chicago:20291022T200000
DTSTAMP:20260421T101357
CREATED:20251208T174011Z
LAST-MODIFIED:20251208T181141Z
UID:10001352-1885572000-1887393600@www.firstcallkc.org
SUMMARY:How To Cope: July 2026
DESCRIPTION:A seven-session course for adult family members and friends impacted by a loved one’s substance use. How to Cope helps participants overcome the related physical\, psychological\, and social effects and build a healthy life for themselves. How to Cope is recognized by the National Association of State Alcohol/Drug Abuse directors as a research informed program proven to strengthen relationship skills and increase resiliency. \nJuly: 7/8\, 7/13\, 7/15\, 7/20\, 7/22\, 7/27\, 7/29
URL:https://www.firstcallkc.org/register/how-to-cope-july/2029-10-01/
LOCATION:First Call\, 9091 State Line Road\, Kansas City\, MO\, United States
CATEGORIES:How To Cope
END:VEVENT
BEGIN:VEVENT
DTSTART;TZID=America/Chicago:20291003T180000
DTEND;TZID=America/Chicago:20291024T200000
DTSTAMP:20260421T101357
CREATED:20251208T174011Z
LAST-MODIFIED:20251208T181141Z
UID:10001353-1885744800-1887566400@www.firstcallkc.org
SUMMARY:How To Cope: July 2026
DESCRIPTION:A seven-session course for adult family members and friends impacted by a loved one’s substance use. How to Cope helps participants overcome the related physical\, psychological\, and social effects and build a healthy life for themselves. How to Cope is recognized by the National Association of State Alcohol/Drug Abuse directors as a research informed program proven to strengthen relationship skills and increase resiliency. \nJuly: 7/8\, 7/13\, 7/15\, 7/20\, 7/22\, 7/27\, 7/29
URL:https://www.firstcallkc.org/register/how-to-cope-july/2029-10-03/
LOCATION:First Call\, 9091 State Line Road\, Kansas City\, MO\, United States
CATEGORIES:How To Cope
END:VEVENT
BEGIN:VEVENT
DTSTART;TZID=America/Chicago:20291008T180000
DTEND;TZID=America/Chicago:20291029T200000
DTSTAMP:20260421T101357
CREATED:20251208T174011Z
LAST-MODIFIED:20251208T181141Z
UID:10001354-1886176800-1887998400@www.firstcallkc.org
SUMMARY:How To Cope: July 2026
DESCRIPTION:A seven-session course for adult family members and friends impacted by a loved one’s substance use. How to Cope helps participants overcome the related physical\, psychological\, and social effects and build a healthy life for themselves. How to Cope is recognized by the National Association of State Alcohol/Drug Abuse directors as a research informed program proven to strengthen relationship skills and increase resiliency. \nJuly: 7/8\, 7/13\, 7/15\, 7/20\, 7/22\, 7/27\, 7/29
URL:https://www.firstcallkc.org/register/how-to-cope-july/2029-10-08/
LOCATION:First Call\, 9091 State Line Road\, Kansas City\, MO\, United States
CATEGORIES:How To Cope
END:VEVENT
BEGIN:VEVENT
DTSTART;TZID=America/Chicago:20291010T180000
DTEND;TZID=America/Chicago:20291031T200000
DTSTAMP:20260421T101357
CREATED:20251208T174011Z
LAST-MODIFIED:20251208T181141Z
UID:10001355-1886349600-1888171200@www.firstcallkc.org
SUMMARY:How To Cope: July 2026
DESCRIPTION:A seven-session course for adult family members and friends impacted by a loved one’s substance use. How to Cope helps participants overcome the related physical\, psychological\, and social effects and build a healthy life for themselves. How to Cope is recognized by the National Association of State Alcohol/Drug Abuse directors as a research informed program proven to strengthen relationship skills and increase resiliency. \nJuly: 7/8\, 7/13\, 7/15\, 7/20\, 7/22\, 7/27\, 7/29
URL:https://www.firstcallkc.org/register/how-to-cope-july/2029-10-10/
LOCATION:First Call\, 9091 State Line Road\, Kansas City\, MO\, United States
CATEGORIES:How To Cope
END:VEVENT
BEGIN:VEVENT
DTSTART;TZID=America/Chicago:20291015T180000
DTEND;TZID=America/Chicago:20291105T190000
DTSTAMP:20260421T101357
CREATED:20251208T174011Z
LAST-MODIFIED:20251208T181141Z
UID:10001356-1886781600-1888599600@www.firstcallkc.org
SUMMARY:How To Cope: July 2026
DESCRIPTION:A seven-session course for adult family members and friends impacted by a loved one’s substance use. How to Cope helps participants overcome the related physical\, psychological\, and social effects and build a healthy life for themselves. How to Cope is recognized by the National Association of State Alcohol/Drug Abuse directors as a research informed program proven to strengthen relationship skills and increase resiliency. \nJuly: 7/8\, 7/13\, 7/15\, 7/20\, 7/22\, 7/27\, 7/29
URL:https://www.firstcallkc.org/register/how-to-cope-july/2029-10-15/
LOCATION:First Call\, 9091 State Line Road\, Kansas City\, MO\, United States
CATEGORIES:How To Cope
END:VEVENT
BEGIN:VEVENT
DTSTART;TZID=America/Chicago:20291017T180000
DTEND;TZID=America/Chicago:20291107T190000
DTSTAMP:20260421T101357
CREATED:20251208T174011Z
LAST-MODIFIED:20251208T181141Z
UID:10001357-1886954400-1888772400@www.firstcallkc.org
SUMMARY:How To Cope: July 2026
DESCRIPTION:A seven-session course for adult family members and friends impacted by a loved one’s substance use. How to Cope helps participants overcome the related physical\, psychological\, and social effects and build a healthy life for themselves. How to Cope is recognized by the National Association of State Alcohol/Drug Abuse directors as a research informed program proven to strengthen relationship skills and increase resiliency. \nJuly: 7/8\, 7/13\, 7/15\, 7/20\, 7/22\, 7/27\, 7/29
URL:https://www.firstcallkc.org/register/how-to-cope-july/2029-10-17/
LOCATION:First Call\, 9091 State Line Road\, Kansas City\, MO\, United States
CATEGORIES:How To Cope
END:VEVENT
BEGIN:VEVENT
DTSTART;TZID=America/Chicago:20291022T180000
DTEND;TZID=America/Chicago:20291112T190000
DTSTAMP:20260421T101357
CREATED:20251208T174011Z
LAST-MODIFIED:20251208T181141Z
UID:10001358-1887386400-1889204400@www.firstcallkc.org
SUMMARY:How To Cope: July 2026
DESCRIPTION:A seven-session course for adult family members and friends impacted by a loved one’s substance use. How to Cope helps participants overcome the related physical\, psychological\, and social effects and build a healthy life for themselves. How to Cope is recognized by the National Association of State Alcohol/Drug Abuse directors as a research informed program proven to strengthen relationship skills and increase resiliency. \nJuly: 7/8\, 7/13\, 7/15\, 7/20\, 7/22\, 7/27\, 7/29
URL:https://www.firstcallkc.org/register/how-to-cope-july/2029-10-22/
LOCATION:First Call\, 9091 State Line Road\, Kansas City\, MO\, United States
CATEGORIES:How To Cope
END:VEVENT
BEGIN:VEVENT
DTSTART;TZID=America/Chicago:20291024T180000
DTEND;TZID=America/Chicago:20291114T190000
DTSTAMP:20260421T101357
CREATED:20251208T174011Z
LAST-MODIFIED:20251208T181141Z
UID:10001359-1887559200-1889377200@www.firstcallkc.org
SUMMARY:How To Cope: July 2026
DESCRIPTION:A seven-session course for adult family members and friends impacted by a loved one’s substance use. How to Cope helps participants overcome the related physical\, psychological\, and social effects and build a healthy life for themselves. How to Cope is recognized by the National Association of State Alcohol/Drug Abuse directors as a research informed program proven to strengthen relationship skills and increase resiliency. \nJuly: 7/8\, 7/13\, 7/15\, 7/20\, 7/22\, 7/27\, 7/29
URL:https://www.firstcallkc.org/register/how-to-cope-july/2029-10-24/
LOCATION:First Call\, 9091 State Line Road\, Kansas City\, MO\, United States
CATEGORIES:How To Cope
END:VEVENT
BEGIN:VEVENT
DTSTART;TZID=America/Chicago:20291029T180000
DTEND;TZID=America/Chicago:20291119T190000
DTSTAMP:20260421T101357
CREATED:20251208T174011Z
LAST-MODIFIED:20251208T181141Z
UID:10001360-1887991200-1889809200@www.firstcallkc.org
SUMMARY:How To Cope: July 2026
DESCRIPTION:A seven-session course for adult family members and friends impacted by a loved one’s substance use. How to Cope helps participants overcome the related physical\, psychological\, and social effects and build a healthy life for themselves. How to Cope is recognized by the National Association of State Alcohol/Drug Abuse directors as a research informed program proven to strengthen relationship skills and increase resiliency. \nJuly: 7/8\, 7/13\, 7/15\, 7/20\, 7/22\, 7/27\, 7/29
URL:https://www.firstcallkc.org/register/how-to-cope-july/2029-10-29/
LOCATION:First Call\, 9091 State Line Road\, Kansas City\, MO\, United States
CATEGORIES:How To Cope
END:VEVENT
BEGIN:VEVENT
DTSTART;TZID=America/Chicago:20291031T180000
DTEND;TZID=America/Chicago:20291121T190000
DTSTAMP:20260421T101357
CREATED:20251208T174011Z
LAST-MODIFIED:20251208T181141Z
UID:10001361-1888164000-1889982000@www.firstcallkc.org
SUMMARY:How To Cope: July 2026
DESCRIPTION:A seven-session course for adult family members and friends impacted by a loved one’s substance use. How to Cope helps participants overcome the related physical\, psychological\, and social effects and build a healthy life for themselves. How to Cope is recognized by the National Association of State Alcohol/Drug Abuse directors as a research informed program proven to strengthen relationship skills and increase resiliency. \nJuly: 7/8\, 7/13\, 7/15\, 7/20\, 7/22\, 7/27\, 7/29
URL:https://www.firstcallkc.org/register/how-to-cope-july/2029-10-31/
LOCATION:First Call\, 9091 State Line Road\, Kansas City\, MO\, United States
CATEGORIES:How To Cope
END:VEVENT
END:VCALENDAR