BEGIN:VCALENDAR
VERSION:2.0
PRODID:-//First Call KC - ECPv6.15.20//NONSGML v1.0//EN
CALSCALE:GREGORIAN
METHOD:PUBLISH
X-ORIGINAL-URL:https://www.firstcallkc.org
X-WR-CALDESC:Events for First Call KC
REFRESH-INTERVAL;VALUE=DURATION:PT1H
X-Robots-Tag:noindex
X-PUBLISHED-TTL:PT1H
BEGIN:VTIMEZONE
TZID:America/Chicago
BEGIN:DAYLIGHT
TZOFFSETFROM:-0600
TZOFFSETTO:-0500
TZNAME:CDT
DTSTART:20250309T080000
END:DAYLIGHT
BEGIN:STANDARD
TZOFFSETFROM:-0500
TZOFFSETTO:-0600
TZNAME:CST
DTSTART:20251102T070000
END:STANDARD
BEGIN:DAYLIGHT
TZOFFSETFROM:-0600
TZOFFSETTO:-0500
TZNAME:CDT
DTSTART:20260308T080000
END:DAYLIGHT
BEGIN:STANDARD
TZOFFSETFROM:-0500
TZOFFSETTO:-0600
TZNAME:CST
DTSTART:20261101T070000
END:STANDARD
BEGIN:DAYLIGHT
TZOFFSETFROM:-0600
TZOFFSETTO:-0500
TZNAME:CDT
DTSTART:20270314T080000
END:DAYLIGHT
BEGIN:STANDARD
TZOFFSETFROM:-0500
TZOFFSETTO:-0600
TZNAME:CST
DTSTART:20271107T070000
END:STANDARD
END:VTIMEZONE
BEGIN:VEVENT
DTSTART;TZID=America/Chicago:20260522T090000
DTEND;TZID=America/Chicago:20260522T120000
DTSTAMP:20260425T150119
CREATED:20251120T195450Z
LAST-MODIFIED:20251202T180642Z
UID:10000939-1779440400-1779451200@www.firstcallkc.org
SUMMARY:How to Care for Children and Adults : A Holistic Approach to Family Recovery
DESCRIPTION:Learn how to support and empower adult loved ones of people using drugs/alcohol. We will discuss foundations and techniques for balanced family recovery in this training. \n \nMegan Keller\, MS\nMegan Keller holds a BS in Family Studies from Miami University and an MS in Family Studies from Purdue University. She has worked in the substance use disorder field for 23 years\, with a focus on the impact of substance use disorders on families. Megan has presented at numerous conferences and venues on this topic and facilitates groups throughout the Kansas City metro area for children\, teens\, and adults. Her work helps families cope with a loved one’s substance use disorder and provides guidance on supporting children affected by this disease. \n \nShelby Krech\, MAADC II\, YPS\nShelby Krech serves as the Family Services Counselor at First Call\, where she combines her lived experience with substance use disorder and her passion for social services to support individuals and families in recovery. She believes the greatest tool for healing is showing up authentically and empathetically—whether someone is seeking help for the first time or continuing their recovery journey. \nShelby is credentialed as a Missouri Associate Alcohol and Drug Counselor II (MAADC II) and a Youth Peer Specialist (YPS). Outside of work\, she remains active in a 12-step program and enjoys spending time with her beloved shih-tzu\, Indie.
URL:https://www.firstcallkc.org/register/how-to-care-for-children-and-adults-a-holistic-approach-to-family-recovery/
LOCATION:First Call\, 9091 State Line Road\, Kansas City\, MO\, United States
CATEGORIES:PDI,Professional Development Institute
END:VEVENT
END:VCALENDAR