BEGIN:VCALENDAR
VERSION:2.0
PRODID:-//First Call KC - ECPv6.15.20//NONSGML v1.0//EN
CALSCALE:GREGORIAN
METHOD:PUBLISH
X-ORIGINAL-URL:https://www.firstcallkc.org
X-WR-CALDESC:Events for First Call KC
REFRESH-INTERVAL;VALUE=DURATION:PT1H
X-Robots-Tag:noindex
X-PUBLISHED-TTL:PT1H
BEGIN:VTIMEZONE
TZID:America/Chicago
BEGIN:DAYLIGHT
TZOFFSETFROM:-0600
TZOFFSETTO:-0500
TZNAME:CDT
DTSTART:20250309T080000
END:DAYLIGHT
BEGIN:STANDARD
TZOFFSETFROM:-0500
TZOFFSETTO:-0600
TZNAME:CST
DTSTART:20251102T070000
END:STANDARD
BEGIN:DAYLIGHT
TZOFFSETFROM:-0600
TZOFFSETTO:-0500
TZNAME:CDT
DTSTART:20260308T080000
END:DAYLIGHT
BEGIN:STANDARD
TZOFFSETFROM:-0500
TZOFFSETTO:-0600
TZNAME:CST
DTSTART:20261101T070000
END:STANDARD
BEGIN:DAYLIGHT
TZOFFSETFROM:-0600
TZOFFSETTO:-0500
TZNAME:CDT
DTSTART:20270314T080000
END:DAYLIGHT
BEGIN:STANDARD
TZOFFSETFROM:-0500
TZOFFSETTO:-0600
TZNAME:CST
DTSTART:20271107T070000
END:STANDARD
END:VTIMEZONE
BEGIN:VEVENT
DTSTART;TZID=America/Chicago:20260731T090000
DTEND;TZID=America/Chicago:20260731T120000
DTSTAMP:20260425T190659
CREATED:20251120T205704Z
LAST-MODIFIED:20251201T211150Z
UID:10000953-1785488400-1785499200@www.firstcallkc.org
SUMMARY:Sleep Disorders and Mental Health
DESCRIPTION:a. sleep stages and healthy sleep\nb. sleep disorders and their impact\nc. sleep and substance use. \n  \n \nEmma Geisert (formerly Emma Angle) is a Clinical Psychology doctoral student at the University of Missouri-Kansas City. She is currently researching the intersections between sleep\, trauma\, and substance use. She is the 2025-2026 Co-President of Roos for Recovery.
URL:https://www.firstcallkc.org/register/sleep-disorders-and-mental-health-2/
LOCATION:MO
CATEGORIES:PDI
END:VEVENT
END:VCALENDAR