BEGIN:VCALENDAR
VERSION:2.0
PRODID:-//First Call KC - ECPv6.15.20//NONSGML v1.0//EN
CALSCALE:GREGORIAN
METHOD:PUBLISH
X-WR-CALNAME:First Call KC
X-ORIGINAL-URL:https://www.firstcallkc.org
X-WR-CALDESC:Events for First Call KC
REFRESH-INTERVAL;VALUE=DURATION:PT1H
X-Robots-Tag:noindex
X-PUBLISHED-TTL:PT1H
BEGIN:VTIMEZONE
TZID:America/Chicago
BEGIN:DAYLIGHT
TZOFFSETFROM:-0600
TZOFFSETTO:-0500
TZNAME:CDT
DTSTART:20250309T080000
END:DAYLIGHT
BEGIN:STANDARD
TZOFFSETFROM:-0500
TZOFFSETTO:-0600
TZNAME:CST
DTSTART:20251102T070000
END:STANDARD
BEGIN:DAYLIGHT
TZOFFSETFROM:-0600
TZOFFSETTO:-0500
TZNAME:CDT
DTSTART:20260308T080000
END:DAYLIGHT
BEGIN:STANDARD
TZOFFSETFROM:-0500
TZOFFSETTO:-0600
TZNAME:CST
DTSTART:20261101T070000
END:STANDARD
BEGIN:DAYLIGHT
TZOFFSETFROM:-0600
TZOFFSETTO:-0500
TZNAME:CDT
DTSTART:20270314T080000
END:DAYLIGHT
BEGIN:STANDARD
TZOFFSETFROM:-0500
TZOFFSETTO:-0600
TZNAME:CST
DTSTART:20271107T070000
END:STANDARD
END:VTIMEZONE
BEGIN:VEVENT
DTSTART;TZID=America/Chicago:20260904T090000
DTEND;TZID=America/Chicago:20260904T120000
DTSTAMP:20260425T202518
CREATED:20251120T205705Z
LAST-MODIFIED:20260122T165629Z
UID:10000956-1788512400-1788523200@www.firstcallkc.org
SUMMARY:Overdose Prevention 101
DESCRIPTION:In this class\, you will learn how to spot an overdose\, prevention and response\, along with how to engage people who use drugs. \n\nLea Fleming has dedicated her life to serving others and strengthening communities through compassion\, advocacy\, and connection. Her work spans diverse populations—from families and friends to incarcerated individuals and community members—focused on reducing harm and connecting people to essential resources and supports. \nLea earned her Bachelor of Social Work (BSW) from the University of Central Missouri\, where she also served as President of the Association of Social Work Students (ASWS). She is a credentialed Community Health Worker (CHW) in both Missouri and Kansas and was recognized as the 2024 Community Health Worker of the Year for HHS Region 7\, which includes Iowa\, Kansas\, Missouri\, and Nebraska. Additionally\, she is a Certified Peer Support Specialist in Missouri. \nGuided by her commitment to equity and justice\, Lea is deeply passionate about advocating for individuals who experience social inequities. Her ongoing mission is to challenge harmful policies and help develop equitable systems that promote the greatest good for all. \n  \n \nMarialba Quesada es una antropóloga centroamericana enfocada en el desarrollo comunitario y los derechos humanos. Tiene 8 años de experiencia en la reforma de políticas internacionales sobre drogas\, con un enfoque en la juventud\, y 10 años de conocimiento en la reducción de daños\, principalmente centrada en las poblaciones latinas.
URL:https://www.firstcallkc.org/register/overdose-prevention-101/
LOCATION:First Call\, 9091 State Line Road\, Kansas City\, MO\, United States
CATEGORIES:PDI
END:VEVENT
END:VCALENDAR