BEGIN:VCALENDAR
VERSION:2.0
PRODID:-//First Call KC - ECPv6.15.20//NONSGML v1.0//EN
CALSCALE:GREGORIAN
METHOD:PUBLISH
X-ORIGINAL-URL:https://www.firstcallkc.org
X-WR-CALDESC:Events for First Call KC
REFRESH-INTERVAL;VALUE=DURATION:PT1H
X-Robots-Tag:noindex
X-PUBLISHED-TTL:PT1H
BEGIN:VTIMEZONE
TZID:America/Chicago
BEGIN:DAYLIGHT
TZOFFSETFROM:-0600
TZOFFSETTO:-0500
TZNAME:CDT
DTSTART:20240310T080000
END:DAYLIGHT
BEGIN:STANDARD
TZOFFSETFROM:-0500
TZOFFSETTO:-0600
TZNAME:CST
DTSTART:20241103T070000
END:STANDARD
BEGIN:DAYLIGHT
TZOFFSETFROM:-0600
TZOFFSETTO:-0500
TZNAME:CDT
DTSTART:20250309T080000
END:DAYLIGHT
BEGIN:STANDARD
TZOFFSETFROM:-0500
TZOFFSETTO:-0600
TZNAME:CST
DTSTART:20251102T070000
END:STANDARD
BEGIN:DAYLIGHT
TZOFFSETFROM:-0600
TZOFFSETTO:-0500
TZNAME:CDT
DTSTART:20260308T080000
END:DAYLIGHT
BEGIN:STANDARD
TZOFFSETFROM:-0500
TZOFFSETTO:-0600
TZNAME:CST
DTSTART:20261101T070000
END:STANDARD
END:VTIMEZONE
BEGIN:VEVENT
DTSTART;TZID=America/Chicago:20250808T130000
DTEND;TZID=America/Chicago:20250808T160000
DTSTAMP:20260425T105845
CREATED:20250323T210231Z
LAST-MODIFIED:20250326T194307Z
UID:10000280-1754658000-1754668800@www.firstcallkc.org
SUMMARY:2025 Summer Care Camp: August Session
DESCRIPTION:Our Care Camp Program will help kids to gain a healthy\, productive lifestyle by unpacking the impact of substance use in the family with education\, resilience and safety. \n\nDates: Aug 4\, 2025 – Aug 8\, 2025\nTotal of 3 sessions \n\nMonday\, Aug 4 | 1-4 pm\nWednesday\, Aug 6 | 1-4 pm\nFriday\, Aug 8 | 1-4 pm
URL:https://www.firstcallkc.org/register/2025-summer-care-camp-august-session/2025-08-08/
LOCATION:First Call\, 9091 State Line Road\, Kansas City\, MO\, United States
CATEGORIES:Summer Camps,Youth Events
ATTACH;FMTTYPE=image/webp:https://www.firstcallkc.org/wp-content/uploads/summer-care-camp.webp
END:VEVENT
BEGIN:VEVENT
DTSTART;TZID=America/Chicago:20250806T130000
DTEND;TZID=America/Chicago:20250806T160000
DTSTAMP:20260425T105845
CREATED:20250323T210231Z
LAST-MODIFIED:20250326T194307Z
UID:10000279-1754485200-1754496000@www.firstcallkc.org
SUMMARY:2025 Summer Care Camp: August Session
DESCRIPTION:Our Care Camp Program will help kids to gain a healthy\, productive lifestyle by unpacking the impact of substance use in the family with education\, resilience and safety. \n\nDates: Aug 4\, 2025 – Aug 8\, 2025\nTotal of 3 sessions \n\nMonday\, Aug 4 | 1-4 pm\nWednesday\, Aug 6 | 1-4 pm\nFriday\, Aug 8 | 1-4 pm
URL:https://www.firstcallkc.org/register/2025-summer-care-camp-august-session/2025-08-06/
LOCATION:First Call\, 9091 State Line Road\, Kansas City\, MO\, United States
CATEGORIES:Summer Camps,Youth Events
ATTACH;FMTTYPE=image/webp:https://www.firstcallkc.org/wp-content/uploads/summer-care-camp.webp
END:VEVENT
BEGIN:VEVENT
DTSTART;TZID=America/Chicago:20250804T130000
DTEND;TZID=America/Chicago:20250804T160000
DTSTAMP:20260425T105845
CREATED:20250323T210231Z
LAST-MODIFIED:20250326T194307Z
UID:10000278-1754312400-1754323200@www.firstcallkc.org
SUMMARY:2025 Summer Care Camp: August Session
DESCRIPTION:Our Care Camp Program will help kids to gain a healthy\, productive lifestyle by unpacking the impact of substance use in the family with education\, resilience and safety. \n\nDates: Aug 4\, 2025 – Aug 8\, 2025\nTotal of 3 sessions \n\nMonday\, Aug 4 | 1-4 pm\nWednesday\, Aug 6 | 1-4 pm\nFriday\, Aug 8 | 1-4 pm
URL:https://www.firstcallkc.org/register/2025-summer-care-camp-august-session/2025-08-04/
LOCATION:First Call\, 9091 State Line Road\, Kansas City\, MO\, United States
CATEGORIES:Summer Camps,Youth Events
ATTACH;FMTTYPE=image/webp:https://www.firstcallkc.org/wp-content/uploads/summer-care-camp.webp
END:VEVENT
BEGIN:VEVENT
DTSTART;TZID=America/Chicago:20250627T090000
DTEND;TZID=America/Chicago:20250627T120000
DTSTAMP:20260425T105845
CREATED:20250323T210025Z
LAST-MODIFIED:20250326T195427Z
UID:10000274-1751014800-1751025600@www.firstcallkc.org
SUMMARY:2025 Summer Care Camp: June Session
DESCRIPTION:Our Care Camp Program will help kids to gain a healthy\, productive lifestyle by unpacking the impact of substance use in the family with education\, resilience and safety. \nDates: Jun 23\, 2025 – Jun 27\, 2025\nTotal of 3 sessions \n\nMonday\, Jun 23 | 9 am – noon\nWednesday\, Jun 25 | 9 am – noon\nFriday\, Jun 27 | 9 am – noon
URL:https://www.firstcallkc.org/register/2025-summer-care-camp-june-session/2025-06-27/
LOCATION:First Call\, 9091 State Line Road\, Kansas City\, MO\, United States
CATEGORIES:Summer Camps,Youth Events
ATTACH;FMTTYPE=image/webp:https://www.firstcallkc.org/wp-content/uploads/summer-care-camp.webp
END:VEVENT
BEGIN:VEVENT
DTSTART;TZID=America/Chicago:20250625T090000
DTEND;TZID=America/Chicago:20250625T120000
DTSTAMP:20260425T105845
CREATED:20250323T210025Z
LAST-MODIFIED:20250326T195427Z
UID:10000273-1750842000-1750852800@www.firstcallkc.org
SUMMARY:2025 Summer Care Camp: June Session
DESCRIPTION:Our Care Camp Program will help kids to gain a healthy\, productive lifestyle by unpacking the impact of substance use in the family with education\, resilience and safety. \nDates: Jun 23\, 2025 – Jun 27\, 2025\nTotal of 3 sessions \n\nMonday\, Jun 23 | 9 am – noon\nWednesday\, Jun 25 | 9 am – noon\nFriday\, Jun 27 | 9 am – noon
URL:https://www.firstcallkc.org/register/2025-summer-care-camp-june-session/2025-06-25/
LOCATION:First Call\, 9091 State Line Road\, Kansas City\, MO\, United States
CATEGORIES:Summer Camps,Youth Events
ATTACH;FMTTYPE=image/webp:https://www.firstcallkc.org/wp-content/uploads/summer-care-camp.webp
END:VEVENT
BEGIN:VEVENT
DTSTART;TZID=America/Chicago:20250623T090000
DTEND;TZID=America/Chicago:20250623T120000
DTSTAMP:20260425T105845
CREATED:20250323T210025Z
LAST-MODIFIED:20250326T195427Z
UID:10000272-1750669200-1750680000@www.firstcallkc.org
SUMMARY:2025 Summer Care Camp: June Session
DESCRIPTION:Our Care Camp Program will help kids to gain a healthy\, productive lifestyle by unpacking the impact of substance use in the family with education\, resilience and safety. \nDates: Jun 23\, 2025 – Jun 27\, 2025\nTotal of 3 sessions \n\nMonday\, Jun 23 | 9 am – noon\nWednesday\, Jun 25 | 9 am – noon\nFriday\, Jun 27 | 9 am – noon
URL:https://www.firstcallkc.org/register/2025-summer-care-camp-june-session/2025-06-23/
LOCATION:First Call\, 9091 State Line Road\, Kansas City\, MO\, United States
CATEGORIES:Summer Camps,Youth Events
ATTACH;FMTTYPE=image/webp:https://www.firstcallkc.org/wp-content/uploads/summer-care-camp.webp
END:VEVENT
END:VCALENDAR