BEGIN:VCALENDAR
VERSION:2.0
PRODID:-//First Call KC - ECPv6.15.20//NONSGML v1.0//EN
CALSCALE:GREGORIAN
METHOD:PUBLISH
X-ORIGINAL-URL:https://www.firstcallkc.org
X-WR-CALDESC:Events for First Call KC
REFRESH-INTERVAL;VALUE=DURATION:PT1H
X-Robots-Tag:noindex
X-PUBLISHED-TTL:PT1H
BEGIN:VTIMEZONE
TZID:America/Chicago
BEGIN:DAYLIGHT
TZOFFSETFROM:-0600
TZOFFSETTO:-0500
TZNAME:CDT
DTSTART:20280312T080000
END:DAYLIGHT
BEGIN:STANDARD
TZOFFSETFROM:-0500
TZOFFSETTO:-0600
TZNAME:CST
DTSTART:20281105T070000
END:STANDARD
BEGIN:DAYLIGHT
TZOFFSETFROM:-0600
TZOFFSETTO:-0500
TZNAME:CDT
DTSTART:20290311T080000
END:DAYLIGHT
BEGIN:STANDARD
TZOFFSETFROM:-0500
TZOFFSETTO:-0600
TZNAME:CST
DTSTART:20291104T070000
END:STANDARD
BEGIN:DAYLIGHT
TZOFFSETFROM:-0600
TZOFFSETTO:-0500
TZNAME:CDT
DTSTART:20300310T080000
END:DAYLIGHT
BEGIN:STANDARD
TZOFFSETFROM:-0500
TZOFFSETTO:-0600
TZNAME:CST
DTSTART:20301103T070000
END:STANDARD
BEGIN:DAYLIGHT
TZOFFSETFROM:-0600
TZOFFSETTO:-0500
TZNAME:CDT
DTSTART:20310309T080000
END:DAYLIGHT
BEGIN:STANDARD
TZOFFSETFROM:-0500
TZOFFSETTO:-0600
TZNAME:CST
DTSTART:20311102T070000
END:STANDARD
END:VTIMEZONE
BEGIN:VEVENT
DTSTART;TZID=America/Chicago:20290926T180000
DTEND;TZID=America/Chicago:20291017T200000
DTSTAMP:20260422T165843
CREATED:20251208T174011Z
LAST-MODIFIED:20251208T181141Z
UID:10001351-1885140000-1886961600@www.firstcallkc.org
SUMMARY:How To Cope: July 2026
DESCRIPTION:A seven-session course for adult family members and friends impacted by a loved one’s substance use. How to Cope helps participants overcome the related physical\, psychological\, and social effects and build a healthy life for themselves. How to Cope is recognized by the National Association of State Alcohol/Drug Abuse directors as a research informed program proven to strengthen relationship skills and increase resiliency. \nJuly: 7/8\, 7/13\, 7/15\, 7/20\, 7/22\, 7/27\, 7/29
URL:https://www.firstcallkc.org/register/how-to-cope-july/2029-09-26/
LOCATION:First Call\, 9091 State Line Road\, Kansas City\, MO\, United States
CATEGORIES:How To Cope
END:VEVENT
BEGIN:VEVENT
DTSTART;TZID=America/Chicago:20291001T180000
DTEND;TZID=America/Chicago:20291022T200000
DTSTAMP:20260422T165843
CREATED:20251208T174011Z
LAST-MODIFIED:20251208T181141Z
UID:10001352-1885572000-1887393600@www.firstcallkc.org
SUMMARY:How To Cope: July 2026
DESCRIPTION:A seven-session course for adult family members and friends impacted by a loved one’s substance use. How to Cope helps participants overcome the related physical\, psychological\, and social effects and build a healthy life for themselves. How to Cope is recognized by the National Association of State Alcohol/Drug Abuse directors as a research informed program proven to strengthen relationship skills and increase resiliency. \nJuly: 7/8\, 7/13\, 7/15\, 7/20\, 7/22\, 7/27\, 7/29
URL:https://www.firstcallkc.org/register/how-to-cope-july/2029-10-01/
LOCATION:First Call\, 9091 State Line Road\, Kansas City\, MO\, United States
CATEGORIES:How To Cope
END:VEVENT
BEGIN:VEVENT
DTSTART;TZID=America/Chicago:20291003T180000
DTEND;TZID=America/Chicago:20291024T200000
DTSTAMP:20260422T165843
CREATED:20251208T174011Z
LAST-MODIFIED:20251208T181141Z
UID:10001353-1885744800-1887566400@www.firstcallkc.org
SUMMARY:How To Cope: July 2026
DESCRIPTION:A seven-session course for adult family members and friends impacted by a loved one’s substance use. How to Cope helps participants overcome the related physical\, psychological\, and social effects and build a healthy life for themselves. How to Cope is recognized by the National Association of State Alcohol/Drug Abuse directors as a research informed program proven to strengthen relationship skills and increase resiliency. \nJuly: 7/8\, 7/13\, 7/15\, 7/20\, 7/22\, 7/27\, 7/29
URL:https://www.firstcallkc.org/register/how-to-cope-july/2029-10-03/
LOCATION:First Call\, 9091 State Line Road\, Kansas City\, MO\, United States
CATEGORIES:How To Cope
END:VEVENT
BEGIN:VEVENT
DTSTART;TZID=America/Chicago:20291008T180000
DTEND;TZID=America/Chicago:20291029T200000
DTSTAMP:20260422T165843
CREATED:20251208T174011Z
LAST-MODIFIED:20251208T181141Z
UID:10001354-1886176800-1887998400@www.firstcallkc.org
SUMMARY:How To Cope: July 2026
DESCRIPTION:A seven-session course for adult family members and friends impacted by a loved one’s substance use. How to Cope helps participants overcome the related physical\, psychological\, and social effects and build a healthy life for themselves. How to Cope is recognized by the National Association of State Alcohol/Drug Abuse directors as a research informed program proven to strengthen relationship skills and increase resiliency. \nJuly: 7/8\, 7/13\, 7/15\, 7/20\, 7/22\, 7/27\, 7/29
URL:https://www.firstcallkc.org/register/how-to-cope-july/2029-10-08/
LOCATION:First Call\, 9091 State Line Road\, Kansas City\, MO\, United States
CATEGORIES:How To Cope
END:VEVENT
BEGIN:VEVENT
DTSTART;TZID=America/Chicago:20291010T180000
DTEND;TZID=America/Chicago:20291031T200000
DTSTAMP:20260422T165843
CREATED:20251208T174011Z
LAST-MODIFIED:20251208T181141Z
UID:10001355-1886349600-1888171200@www.firstcallkc.org
SUMMARY:How To Cope: July 2026
DESCRIPTION:A seven-session course for adult family members and friends impacted by a loved one’s substance use. How to Cope helps participants overcome the related physical\, psychological\, and social effects and build a healthy life for themselves. How to Cope is recognized by the National Association of State Alcohol/Drug Abuse directors as a research informed program proven to strengthen relationship skills and increase resiliency. \nJuly: 7/8\, 7/13\, 7/15\, 7/20\, 7/22\, 7/27\, 7/29
URL:https://www.firstcallkc.org/register/how-to-cope-july/2029-10-10/
LOCATION:First Call\, 9091 State Line Road\, Kansas City\, MO\, United States
CATEGORIES:How To Cope
END:VEVENT
BEGIN:VEVENT
DTSTART;TZID=America/Chicago:20291015T180000
DTEND;TZID=America/Chicago:20291105T190000
DTSTAMP:20260422T165843
CREATED:20251208T174011Z
LAST-MODIFIED:20251208T181141Z
UID:10001356-1886781600-1888599600@www.firstcallkc.org
SUMMARY:How To Cope: July 2026
DESCRIPTION:A seven-session course for adult family members and friends impacted by a loved one’s substance use. How to Cope helps participants overcome the related physical\, psychological\, and social effects and build a healthy life for themselves. How to Cope is recognized by the National Association of State Alcohol/Drug Abuse directors as a research informed program proven to strengthen relationship skills and increase resiliency. \nJuly: 7/8\, 7/13\, 7/15\, 7/20\, 7/22\, 7/27\, 7/29
URL:https://www.firstcallkc.org/register/how-to-cope-july/2029-10-15/
LOCATION:First Call\, 9091 State Line Road\, Kansas City\, MO\, United States
CATEGORIES:How To Cope
END:VEVENT
BEGIN:VEVENT
DTSTART;TZID=America/Chicago:20291017T180000
DTEND;TZID=America/Chicago:20291107T190000
DTSTAMP:20260422T165843
CREATED:20251208T174011Z
LAST-MODIFIED:20251208T181141Z
UID:10001357-1886954400-1888772400@www.firstcallkc.org
SUMMARY:How To Cope: July 2026
DESCRIPTION:A seven-session course for adult family members and friends impacted by a loved one’s substance use. How to Cope helps participants overcome the related physical\, psychological\, and social effects and build a healthy life for themselves. How to Cope is recognized by the National Association of State Alcohol/Drug Abuse directors as a research informed program proven to strengthen relationship skills and increase resiliency. \nJuly: 7/8\, 7/13\, 7/15\, 7/20\, 7/22\, 7/27\, 7/29
URL:https://www.firstcallkc.org/register/how-to-cope-july/2029-10-17/
LOCATION:First Call\, 9091 State Line Road\, Kansas City\, MO\, United States
CATEGORIES:How To Cope
END:VEVENT
BEGIN:VEVENT
DTSTART;TZID=America/Chicago:20291022T180000
DTEND;TZID=America/Chicago:20291112T190000
DTSTAMP:20260422T165843
CREATED:20251208T174011Z
LAST-MODIFIED:20251208T181141Z
UID:10001358-1887386400-1889204400@www.firstcallkc.org
SUMMARY:How To Cope: July 2026
DESCRIPTION:A seven-session course for adult family members and friends impacted by a loved one’s substance use. How to Cope helps participants overcome the related physical\, psychological\, and social effects and build a healthy life for themselves. How to Cope is recognized by the National Association of State Alcohol/Drug Abuse directors as a research informed program proven to strengthen relationship skills and increase resiliency. \nJuly: 7/8\, 7/13\, 7/15\, 7/20\, 7/22\, 7/27\, 7/29
URL:https://www.firstcallkc.org/register/how-to-cope-july/2029-10-22/
LOCATION:First Call\, 9091 State Line Road\, Kansas City\, MO\, United States
CATEGORIES:How To Cope
END:VEVENT
BEGIN:VEVENT
DTSTART;TZID=America/Chicago:20291024T180000
DTEND;TZID=America/Chicago:20291114T190000
DTSTAMP:20260422T165843
CREATED:20251208T174011Z
LAST-MODIFIED:20251208T181141Z
UID:10001359-1887559200-1889377200@www.firstcallkc.org
SUMMARY:How To Cope: July 2026
DESCRIPTION:A seven-session course for adult family members and friends impacted by a loved one’s substance use. How to Cope helps participants overcome the related physical\, psychological\, and social effects and build a healthy life for themselves. How to Cope is recognized by the National Association of State Alcohol/Drug Abuse directors as a research informed program proven to strengthen relationship skills and increase resiliency. \nJuly: 7/8\, 7/13\, 7/15\, 7/20\, 7/22\, 7/27\, 7/29
URL:https://www.firstcallkc.org/register/how-to-cope-july/2029-10-24/
LOCATION:First Call\, 9091 State Line Road\, Kansas City\, MO\, United States
CATEGORIES:How To Cope
END:VEVENT
BEGIN:VEVENT
DTSTART;TZID=America/Chicago:20291029T180000
DTEND;TZID=America/Chicago:20291119T190000
DTSTAMP:20260422T165843
CREATED:20251208T174011Z
LAST-MODIFIED:20251208T181141Z
UID:10001360-1887991200-1889809200@www.firstcallkc.org
SUMMARY:How To Cope: July 2026
DESCRIPTION:A seven-session course for adult family members and friends impacted by a loved one’s substance use. How to Cope helps participants overcome the related physical\, psychological\, and social effects and build a healthy life for themselves. How to Cope is recognized by the National Association of State Alcohol/Drug Abuse directors as a research informed program proven to strengthen relationship skills and increase resiliency. \nJuly: 7/8\, 7/13\, 7/15\, 7/20\, 7/22\, 7/27\, 7/29
URL:https://www.firstcallkc.org/register/how-to-cope-july/2029-10-29/
LOCATION:First Call\, 9091 State Line Road\, Kansas City\, MO\, United States
CATEGORIES:How To Cope
END:VEVENT
BEGIN:VEVENT
DTSTART;TZID=America/Chicago:20291031T180000
DTEND;TZID=America/Chicago:20291121T190000
DTSTAMP:20260422T165843
CREATED:20251208T174011Z
LAST-MODIFIED:20251208T181141Z
UID:10001361-1888164000-1889982000@www.firstcallkc.org
SUMMARY:How To Cope: July 2026
DESCRIPTION:A seven-session course for adult family members and friends impacted by a loved one’s substance use. How to Cope helps participants overcome the related physical\, psychological\, and social effects and build a healthy life for themselves. How to Cope is recognized by the National Association of State Alcohol/Drug Abuse directors as a research informed program proven to strengthen relationship skills and increase resiliency. \nJuly: 7/8\, 7/13\, 7/15\, 7/20\, 7/22\, 7/27\, 7/29
URL:https://www.firstcallkc.org/register/how-to-cope-july/2029-10-31/
LOCATION:First Call\, 9091 State Line Road\, Kansas City\, MO\, United States
CATEGORIES:How To Cope
END:VEVENT
BEGIN:VEVENT
DTSTART;TZID=America/Chicago:20291105T180000
DTEND;TZID=America/Chicago:20291126T200000
DTSTAMP:20260422T165843
CREATED:20251208T174011Z
LAST-MODIFIED:20251208T181141Z
UID:10001362-1888596000-1890417600@www.firstcallkc.org
SUMMARY:How To Cope: July 2026
DESCRIPTION:A seven-session course for adult family members and friends impacted by a loved one’s substance use. How to Cope helps participants overcome the related physical\, psychological\, and social effects and build a healthy life for themselves. How to Cope is recognized by the National Association of State Alcohol/Drug Abuse directors as a research informed program proven to strengthen relationship skills and increase resiliency. \nJuly: 7/8\, 7/13\, 7/15\, 7/20\, 7/22\, 7/27\, 7/29
URL:https://www.firstcallkc.org/register/how-to-cope-july/2029-11-05/
LOCATION:First Call\, 9091 State Line Road\, Kansas City\, MO\, United States
CATEGORIES:How To Cope
END:VEVENT
BEGIN:VEVENT
DTSTART;TZID=America/Chicago:20291107T180000
DTEND;TZID=America/Chicago:20291128T200000
DTSTAMP:20260422T165843
CREATED:20251208T174011Z
LAST-MODIFIED:20251208T181141Z
UID:10001363-1888768800-1890590400@www.firstcallkc.org
SUMMARY:How To Cope: July 2026
DESCRIPTION:A seven-session course for adult family members and friends impacted by a loved one’s substance use. How to Cope helps participants overcome the related physical\, psychological\, and social effects and build a healthy life for themselves. How to Cope is recognized by the National Association of State Alcohol/Drug Abuse directors as a research informed program proven to strengthen relationship skills and increase resiliency. \nJuly: 7/8\, 7/13\, 7/15\, 7/20\, 7/22\, 7/27\, 7/29
URL:https://www.firstcallkc.org/register/how-to-cope-july/2029-11-07/
LOCATION:First Call\, 9091 State Line Road\, Kansas City\, MO\, United States
CATEGORIES:How To Cope
END:VEVENT
BEGIN:VEVENT
DTSTART;TZID=America/Chicago:20291112T180000
DTEND;TZID=America/Chicago:20291203T200000
DTSTAMP:20260422T165843
CREATED:20251208T174011Z
LAST-MODIFIED:20251208T181141Z
UID:10001364-1889200800-1891022400@www.firstcallkc.org
SUMMARY:How To Cope: July 2026
DESCRIPTION:A seven-session course for adult family members and friends impacted by a loved one’s substance use. How to Cope helps participants overcome the related physical\, psychological\, and social effects and build a healthy life for themselves. How to Cope is recognized by the National Association of State Alcohol/Drug Abuse directors as a research informed program proven to strengthen relationship skills and increase resiliency. \nJuly: 7/8\, 7/13\, 7/15\, 7/20\, 7/22\, 7/27\, 7/29
URL:https://www.firstcallkc.org/register/how-to-cope-july/2029-11-12/
LOCATION:First Call\, 9091 State Line Road\, Kansas City\, MO\, United States
CATEGORIES:How To Cope
END:VEVENT
BEGIN:VEVENT
DTSTART;TZID=America/Chicago:20291114T180000
DTEND;TZID=America/Chicago:20291205T200000
DTSTAMP:20260422T165843
CREATED:20251208T174011Z
LAST-MODIFIED:20251208T181141Z
UID:10001365-1889373600-1891195200@www.firstcallkc.org
SUMMARY:How To Cope: July 2026
DESCRIPTION:A seven-session course for adult family members and friends impacted by a loved one’s substance use. How to Cope helps participants overcome the related physical\, psychological\, and social effects and build a healthy life for themselves. How to Cope is recognized by the National Association of State Alcohol/Drug Abuse directors as a research informed program proven to strengthen relationship skills and increase resiliency. \nJuly: 7/8\, 7/13\, 7/15\, 7/20\, 7/22\, 7/27\, 7/29
URL:https://www.firstcallkc.org/register/how-to-cope-july/2029-11-14/
LOCATION:First Call\, 9091 State Line Road\, Kansas City\, MO\, United States
CATEGORIES:How To Cope
END:VEVENT
BEGIN:VEVENT
DTSTART;TZID=America/Chicago:20291119T180000
DTEND;TZID=America/Chicago:20291210T200000
DTSTAMP:20260422T165843
CREATED:20251208T174011Z
LAST-MODIFIED:20251208T181141Z
UID:10001366-1889805600-1891627200@www.firstcallkc.org
SUMMARY:How To Cope: July 2026
DESCRIPTION:A seven-session course for adult family members and friends impacted by a loved one’s substance use. How to Cope helps participants overcome the related physical\, psychological\, and social effects and build a healthy life for themselves. How to Cope is recognized by the National Association of State Alcohol/Drug Abuse directors as a research informed program proven to strengthen relationship skills and increase resiliency. \nJuly: 7/8\, 7/13\, 7/15\, 7/20\, 7/22\, 7/27\, 7/29
URL:https://www.firstcallkc.org/register/how-to-cope-july/2029-11-19/
LOCATION:First Call\, 9091 State Line Road\, Kansas City\, MO\, United States
CATEGORIES:How To Cope
END:VEVENT
BEGIN:VEVENT
DTSTART;TZID=America/Chicago:20291121T180000
DTEND;TZID=America/Chicago:20291212T200000
DTSTAMP:20260422T165843
CREATED:20251208T174011Z
LAST-MODIFIED:20251208T181141Z
UID:10001367-1889978400-1891800000@www.firstcallkc.org
SUMMARY:How To Cope: July 2026
DESCRIPTION:A seven-session course for adult family members and friends impacted by a loved one’s substance use. How to Cope helps participants overcome the related physical\, psychological\, and social effects and build a healthy life for themselves. How to Cope is recognized by the National Association of State Alcohol/Drug Abuse directors as a research informed program proven to strengthen relationship skills and increase resiliency. \nJuly: 7/8\, 7/13\, 7/15\, 7/20\, 7/22\, 7/27\, 7/29
URL:https://www.firstcallkc.org/register/how-to-cope-july/2029-11-21/
LOCATION:First Call\, 9091 State Line Road\, Kansas City\, MO\, United States
CATEGORIES:How To Cope
END:VEVENT
BEGIN:VEVENT
DTSTART;TZID=America/Chicago:20291126T180000
DTEND;TZID=America/Chicago:20291217T200000
DTSTAMP:20260422T165843
CREATED:20251208T174011Z
LAST-MODIFIED:20251208T181141Z
UID:10001368-1890410400-1892232000@www.firstcallkc.org
SUMMARY:How To Cope: July 2026
DESCRIPTION:A seven-session course for adult family members and friends impacted by a loved one’s substance use. How to Cope helps participants overcome the related physical\, psychological\, and social effects and build a healthy life for themselves. How to Cope is recognized by the National Association of State Alcohol/Drug Abuse directors as a research informed program proven to strengthen relationship skills and increase resiliency. \nJuly: 7/8\, 7/13\, 7/15\, 7/20\, 7/22\, 7/27\, 7/29
URL:https://www.firstcallkc.org/register/how-to-cope-july/2029-11-26/
LOCATION:First Call\, 9091 State Line Road\, Kansas City\, MO\, United States
CATEGORIES:How To Cope
END:VEVENT
BEGIN:VEVENT
DTSTART;TZID=America/Chicago:20291128T180000
DTEND;TZID=America/Chicago:20291219T200000
DTSTAMP:20260422T165843
CREATED:20251208T174011Z
LAST-MODIFIED:20251208T181141Z
UID:10001369-1890583200-1892404800@www.firstcallkc.org
SUMMARY:How To Cope: July 2026
DESCRIPTION:A seven-session course for adult family members and friends impacted by a loved one’s substance use. How to Cope helps participants overcome the related physical\, psychological\, and social effects and build a healthy life for themselves. How to Cope is recognized by the National Association of State Alcohol/Drug Abuse directors as a research informed program proven to strengthen relationship skills and increase resiliency. \nJuly: 7/8\, 7/13\, 7/15\, 7/20\, 7/22\, 7/27\, 7/29
URL:https://www.firstcallkc.org/register/how-to-cope-july/2029-11-28/
LOCATION:First Call\, 9091 State Line Road\, Kansas City\, MO\, United States
CATEGORIES:How To Cope
END:VEVENT
BEGIN:VEVENT
DTSTART;TZID=America/Chicago:20291203T180000
DTEND;TZID=America/Chicago:20291224T200000
DTSTAMP:20260422T165843
CREATED:20251208T174011Z
LAST-MODIFIED:20251208T181141Z
UID:10001370-1891015200-1892836800@www.firstcallkc.org
SUMMARY:How To Cope: July 2026
DESCRIPTION:A seven-session course for adult family members and friends impacted by a loved one’s substance use. How to Cope helps participants overcome the related physical\, psychological\, and social effects and build a healthy life for themselves. How to Cope is recognized by the National Association of State Alcohol/Drug Abuse directors as a research informed program proven to strengthen relationship skills and increase resiliency. \nJuly: 7/8\, 7/13\, 7/15\, 7/20\, 7/22\, 7/27\, 7/29
URL:https://www.firstcallkc.org/register/how-to-cope-july/2029-12-03/
LOCATION:First Call\, 9091 State Line Road\, Kansas City\, MO\, United States
CATEGORIES:How To Cope
END:VEVENT
BEGIN:VEVENT
DTSTART;TZID=America/Chicago:20291205T180000
DTEND;TZID=America/Chicago:20291226T200000
DTSTAMP:20260422T165843
CREATED:20251208T174011Z
LAST-MODIFIED:20251208T181141Z
UID:10001371-1891188000-1893009600@www.firstcallkc.org
SUMMARY:How To Cope: July 2026
DESCRIPTION:A seven-session course for adult family members and friends impacted by a loved one’s substance use. How to Cope helps participants overcome the related physical\, psychological\, and social effects and build a healthy life for themselves. How to Cope is recognized by the National Association of State Alcohol/Drug Abuse directors as a research informed program proven to strengthen relationship skills and increase resiliency. \nJuly: 7/8\, 7/13\, 7/15\, 7/20\, 7/22\, 7/27\, 7/29
URL:https://www.firstcallkc.org/register/how-to-cope-july/2029-12-05/
LOCATION:First Call\, 9091 State Line Road\, Kansas City\, MO\, United States
CATEGORIES:How To Cope
END:VEVENT
BEGIN:VEVENT
DTSTART;TZID=America/Chicago:20291210T180000
DTEND;TZID=America/Chicago:20291231T200000
DTSTAMP:20260422T165843
CREATED:20251208T174011Z
LAST-MODIFIED:20251208T181141Z
UID:10001372-1891620000-1893441600@www.firstcallkc.org
SUMMARY:How To Cope: July 2026
DESCRIPTION:A seven-session course for adult family members and friends impacted by a loved one’s substance use. How to Cope helps participants overcome the related physical\, psychological\, and social effects and build a healthy life for themselves. How to Cope is recognized by the National Association of State Alcohol/Drug Abuse directors as a research informed program proven to strengthen relationship skills and increase resiliency. \nJuly: 7/8\, 7/13\, 7/15\, 7/20\, 7/22\, 7/27\, 7/29
URL:https://www.firstcallkc.org/register/how-to-cope-july/2029-12-10/
LOCATION:First Call\, 9091 State Line Road\, Kansas City\, MO\, United States
CATEGORIES:How To Cope
END:VEVENT
BEGIN:VEVENT
DTSTART;TZID=America/Chicago:20291212T180000
DTEND;TZID=America/Chicago:20300102T200000
DTSTAMP:20260422T165843
CREATED:20251208T174011Z
LAST-MODIFIED:20251208T181141Z
UID:10001373-1891792800-1893614400@www.firstcallkc.org
SUMMARY:How To Cope: July 2026
DESCRIPTION:A seven-session course for adult family members and friends impacted by a loved one’s substance use. How to Cope helps participants overcome the related physical\, psychological\, and social effects and build a healthy life for themselves. How to Cope is recognized by the National Association of State Alcohol/Drug Abuse directors as a research informed program proven to strengthen relationship skills and increase resiliency. \nJuly: 7/8\, 7/13\, 7/15\, 7/20\, 7/22\, 7/27\, 7/29
URL:https://www.firstcallkc.org/register/how-to-cope-july/2029-12-12/
LOCATION:First Call\, 9091 State Line Road\, Kansas City\, MO\, United States
CATEGORIES:How To Cope
END:VEVENT
BEGIN:VEVENT
DTSTART;TZID=America/Chicago:20291217T180000
DTEND;TZID=America/Chicago:20300107T200000
DTSTAMP:20260422T165843
CREATED:20251208T174011Z
LAST-MODIFIED:20251208T181141Z
UID:10001374-1892224800-1894046400@www.firstcallkc.org
SUMMARY:How To Cope: July 2026
DESCRIPTION:A seven-session course for adult family members and friends impacted by a loved one’s substance use. How to Cope helps participants overcome the related physical\, psychological\, and social effects and build a healthy life for themselves. How to Cope is recognized by the National Association of State Alcohol/Drug Abuse directors as a research informed program proven to strengthen relationship skills and increase resiliency. \nJuly: 7/8\, 7/13\, 7/15\, 7/20\, 7/22\, 7/27\, 7/29
URL:https://www.firstcallkc.org/register/how-to-cope-july/2029-12-17/
LOCATION:First Call\, 9091 State Line Road\, Kansas City\, MO\, United States
CATEGORIES:How To Cope
END:VEVENT
BEGIN:VEVENT
DTSTART;TZID=America/Chicago:20291219T180000
DTEND;TZID=America/Chicago:20300109T200000
DTSTAMP:20260422T165843
CREATED:20251208T174011Z
LAST-MODIFIED:20251208T181141Z
UID:10001375-1892397600-1894219200@www.firstcallkc.org
SUMMARY:How To Cope: July 2026
DESCRIPTION:A seven-session course for adult family members and friends impacted by a loved one’s substance use. How to Cope helps participants overcome the related physical\, psychological\, and social effects and build a healthy life for themselves. How to Cope is recognized by the National Association of State Alcohol/Drug Abuse directors as a research informed program proven to strengthen relationship skills and increase resiliency. \nJuly: 7/8\, 7/13\, 7/15\, 7/20\, 7/22\, 7/27\, 7/29
URL:https://www.firstcallkc.org/register/how-to-cope-july/2029-12-19/
LOCATION:First Call\, 9091 State Line Road\, Kansas City\, MO\, United States
CATEGORIES:How To Cope
END:VEVENT
BEGIN:VEVENT
DTSTART;TZID=America/Chicago:20291224T180000
DTEND;TZID=America/Chicago:20300114T200000
DTSTAMP:20260422T165843
CREATED:20251208T174011Z
LAST-MODIFIED:20251208T181141Z
UID:10001376-1892829600-1894651200@www.firstcallkc.org
SUMMARY:How To Cope: July 2026
DESCRIPTION:A seven-session course for adult family members and friends impacted by a loved one’s substance use. How to Cope helps participants overcome the related physical\, psychological\, and social effects and build a healthy life for themselves. How to Cope is recognized by the National Association of State Alcohol/Drug Abuse directors as a research informed program proven to strengthen relationship skills and increase resiliency. \nJuly: 7/8\, 7/13\, 7/15\, 7/20\, 7/22\, 7/27\, 7/29
URL:https://www.firstcallkc.org/register/how-to-cope-july/2029-12-24/
LOCATION:First Call\, 9091 State Line Road\, Kansas City\, MO\, United States
CATEGORIES:How To Cope
END:VEVENT
BEGIN:VEVENT
DTSTART;TZID=America/Chicago:20291226T180000
DTEND;TZID=America/Chicago:20300116T200000
DTSTAMP:20260422T165843
CREATED:20251208T174011Z
LAST-MODIFIED:20251208T181141Z
UID:10001377-1893002400-1894824000@www.firstcallkc.org
SUMMARY:How To Cope: July 2026
DESCRIPTION:A seven-session course for adult family members and friends impacted by a loved one’s substance use. How to Cope helps participants overcome the related physical\, psychological\, and social effects and build a healthy life for themselves. How to Cope is recognized by the National Association of State Alcohol/Drug Abuse directors as a research informed program proven to strengthen relationship skills and increase resiliency. \nJuly: 7/8\, 7/13\, 7/15\, 7/20\, 7/22\, 7/27\, 7/29
URL:https://www.firstcallkc.org/register/how-to-cope-july/2029-12-26/
LOCATION:First Call\, 9091 State Line Road\, Kansas City\, MO\, United States
CATEGORIES:How To Cope
END:VEVENT
BEGIN:VEVENT
DTSTART;TZID=America/Chicago:20291231T180000
DTEND;TZID=America/Chicago:20300121T200000
DTSTAMP:20260422T165843
CREATED:20251208T174011Z
LAST-MODIFIED:20251208T181141Z
UID:10001378-1893434400-1895256000@www.firstcallkc.org
SUMMARY:How To Cope: July 2026
DESCRIPTION:A seven-session course for adult family members and friends impacted by a loved one’s substance use. How to Cope helps participants overcome the related physical\, psychological\, and social effects and build a healthy life for themselves. How to Cope is recognized by the National Association of State Alcohol/Drug Abuse directors as a research informed program proven to strengthen relationship skills and increase resiliency. \nJuly: 7/8\, 7/13\, 7/15\, 7/20\, 7/22\, 7/27\, 7/29
URL:https://www.firstcallkc.org/register/how-to-cope-july/2029-12-31/
LOCATION:First Call\, 9091 State Line Road\, Kansas City\, MO\, United States
CATEGORIES:How To Cope
END:VEVENT
BEGIN:VEVENT
DTSTART;TZID=America/Chicago:20300102T180000
DTEND;TZID=America/Chicago:20300123T200000
DTSTAMP:20260422T165843
CREATED:20251208T174011Z
LAST-MODIFIED:20251208T181141Z
UID:10001379-1893607200-1895428800@www.firstcallkc.org
SUMMARY:How To Cope: July 2026
DESCRIPTION:A seven-session course for adult family members and friends impacted by a loved one’s substance use. How to Cope helps participants overcome the related physical\, psychological\, and social effects and build a healthy life for themselves. How to Cope is recognized by the National Association of State Alcohol/Drug Abuse directors as a research informed program proven to strengthen relationship skills and increase resiliency. \nJuly: 7/8\, 7/13\, 7/15\, 7/20\, 7/22\, 7/27\, 7/29
URL:https://www.firstcallkc.org/register/how-to-cope-july/2030-01-02/
LOCATION:First Call\, 9091 State Line Road\, Kansas City\, MO\, United States
CATEGORIES:How To Cope
END:VEVENT
BEGIN:VEVENT
DTSTART;TZID=America/Chicago:20300107T180000
DTEND;TZID=America/Chicago:20300128T200000
DTSTAMP:20260422T165843
CREATED:20251208T174011Z
LAST-MODIFIED:20251208T181141Z
UID:10001380-1894039200-1895860800@www.firstcallkc.org
SUMMARY:How To Cope: July 2026
DESCRIPTION:A seven-session course for adult family members and friends impacted by a loved one’s substance use. How to Cope helps participants overcome the related physical\, psychological\, and social effects and build a healthy life for themselves. How to Cope is recognized by the National Association of State Alcohol/Drug Abuse directors as a research informed program proven to strengthen relationship skills and increase resiliency. \nJuly: 7/8\, 7/13\, 7/15\, 7/20\, 7/22\, 7/27\, 7/29
URL:https://www.firstcallkc.org/register/how-to-cope-july/2030-01-07/
LOCATION:First Call\, 9091 State Line Road\, Kansas City\, MO\, United States
CATEGORIES:How To Cope
END:VEVENT
END:VCALENDAR