BEGIN:VCALENDAR
VERSION:2.0
PRODID:-//First Call KC - ECPv6.15.20//NONSGML v1.0//EN
CALSCALE:GREGORIAN
METHOD:PUBLISH
X-ORIGINAL-URL:https://www.firstcallkc.org
X-WR-CALDESC:Events for First Call KC
REFRESH-INTERVAL;VALUE=DURATION:PT1H
X-Robots-Tag:noindex
X-PUBLISHED-TTL:PT1H
BEGIN:VTIMEZONE
TZID:America/Chicago
BEGIN:DAYLIGHT
TZOFFSETFROM:-0600
TZOFFSETTO:-0500
TZNAME:CDT
DTSTART:20290311T080000
END:DAYLIGHT
BEGIN:STANDARD
TZOFFSETFROM:-0500
TZOFFSETTO:-0600
TZNAME:CST
DTSTART:20291104T070000
END:STANDARD
BEGIN:DAYLIGHT
TZOFFSETFROM:-0600
TZOFFSETTO:-0500
TZNAME:CDT
DTSTART:20300310T080000
END:DAYLIGHT
BEGIN:STANDARD
TZOFFSETFROM:-0500
TZOFFSETTO:-0600
TZNAME:CST
DTSTART:20301103T070000
END:STANDARD
BEGIN:DAYLIGHT
TZOFFSETFROM:-0600
TZOFFSETTO:-0500
TZNAME:CDT
DTSTART:20310309T080000
END:DAYLIGHT
BEGIN:STANDARD
TZOFFSETFROM:-0500
TZOFFSETTO:-0600
TZNAME:CST
DTSTART:20311102T070000
END:STANDARD
BEGIN:DAYLIGHT
TZOFFSETFROM:-0600
TZOFFSETTO:-0500
TZNAME:CDT
DTSTART:20320314T080000
END:DAYLIGHT
BEGIN:STANDARD
TZOFFSETFROM:-0500
TZOFFSETTO:-0600
TZNAME:CST
DTSTART:20321107T070000
END:STANDARD
END:VTIMEZONE
BEGIN:VEVENT
DTSTART;TZID=America/Chicago:20301016T180000
DTEND;TZID=America/Chicago:20301106T190000
DTSTAMP:20260423T065334
CREATED:20251208T174011Z
LAST-MODIFIED:20251208T181141Z
UID:10001461-1918404000-1920222000@www.firstcallkc.org
SUMMARY:How To Cope: July 2026
DESCRIPTION:A seven-session course for adult family members and friends impacted by a loved one’s substance use. How to Cope helps participants overcome the related physical\, psychological\, and social effects and build a healthy life for themselves. How to Cope is recognized by the National Association of State Alcohol/Drug Abuse directors as a research informed program proven to strengthen relationship skills and increase resiliency. \nJuly: 7/8\, 7/13\, 7/15\, 7/20\, 7/22\, 7/27\, 7/29
URL:https://www.firstcallkc.org/register/how-to-cope-july/2030-10-16/
LOCATION:First Call\, 9091 State Line Road\, Kansas City\, MO\, United States
CATEGORIES:How To Cope
END:VEVENT
BEGIN:VEVENT
DTSTART;TZID=America/Chicago:20301021T180000
DTEND;TZID=America/Chicago:20301111T190000
DTSTAMP:20260423T065334
CREATED:20251208T174011Z
LAST-MODIFIED:20251208T181141Z
UID:10001462-1918836000-1920654000@www.firstcallkc.org
SUMMARY:How To Cope: July 2026
DESCRIPTION:A seven-session course for adult family members and friends impacted by a loved one’s substance use. How to Cope helps participants overcome the related physical\, psychological\, and social effects and build a healthy life for themselves. How to Cope is recognized by the National Association of State Alcohol/Drug Abuse directors as a research informed program proven to strengthen relationship skills and increase resiliency. \nJuly: 7/8\, 7/13\, 7/15\, 7/20\, 7/22\, 7/27\, 7/29
URL:https://www.firstcallkc.org/register/how-to-cope-july/2030-10-21/
LOCATION:First Call\, 9091 State Line Road\, Kansas City\, MO\, United States
CATEGORIES:How To Cope
END:VEVENT
BEGIN:VEVENT
DTSTART;TZID=America/Chicago:20301023T180000
DTEND;TZID=America/Chicago:20301113T190000
DTSTAMP:20260423T065334
CREATED:20251208T174011Z
LAST-MODIFIED:20251208T181141Z
UID:10001463-1919008800-1920826800@www.firstcallkc.org
SUMMARY:How To Cope: July 2026
DESCRIPTION:A seven-session course for adult family members and friends impacted by a loved one’s substance use. How to Cope helps participants overcome the related physical\, psychological\, and social effects and build a healthy life for themselves. How to Cope is recognized by the National Association of State Alcohol/Drug Abuse directors as a research informed program proven to strengthen relationship skills and increase resiliency. \nJuly: 7/8\, 7/13\, 7/15\, 7/20\, 7/22\, 7/27\, 7/29
URL:https://www.firstcallkc.org/register/how-to-cope-july/2030-10-23/
LOCATION:First Call\, 9091 State Line Road\, Kansas City\, MO\, United States
CATEGORIES:How To Cope
END:VEVENT
BEGIN:VEVENT
DTSTART;TZID=America/Chicago:20301028T180000
DTEND;TZID=America/Chicago:20301118T190000
DTSTAMP:20260423T065334
CREATED:20251208T174011Z
LAST-MODIFIED:20251208T181141Z
UID:10001464-1919440800-1921258800@www.firstcallkc.org
SUMMARY:How To Cope: July 2026
DESCRIPTION:A seven-session course for adult family members and friends impacted by a loved one’s substance use. How to Cope helps participants overcome the related physical\, psychological\, and social effects and build a healthy life for themselves. How to Cope is recognized by the National Association of State Alcohol/Drug Abuse directors as a research informed program proven to strengthen relationship skills and increase resiliency. \nJuly: 7/8\, 7/13\, 7/15\, 7/20\, 7/22\, 7/27\, 7/29
URL:https://www.firstcallkc.org/register/how-to-cope-july/2030-10-28/
LOCATION:First Call\, 9091 State Line Road\, Kansas City\, MO\, United States
CATEGORIES:How To Cope
END:VEVENT
BEGIN:VEVENT
DTSTART;TZID=America/Chicago:20301030T180000
DTEND;TZID=America/Chicago:20301120T190000
DTSTAMP:20260423T065334
CREATED:20251208T174011Z
LAST-MODIFIED:20251208T181141Z
UID:10001465-1919613600-1921431600@www.firstcallkc.org
SUMMARY:How To Cope: July 2026
DESCRIPTION:A seven-session course for adult family members and friends impacted by a loved one’s substance use. How to Cope helps participants overcome the related physical\, psychological\, and social effects and build a healthy life for themselves. How to Cope is recognized by the National Association of State Alcohol/Drug Abuse directors as a research informed program proven to strengthen relationship skills and increase resiliency. \nJuly: 7/8\, 7/13\, 7/15\, 7/20\, 7/22\, 7/27\, 7/29
URL:https://www.firstcallkc.org/register/how-to-cope-july/2030-10-30/
LOCATION:First Call\, 9091 State Line Road\, Kansas City\, MO\, United States
CATEGORIES:How To Cope
END:VEVENT
BEGIN:VEVENT
DTSTART;TZID=America/Chicago:20301104T180000
DTEND;TZID=America/Chicago:20301125T200000
DTSTAMP:20260423T065334
CREATED:20251208T174011Z
LAST-MODIFIED:20251208T181141Z
UID:10001466-1920045600-1921867200@www.firstcallkc.org
SUMMARY:How To Cope: July 2026
DESCRIPTION:A seven-session course for adult family members and friends impacted by a loved one’s substance use. How to Cope helps participants overcome the related physical\, psychological\, and social effects and build a healthy life for themselves. How to Cope is recognized by the National Association of State Alcohol/Drug Abuse directors as a research informed program proven to strengthen relationship skills and increase resiliency. \nJuly: 7/8\, 7/13\, 7/15\, 7/20\, 7/22\, 7/27\, 7/29
URL:https://www.firstcallkc.org/register/how-to-cope-july/2030-11-04/
LOCATION:First Call\, 9091 State Line Road\, Kansas City\, MO\, United States
CATEGORIES:How To Cope
END:VEVENT
BEGIN:VEVENT
DTSTART;TZID=America/Chicago:20301106T180000
DTEND;TZID=America/Chicago:20301127T200000
DTSTAMP:20260423T065334
CREATED:20251208T174011Z
LAST-MODIFIED:20251208T181141Z
UID:10001467-1920218400-1922040000@www.firstcallkc.org
SUMMARY:How To Cope: July 2026
DESCRIPTION:A seven-session course for adult family members and friends impacted by a loved one’s substance use. How to Cope helps participants overcome the related physical\, psychological\, and social effects and build a healthy life for themselves. How to Cope is recognized by the National Association of State Alcohol/Drug Abuse directors as a research informed program proven to strengthen relationship skills and increase resiliency. \nJuly: 7/8\, 7/13\, 7/15\, 7/20\, 7/22\, 7/27\, 7/29
URL:https://www.firstcallkc.org/register/how-to-cope-july/2030-11-06/
LOCATION:First Call\, 9091 State Line Road\, Kansas City\, MO\, United States
CATEGORIES:How To Cope
END:VEVENT
BEGIN:VEVENT
DTSTART;TZID=America/Chicago:20301111T180000
DTEND;TZID=America/Chicago:20301202T200000
DTSTAMP:20260423T065334
CREATED:20251208T174011Z
LAST-MODIFIED:20251208T181141Z
UID:10001468-1920650400-1922472000@www.firstcallkc.org
SUMMARY:How To Cope: July 2026
DESCRIPTION:A seven-session course for adult family members and friends impacted by a loved one’s substance use. How to Cope helps participants overcome the related physical\, psychological\, and social effects and build a healthy life for themselves. How to Cope is recognized by the National Association of State Alcohol/Drug Abuse directors as a research informed program proven to strengthen relationship skills and increase resiliency. \nJuly: 7/8\, 7/13\, 7/15\, 7/20\, 7/22\, 7/27\, 7/29
URL:https://www.firstcallkc.org/register/how-to-cope-july/2030-11-11/
LOCATION:First Call\, 9091 State Line Road\, Kansas City\, MO\, United States
CATEGORIES:How To Cope
END:VEVENT
BEGIN:VEVENT
DTSTART;TZID=America/Chicago:20301113T180000
DTEND;TZID=America/Chicago:20301204T200000
DTSTAMP:20260423T065334
CREATED:20251208T174011Z
LAST-MODIFIED:20251208T181141Z
UID:10001469-1920823200-1922644800@www.firstcallkc.org
SUMMARY:How To Cope: July 2026
DESCRIPTION:A seven-session course for adult family members and friends impacted by a loved one’s substance use. How to Cope helps participants overcome the related physical\, psychological\, and social effects and build a healthy life for themselves. How to Cope is recognized by the National Association of State Alcohol/Drug Abuse directors as a research informed program proven to strengthen relationship skills and increase resiliency. \nJuly: 7/8\, 7/13\, 7/15\, 7/20\, 7/22\, 7/27\, 7/29
URL:https://www.firstcallkc.org/register/how-to-cope-july/2030-11-13/
LOCATION:First Call\, 9091 State Line Road\, Kansas City\, MO\, United States
CATEGORIES:How To Cope
END:VEVENT
BEGIN:VEVENT
DTSTART;TZID=America/Chicago:20301118T180000
DTEND;TZID=America/Chicago:20301209T200000
DTSTAMP:20260423T065334
CREATED:20251208T174011Z
LAST-MODIFIED:20251208T181141Z
UID:10001470-1921255200-1923076800@www.firstcallkc.org
SUMMARY:How To Cope: July 2026
DESCRIPTION:A seven-session course for adult family members and friends impacted by a loved one’s substance use. How to Cope helps participants overcome the related physical\, psychological\, and social effects and build a healthy life for themselves. How to Cope is recognized by the National Association of State Alcohol/Drug Abuse directors as a research informed program proven to strengthen relationship skills and increase resiliency. \nJuly: 7/8\, 7/13\, 7/15\, 7/20\, 7/22\, 7/27\, 7/29
URL:https://www.firstcallkc.org/register/how-to-cope-july/2030-11-18/
LOCATION:First Call\, 9091 State Line Road\, Kansas City\, MO\, United States
CATEGORIES:How To Cope
END:VEVENT
BEGIN:VEVENT
DTSTART;TZID=America/Chicago:20301120T180000
DTEND;TZID=America/Chicago:20301211T200000
DTSTAMP:20260423T065334
CREATED:20251208T174011Z
LAST-MODIFIED:20251208T181141Z
UID:10001471-1921428000-1923249600@www.firstcallkc.org
SUMMARY:How To Cope: July 2026
DESCRIPTION:A seven-session course for adult family members and friends impacted by a loved one’s substance use. How to Cope helps participants overcome the related physical\, psychological\, and social effects and build a healthy life for themselves. How to Cope is recognized by the National Association of State Alcohol/Drug Abuse directors as a research informed program proven to strengthen relationship skills and increase resiliency. \nJuly: 7/8\, 7/13\, 7/15\, 7/20\, 7/22\, 7/27\, 7/29
URL:https://www.firstcallkc.org/register/how-to-cope-july/2030-11-20/
LOCATION:First Call\, 9091 State Line Road\, Kansas City\, MO\, United States
CATEGORIES:How To Cope
END:VEVENT
BEGIN:VEVENT
DTSTART;TZID=America/Chicago:20301125T180000
DTEND;TZID=America/Chicago:20301216T200000
DTSTAMP:20260423T065334
CREATED:20251208T174011Z
LAST-MODIFIED:20251208T181141Z
UID:10001472-1921860000-1923681600@www.firstcallkc.org
SUMMARY:How To Cope: July 2026
DESCRIPTION:A seven-session course for adult family members and friends impacted by a loved one’s substance use. How to Cope helps participants overcome the related physical\, psychological\, and social effects and build a healthy life for themselves. How to Cope is recognized by the National Association of State Alcohol/Drug Abuse directors as a research informed program proven to strengthen relationship skills and increase resiliency. \nJuly: 7/8\, 7/13\, 7/15\, 7/20\, 7/22\, 7/27\, 7/29
URL:https://www.firstcallkc.org/register/how-to-cope-july/2030-11-25/
LOCATION:First Call\, 9091 State Line Road\, Kansas City\, MO\, United States
CATEGORIES:How To Cope
END:VEVENT
BEGIN:VEVENT
DTSTART;TZID=America/Chicago:20301127T180000
DTEND;TZID=America/Chicago:20301218T200000
DTSTAMP:20260423T065334
CREATED:20251208T174011Z
LAST-MODIFIED:20251208T181141Z
UID:10001473-1922032800-1923854400@www.firstcallkc.org
SUMMARY:How To Cope: July 2026
DESCRIPTION:A seven-session course for adult family members and friends impacted by a loved one’s substance use. How to Cope helps participants overcome the related physical\, psychological\, and social effects and build a healthy life for themselves. How to Cope is recognized by the National Association of State Alcohol/Drug Abuse directors as a research informed program proven to strengthen relationship skills and increase resiliency. \nJuly: 7/8\, 7/13\, 7/15\, 7/20\, 7/22\, 7/27\, 7/29
URL:https://www.firstcallkc.org/register/how-to-cope-july/2030-11-27/
LOCATION:First Call\, 9091 State Line Road\, Kansas City\, MO\, United States
CATEGORIES:How To Cope
END:VEVENT
BEGIN:VEVENT
DTSTART;TZID=America/Chicago:20301202T180000
DTEND;TZID=America/Chicago:20301223T200000
DTSTAMP:20260423T065334
CREATED:20251208T174011Z
LAST-MODIFIED:20251208T181141Z
UID:10001474-1922464800-1924286400@www.firstcallkc.org
SUMMARY:How To Cope: July 2026
DESCRIPTION:A seven-session course for adult family members and friends impacted by a loved one’s substance use. How to Cope helps participants overcome the related physical\, psychological\, and social effects and build a healthy life for themselves. How to Cope is recognized by the National Association of State Alcohol/Drug Abuse directors as a research informed program proven to strengthen relationship skills and increase resiliency. \nJuly: 7/8\, 7/13\, 7/15\, 7/20\, 7/22\, 7/27\, 7/29
URL:https://www.firstcallkc.org/register/how-to-cope-july/2030-12-02/
LOCATION:First Call\, 9091 State Line Road\, Kansas City\, MO\, United States
CATEGORIES:How To Cope
END:VEVENT
BEGIN:VEVENT
DTSTART;TZID=America/Chicago:20301204T180000
DTEND;TZID=America/Chicago:20301225T200000
DTSTAMP:20260423T065334
CREATED:20251208T174011Z
LAST-MODIFIED:20251208T181141Z
UID:10001475-1922637600-1924459200@www.firstcallkc.org
SUMMARY:How To Cope: July 2026
DESCRIPTION:A seven-session course for adult family members and friends impacted by a loved one’s substance use. How to Cope helps participants overcome the related physical\, psychological\, and social effects and build a healthy life for themselves. How to Cope is recognized by the National Association of State Alcohol/Drug Abuse directors as a research informed program proven to strengthen relationship skills and increase resiliency. \nJuly: 7/8\, 7/13\, 7/15\, 7/20\, 7/22\, 7/27\, 7/29
URL:https://www.firstcallkc.org/register/how-to-cope-july/2030-12-04/
LOCATION:First Call\, 9091 State Line Road\, Kansas City\, MO\, United States
CATEGORIES:How To Cope
END:VEVENT
BEGIN:VEVENT
DTSTART;TZID=America/Chicago:20301209T180000
DTEND;TZID=America/Chicago:20301230T200000
DTSTAMP:20260423T065334
CREATED:20251208T174011Z
LAST-MODIFIED:20251208T181141Z
UID:10001476-1923069600-1924891200@www.firstcallkc.org
SUMMARY:How To Cope: July 2026
DESCRIPTION:A seven-session course for adult family members and friends impacted by a loved one’s substance use. How to Cope helps participants overcome the related physical\, psychological\, and social effects and build a healthy life for themselves. How to Cope is recognized by the National Association of State Alcohol/Drug Abuse directors as a research informed program proven to strengthen relationship skills and increase resiliency. \nJuly: 7/8\, 7/13\, 7/15\, 7/20\, 7/22\, 7/27\, 7/29
URL:https://www.firstcallkc.org/register/how-to-cope-july/2030-12-09/
LOCATION:First Call\, 9091 State Line Road\, Kansas City\, MO\, United States
CATEGORIES:How To Cope
END:VEVENT
BEGIN:VEVENT
DTSTART;TZID=America/Chicago:20301211T180000
DTEND;TZID=America/Chicago:20310101T200000
DTSTAMP:20260423T065334
CREATED:20251208T174011Z
LAST-MODIFIED:20251208T181141Z
UID:10001477-1923242400-1925064000@www.firstcallkc.org
SUMMARY:How To Cope: July 2026
DESCRIPTION:A seven-session course for adult family members and friends impacted by a loved one’s substance use. How to Cope helps participants overcome the related physical\, psychological\, and social effects and build a healthy life for themselves. How to Cope is recognized by the National Association of State Alcohol/Drug Abuse directors as a research informed program proven to strengthen relationship skills and increase resiliency. \nJuly: 7/8\, 7/13\, 7/15\, 7/20\, 7/22\, 7/27\, 7/29
URL:https://www.firstcallkc.org/register/how-to-cope-july/2030-12-11/
LOCATION:First Call\, 9091 State Line Road\, Kansas City\, MO\, United States
CATEGORIES:How To Cope
END:VEVENT
BEGIN:VEVENT
DTSTART;TZID=America/Chicago:20301216T180000
DTEND;TZID=America/Chicago:20310106T200000
DTSTAMP:20260423T065334
CREATED:20251208T174011Z
LAST-MODIFIED:20251208T181141Z
UID:10001478-1923674400-1925496000@www.firstcallkc.org
SUMMARY:How To Cope: July 2026
DESCRIPTION:A seven-session course for adult family members and friends impacted by a loved one’s substance use. How to Cope helps participants overcome the related physical\, psychological\, and social effects and build a healthy life for themselves. How to Cope is recognized by the National Association of State Alcohol/Drug Abuse directors as a research informed program proven to strengthen relationship skills and increase resiliency. \nJuly: 7/8\, 7/13\, 7/15\, 7/20\, 7/22\, 7/27\, 7/29
URL:https://www.firstcallkc.org/register/how-to-cope-july/2030-12-16/
LOCATION:First Call\, 9091 State Line Road\, Kansas City\, MO\, United States
CATEGORIES:How To Cope
END:VEVENT
BEGIN:VEVENT
DTSTART;TZID=America/Chicago:20301218T180000
DTEND;TZID=America/Chicago:20310108T200000
DTSTAMP:20260423T065334
CREATED:20251208T174011Z
LAST-MODIFIED:20251208T181141Z
UID:10001479-1923847200-1925668800@www.firstcallkc.org
SUMMARY:How To Cope: July 2026
DESCRIPTION:A seven-session course for adult family members and friends impacted by a loved one’s substance use. How to Cope helps participants overcome the related physical\, psychological\, and social effects and build a healthy life for themselves. How to Cope is recognized by the National Association of State Alcohol/Drug Abuse directors as a research informed program proven to strengthen relationship skills and increase resiliency. \nJuly: 7/8\, 7/13\, 7/15\, 7/20\, 7/22\, 7/27\, 7/29
URL:https://www.firstcallkc.org/register/how-to-cope-july/2030-12-18/
LOCATION:First Call\, 9091 State Line Road\, Kansas City\, MO\, United States
CATEGORIES:How To Cope
END:VEVENT
BEGIN:VEVENT
DTSTART;TZID=America/Chicago:20301223T180000
DTEND;TZID=America/Chicago:20310113T200000
DTSTAMP:20260423T065334
CREATED:20251208T174011Z
LAST-MODIFIED:20251208T181141Z
UID:10001480-1924279200-1926100800@www.firstcallkc.org
SUMMARY:How To Cope: July 2026
DESCRIPTION:A seven-session course for adult family members and friends impacted by a loved one’s substance use. How to Cope helps participants overcome the related physical\, psychological\, and social effects and build a healthy life for themselves. How to Cope is recognized by the National Association of State Alcohol/Drug Abuse directors as a research informed program proven to strengthen relationship skills and increase resiliency. \nJuly: 7/8\, 7/13\, 7/15\, 7/20\, 7/22\, 7/27\, 7/29
URL:https://www.firstcallkc.org/register/how-to-cope-july/2030-12-23/
LOCATION:First Call\, 9091 State Line Road\, Kansas City\, MO\, United States
CATEGORIES:How To Cope
END:VEVENT
BEGIN:VEVENT
DTSTART;TZID=America/Chicago:20301225T180000
DTEND;TZID=America/Chicago:20310115T200000
DTSTAMP:20260423T065334
CREATED:20251208T174011Z
LAST-MODIFIED:20251208T181141Z
UID:10001481-1924452000-1926273600@www.firstcallkc.org
SUMMARY:How To Cope: July 2026
DESCRIPTION:A seven-session course for adult family members and friends impacted by a loved one’s substance use. How to Cope helps participants overcome the related physical\, psychological\, and social effects and build a healthy life for themselves. How to Cope is recognized by the National Association of State Alcohol/Drug Abuse directors as a research informed program proven to strengthen relationship skills and increase resiliency. \nJuly: 7/8\, 7/13\, 7/15\, 7/20\, 7/22\, 7/27\, 7/29
URL:https://www.firstcallkc.org/register/how-to-cope-july/2030-12-25/
LOCATION:First Call\, 9091 State Line Road\, Kansas City\, MO\, United States
CATEGORIES:How To Cope
END:VEVENT
END:VCALENDAR