BEGIN:VCALENDAR
VERSION:2.0
PRODID:-//First Call KC - ECPv6.15.20//NONSGML v1.0//EN
CALSCALE:GREGORIAN
METHOD:PUBLISH
X-WR-CALNAME:First Call KC
X-ORIGINAL-URL:https://www.firstcallkc.org
X-WR-CALDESC:Events for First Call KC
REFRESH-INTERVAL;VALUE=DURATION:PT1H
X-Robots-Tag:noindex
X-PUBLISHED-TTL:PT1H
BEGIN:VTIMEZONE
TZID:America/Chicago
BEGIN:DAYLIGHT
TZOFFSETFROM:-0600
TZOFFSETTO:-0500
TZNAME:CDT
DTSTART:20250309T080000
END:DAYLIGHT
BEGIN:STANDARD
TZOFFSETFROM:-0500
TZOFFSETTO:-0600
TZNAME:CST
DTSTART:20251102T070000
END:STANDARD
BEGIN:DAYLIGHT
TZOFFSETFROM:-0600
TZOFFSETTO:-0500
TZNAME:CDT
DTSTART:20260308T080000
END:DAYLIGHT
BEGIN:STANDARD
TZOFFSETFROM:-0500
TZOFFSETTO:-0600
TZNAME:CST
DTSTART:20261101T070000
END:STANDARD
BEGIN:DAYLIGHT
TZOFFSETFROM:-0600
TZOFFSETTO:-0500
TZNAME:CDT
DTSTART:20270314T080000
END:DAYLIGHT
BEGIN:STANDARD
TZOFFSETFROM:-0500
TZOFFSETTO:-0600
TZNAME:CST
DTSTART:20271107T070000
END:STANDARD
BEGIN:DAYLIGHT
TZOFFSETFROM:-0600
TZOFFSETTO:-0500
TZNAME:CDT
DTSTART:20280312T080000
END:DAYLIGHT
BEGIN:STANDARD
TZOFFSETFROM:-0500
TZOFFSETTO:-0600
TZNAME:CST
DTSTART:20281105T070000
END:STANDARD
END:VTIMEZONE
BEGIN:VEVENT
DTSTART;TZID=America/Chicago:20261104T180000
DTEND;TZID=America/Chicago:20261207T200000
DTSTAMP:20260425T110219
CREATED:20251208T181557Z
LAST-MODIFIED:20251208T182401Z
UID:10001497-1793815200-1796673600@www.firstcallkc.org
SUMMARY:How To Cope: November/Dec 2026
DESCRIPTION:A seven-session course for adult family members and friends impacted by a loved one’s substance use. How to Cope helps participants overcome the related physical\, psychological\, and social effects and build a healthy life for themselves. How to Cope is recognized by the National Association of State Alcohol/Drug Abuse directors as a research informed program proven to strengthen relationship skills and increase resiliency. \nNovember/December: 11/4\, 11/9\, 11/16\, 11/18\, 11/30\, 12/2\, 12/7
URL:https://www.firstcallkc.org/register/how-to-cope-november-dec/2026-11-04/
LOCATION:First Call\, 9091 State Line Road\, Kansas City\, MO\, United States
CATEGORIES:How To Cope
END:VEVENT
BEGIN:VEVENT
DTSTART;TZID=America/Chicago:20261109T180000
DTEND;TZID=America/Chicago:20261212T200000
DTSTAMP:20260425T110219
CREATED:20251208T181557Z
LAST-MODIFIED:20251208T182401Z
UID:10001498-1794247200-1797105600@www.firstcallkc.org
SUMMARY:How To Cope: November/Dec 2026
DESCRIPTION:A seven-session course for adult family members and friends impacted by a loved one’s substance use. How to Cope helps participants overcome the related physical\, psychological\, and social effects and build a healthy life for themselves. How to Cope is recognized by the National Association of State Alcohol/Drug Abuse directors as a research informed program proven to strengthen relationship skills and increase resiliency. \nNovember/December: 11/4\, 11/9\, 11/16\, 11/18\, 11/30\, 12/2\, 12/7
URL:https://www.firstcallkc.org/register/how-to-cope-november-dec/2026-11-09/
LOCATION:First Call\, 9091 State Line Road\, Kansas City\, MO\, United States
CATEGORIES:How To Cope
END:VEVENT
BEGIN:VEVENT
DTSTART;TZID=America/Chicago:20261116T180000
DTEND;TZID=America/Chicago:20261219T200000
DTSTAMP:20260425T110219
CREATED:20251208T181557Z
LAST-MODIFIED:20251208T182401Z
UID:10001499-1794852000-1797710400@www.firstcallkc.org
SUMMARY:How To Cope: November/Dec 2026
DESCRIPTION:A seven-session course for adult family members and friends impacted by a loved one’s substance use. How to Cope helps participants overcome the related physical\, psychological\, and social effects and build a healthy life for themselves. How to Cope is recognized by the National Association of State Alcohol/Drug Abuse directors as a research informed program proven to strengthen relationship skills and increase resiliency. \nNovember/December: 11/4\, 11/9\, 11/16\, 11/18\, 11/30\, 12/2\, 12/7
URL:https://www.firstcallkc.org/register/how-to-cope-november-dec/2026-11-16/
LOCATION:First Call\, 9091 State Line Road\, Kansas City\, MO\, United States
CATEGORIES:How To Cope
END:VEVENT
BEGIN:VEVENT
DTSTART;TZID=America/Chicago:20261118T180000
DTEND;TZID=America/Chicago:20261221T200000
DTSTAMP:20260425T110219
CREATED:20251208T181557Z
LAST-MODIFIED:20251208T182401Z
UID:10001500-1795024800-1797883200@www.firstcallkc.org
SUMMARY:How To Cope: November/Dec 2026
DESCRIPTION:A seven-session course for adult family members and friends impacted by a loved one’s substance use. How to Cope helps participants overcome the related physical\, psychological\, and social effects and build a healthy life for themselves. How to Cope is recognized by the National Association of State Alcohol/Drug Abuse directors as a research informed program proven to strengthen relationship skills and increase resiliency. \nNovember/December: 11/4\, 11/9\, 11/16\, 11/18\, 11/30\, 12/2\, 12/7
URL:https://www.firstcallkc.org/register/how-to-cope-november-dec/2026-11-18/
LOCATION:First Call\, 9091 State Line Road\, Kansas City\, MO\, United States
CATEGORIES:How To Cope
END:VEVENT
BEGIN:VEVENT
DTSTART;TZID=America/Chicago:20261130T180000
DTEND;TZID=America/Chicago:20270102T200000
DTSTAMP:20260425T110219
CREATED:20251208T181557Z
LAST-MODIFIED:20251208T182401Z
UID:10001501-1796061600-1798920000@www.firstcallkc.org
SUMMARY:How To Cope: November/Dec 2026
DESCRIPTION:A seven-session course for adult family members and friends impacted by a loved one’s substance use. How to Cope helps participants overcome the related physical\, psychological\, and social effects and build a healthy life for themselves. How to Cope is recognized by the National Association of State Alcohol/Drug Abuse directors as a research informed program proven to strengthen relationship skills and increase resiliency. \nNovember/December: 11/4\, 11/9\, 11/16\, 11/18\, 11/30\, 12/2\, 12/7
URL:https://www.firstcallkc.org/register/how-to-cope-november-dec/2026-11-30/
LOCATION:First Call\, 9091 State Line Road\, Kansas City\, MO\, United States
CATEGORIES:How To Cope
END:VEVENT
BEGIN:VEVENT
DTSTART;TZID=America/Chicago:20261202T180000
DTEND;TZID=America/Chicago:20270104T200000
DTSTAMP:20260425T110219
CREATED:20251208T181557Z
LAST-MODIFIED:20251208T182401Z
UID:10001502-1796234400-1799092800@www.firstcallkc.org
SUMMARY:How To Cope: November/Dec 2026
DESCRIPTION:A seven-session course for adult family members and friends impacted by a loved one’s substance use. How to Cope helps participants overcome the related physical\, psychological\, and social effects and build a healthy life for themselves. How to Cope is recognized by the National Association of State Alcohol/Drug Abuse directors as a research informed program proven to strengthen relationship skills and increase resiliency. \nNovember/December: 11/4\, 11/9\, 11/16\, 11/18\, 11/30\, 12/2\, 12/7
URL:https://www.firstcallkc.org/register/how-to-cope-november-dec/2026-12-02/
LOCATION:First Call\, 9091 State Line Road\, Kansas City\, MO\, United States
CATEGORIES:How To Cope
END:VEVENT
END:VCALENDAR