BEGIN:VCALENDAR
VERSION:2.0
PRODID:-//First Call KC - ECPv6.15.20//NONSGML v1.0//EN
CALSCALE:GREGORIAN
METHOD:PUBLISH
X-ORIGINAL-URL:https://www.firstcallkc.org
X-WR-CALDESC:Events for First Call KC
REFRESH-INTERVAL;VALUE=DURATION:PT1H
X-Robots-Tag:noindex
X-PUBLISHED-TTL:PT1H
BEGIN:VTIMEZONE
TZID:America/Chicago
BEGIN:DAYLIGHT
TZOFFSETFROM:-0600
TZOFFSETTO:-0500
TZNAME:CDT
DTSTART:20240310T080000
END:DAYLIGHT
BEGIN:STANDARD
TZOFFSETFROM:-0500
TZOFFSETTO:-0600
TZNAME:CST
DTSTART:20241103T070000
END:STANDARD
BEGIN:DAYLIGHT
TZOFFSETFROM:-0600
TZOFFSETTO:-0500
TZNAME:CDT
DTSTART:20250309T080000
END:DAYLIGHT
BEGIN:STANDARD
TZOFFSETFROM:-0500
TZOFFSETTO:-0600
TZNAME:CST
DTSTART:20251102T070000
END:STANDARD
BEGIN:DAYLIGHT
TZOFFSETFROM:-0600
TZOFFSETTO:-0500
TZNAME:CDT
DTSTART:20260308T080000
END:DAYLIGHT
BEGIN:STANDARD
TZOFFSETFROM:-0500
TZOFFSETTO:-0600
TZNAME:CST
DTSTART:20261101T070000
END:STANDARD
END:VTIMEZONE
BEGIN:VTIMEZONE
TZID:America/Toronto
BEGIN:DAYLIGHT
TZOFFSETFROM:-0500
TZOFFSETTO:-0400
TZNAME:EDT
DTSTART:20240310T070000
END:DAYLIGHT
BEGIN:STANDARD
TZOFFSETFROM:-0400
TZOFFSETTO:-0500
TZNAME:EST
DTSTART:20241103T060000
END:STANDARD
BEGIN:DAYLIGHT
TZOFFSETFROM:-0500
TZOFFSETTO:-0400
TZNAME:EDT
DTSTART:20250309T070000
END:DAYLIGHT
BEGIN:STANDARD
TZOFFSETFROM:-0400
TZOFFSETTO:-0500
TZNAME:EST
DTSTART:20251102T060000
END:STANDARD
BEGIN:DAYLIGHT
TZOFFSETFROM:-0500
TZOFFSETTO:-0400
TZNAME:EDT
DTSTART:20260308T070000
END:DAYLIGHT
BEGIN:STANDARD
TZOFFSETFROM:-0400
TZOFFSETTO:-0500
TZNAME:EST
DTSTART:20261101T060000
END:STANDARD
END:VTIMEZONE
BEGIN:VTIMEZONE
TZID:UTC
BEGIN:STANDARD
TZOFFSETFROM:+0000
TZOFFSETTO:+0000
TZNAME:UTC
DTSTART:20240101T000000
END:STANDARD
END:VTIMEZONE
BEGIN:VEVENT
DTSTART;TZID=America/Chicago:20250627T090000
DTEND;TZID=America/Chicago:20250627T120000
DTSTAMP:20260425T202407
CREATED:20250323T210025Z
LAST-MODIFIED:20250326T195427Z
UID:10000274-1751014800-1751025600@www.firstcallkc.org
SUMMARY:2025 Summer Care Camp: June Session
DESCRIPTION:Our Care Camp Program will help kids to gain a healthy\, productive lifestyle by unpacking the impact of substance use in the family with education\, resilience and safety. \nDates: Jun 23\, 2025 – Jun 27\, 2025\nTotal of 3 sessions \n\nMonday\, Jun 23 | 9 am – noon\nWednesday\, Jun 25 | 9 am – noon\nFriday\, Jun 27 | 9 am – noon
URL:https://www.firstcallkc.org/register/2025-summer-care-camp-june-session/2025-06-27/
LOCATION:First Call\, 9091 State Line Road\, Kansas City\, MO\, United States
CATEGORIES:Summer Camps,Youth Events
ATTACH;FMTTYPE=image/webp:https://www.firstcallkc.org/wp-content/uploads/summer-care-camp.webp
END:VEVENT
BEGIN:VEVENT
DTSTART;TZID=America/Chicago:20250627T090000
DTEND;TZID=America/Chicago:20250627T120000
DTSTAMP:20260425T202407
CREATED:20250323T030447Z
LAST-MODIFIED:20250326T214231Z
UID:10000011-1751014800-1751025600@www.firstcallkc.org
SUMMARY:Performance Enhancing Drugs
DESCRIPTION:June 27\, 20259AM-Noon3 CEUs – In Person \nJoin First Call for a three-hour session where you will have the opportunity to learn about different types of PEDs (Performance Enhancing Drugs)\, the history of PEDs\, PEDs impact on the human body\, and the future of PEDs in America.
URL:https://www.firstcallkc.org/register/performance-enhancing-drugs/
LOCATION:First Call\, 9091 State Line Road\, Kansas City\, MO\, United States
CATEGORIES:Professional Development Institute
ATTACH;FMTTYPE=image/webp:https://www.firstcallkc.org/wp-content/uploads/performance-enhancing-drugs.webp
END:VEVENT
BEGIN:VEVENT
DTSTART;TZID=America/Chicago:20250625T090000
DTEND;TZID=America/Chicago:20250625T120000
DTSTAMP:20260425T202407
CREATED:20250323T210025Z
LAST-MODIFIED:20250326T195427Z
UID:10000273-1750842000-1750852800@www.firstcallkc.org
SUMMARY:2025 Summer Care Camp: June Session
DESCRIPTION:Our Care Camp Program will help kids to gain a healthy\, productive lifestyle by unpacking the impact of substance use in the family with education\, resilience and safety. \nDates: Jun 23\, 2025 – Jun 27\, 2025\nTotal of 3 sessions \n\nMonday\, Jun 23 | 9 am – noon\nWednesday\, Jun 25 | 9 am – noon\nFriday\, Jun 27 | 9 am – noon
URL:https://www.firstcallkc.org/register/2025-summer-care-camp-june-session/2025-06-25/
LOCATION:First Call\, 9091 State Line Road\, Kansas City\, MO\, United States
CATEGORIES:Summer Camps,Youth Events
ATTACH;FMTTYPE=image/webp:https://www.firstcallkc.org/wp-content/uploads/summer-care-camp.webp
END:VEVENT
BEGIN:VEVENT
DTSTART;TZID=America/Chicago:20250623T090000
DTEND;TZID=America/Chicago:20250623T120000
DTSTAMP:20260425T202407
CREATED:20250323T210025Z
LAST-MODIFIED:20250326T195427Z
UID:10000272-1750669200-1750680000@www.firstcallkc.org
SUMMARY:2025 Summer Care Camp: June Session
DESCRIPTION:Our Care Camp Program will help kids to gain a healthy\, productive lifestyle by unpacking the impact of substance use in the family with education\, resilience and safety. \nDates: Jun 23\, 2025 – Jun 27\, 2025\nTotal of 3 sessions \n\nMonday\, Jun 23 | 9 am – noon\nWednesday\, Jun 25 | 9 am – noon\nFriday\, Jun 27 | 9 am – noon
URL:https://www.firstcallkc.org/register/2025-summer-care-camp-june-session/2025-06-23/
LOCATION:First Call\, 9091 State Line Road\, Kansas City\, MO\, United States
CATEGORIES:Summer Camps,Youth Events
ATTACH;FMTTYPE=image/webp:https://www.firstcallkc.org/wp-content/uploads/summer-care-camp.webp
END:VEVENT
BEGIN:VEVENT
DTSTART;TZID=America/Chicago:20250613T090000
DTEND;TZID=America/Chicago:20250613T160000
DTSTAMP:20260425T202407
CREATED:20250507T190753Z
LAST-MODIFIED:20250507T191001Z
UID:10000696-1749805200-1749830400@www.firstcallkc.org
SUMMARY:Ethics in Prevention
DESCRIPTION:The principles of ethics are models of exemplary professional behavior.  These principles of the Prevention Think Tank Code express prevention professionals’ recognition of responsibilities to the public\, to service recipients\, and to colleagues within and outside of the prevention field. This 6 hour training will explore the 6 principles of ethics; Non-Discrimination\, Competence\, Integrity\, Nature of Services\, Confidentiality \, and Ethical Obligations for Community and Society.
URL:https://www.firstcallkc.org/register/ethics-in-prevention/
LOCATION:First Call\, 9091 State Line Road\, Kansas City\, MO\, United States
CATEGORIES:Professional Development Institute
END:VEVENT
BEGIN:VEVENT
DTSTART;TZID=America/Chicago:20250530T090000
DTEND;TZID=America/Chicago:20250530T170000
DTSTAMP:20260425T202407
CREATED:20250323T022128Z
LAST-MODIFIED:20250521T200749Z
UID:10000008-1748595600-1748624400@www.firstcallkc.org
SUMMARY:YMHFA
DESCRIPTION:May 309AM-5PM In-Person\, 8 CEUs \n  \nLearn how to identify\, understand\, and respond to signs of mental health and substance use challenges in youth.
URL:https://www.firstcallkc.org/register/ymhfa/
LOCATION:First Call\, 9091 State Line Road\, Kansas City\, MO\, United States
CATEGORIES:Professional Development Institute
ATTACH;FMTTYPE=image/webp:https://www.firstcallkc.org/wp-content/uploads/YMHFA.webp
END:VEVENT
BEGIN:VEVENT
DTSTART;TZID=America/Chicago:20250528T180000
DTEND;TZID=America/Chicago:20250528T200000
DTSTAMP:20260425T202407
CREATED:20250323T162947Z
LAST-MODIFIED:20250402T170311Z
UID:10000636-1748455200-1748462400@www.firstcallkc.org
SUMMARY:How To Cope: May Session
DESCRIPTION:A seven-session course for adult family members and friends impacted by a loved one’s substance use. How to Cope helps participants overcome the related physical\, psychological\, and social effects and build a healthy life for themselves. How to Cope is recognized by the National Association of State Alcohol/Drug Abuse directors as a research informed program proven to strengthen relationship skills and increase resiliency. \n\nDates: Apr 30\, 2025 – May 21\, 2025 \n\nWednesday\, Apr 30 | 6-8 pm\nMonday\, May 5 | 6-8 pm\nWednesday\, May 7 | 6-8 pm\nMonday\, May 12 | 6-8 pm\nMonday\, May 19 | 6-8 pm\nWednesday\, May 21 | 6-8 pm\nWednesday\, May 28 | 6-8 pm
URL:https://www.firstcallkc.org/register/how-to-cope-may-session/2025-05-28/
LOCATION:First Call\, 9091 State Line Road\, Kansas City\, MO\, United States
CATEGORIES:Families,How To Cope
ATTACH;FMTTYPE=image/webp:https://www.firstcallkc.org/wp-content/uploads/how-to-cope.webp
END:VEVENT
BEGIN:VEVENT
DTSTART;TZID=America/Chicago:20250521T180000
DTEND;TZID=America/Chicago:20250521T200000
DTSTAMP:20260425T202407
CREATED:20250323T162947Z
LAST-MODIFIED:20250402T170311Z
UID:10000198-1747850400-1747857600@www.firstcallkc.org
SUMMARY:How To Cope: May Session
DESCRIPTION:A seven-session course for adult family members and friends impacted by a loved one’s substance use. How to Cope helps participants overcome the related physical\, psychological\, and social effects and build a healthy life for themselves. How to Cope is recognized by the National Association of State Alcohol/Drug Abuse directors as a research informed program proven to strengthen relationship skills and increase resiliency. \n\nDates: Apr 30\, 2025 – May 21\, 2025 \n\nWednesday\, Apr 30 | 6-8 pm\nMonday\, May 5 | 6-8 pm\nWednesday\, May 7 | 6-8 pm\nMonday\, May 12 | 6-8 pm\nMonday\, May 19 | 6-8 pm\nWednesday\, May 21 | 6-8 pm\nWednesday\, May 28 | 6-8 pm
URL:https://www.firstcallkc.org/register/how-to-cope-may-session/2025-05-21/
LOCATION:First Call\, 9091 State Line Road\, Kansas City\, MO\, United States
CATEGORIES:Families,How To Cope
ATTACH;FMTTYPE=image/webp:https://www.firstcallkc.org/wp-content/uploads/how-to-cope.webp
END:VEVENT
BEGIN:VEVENT
DTSTART;TZID=America/Chicago:20250519T180000
DTEND;TZID=America/Chicago:20250519T200000
DTSTAMP:20260425T202408
CREATED:20250323T162947Z
LAST-MODIFIED:20250402T170311Z
UID:10000197-1747677600-1747684800@www.firstcallkc.org
SUMMARY:How To Cope: May Session
DESCRIPTION:A seven-session course for adult family members and friends impacted by a loved one’s substance use. How to Cope helps participants overcome the related physical\, psychological\, and social effects and build a healthy life for themselves. How to Cope is recognized by the National Association of State Alcohol/Drug Abuse directors as a research informed program proven to strengthen relationship skills and increase resiliency. \n\nDates: Apr 30\, 2025 – May 21\, 2025 \n\nWednesday\, Apr 30 | 6-8 pm\nMonday\, May 5 | 6-8 pm\nWednesday\, May 7 | 6-8 pm\nMonday\, May 12 | 6-8 pm\nMonday\, May 19 | 6-8 pm\nWednesday\, May 21 | 6-8 pm\nWednesday\, May 28 | 6-8 pm
URL:https://www.firstcallkc.org/register/how-to-cope-may-session/2025-05-19/
LOCATION:First Call\, 9091 State Line Road\, Kansas City\, MO\, United States
CATEGORIES:Families,How To Cope
ATTACH;FMTTYPE=image/webp:https://www.firstcallkc.org/wp-content/uploads/how-to-cope.webp
END:VEVENT
BEGIN:VEVENT
DTSTART;TZID=America/Chicago:20250512T180000
DTEND;TZID=America/Chicago:20250512T200000
DTSTAMP:20260425T202408
CREATED:20250323T162947Z
LAST-MODIFIED:20250402T170311Z
UID:10000195-1747072800-1747080000@www.firstcallkc.org
SUMMARY:How To Cope: May Session
DESCRIPTION:A seven-session course for adult family members and friends impacted by a loved one’s substance use. How to Cope helps participants overcome the related physical\, psychological\, and social effects and build a healthy life for themselves. How to Cope is recognized by the National Association of State Alcohol/Drug Abuse directors as a research informed program proven to strengthen relationship skills and increase resiliency. \n\nDates: Apr 30\, 2025 – May 21\, 2025 \n\nWednesday\, Apr 30 | 6-8 pm\nMonday\, May 5 | 6-8 pm\nWednesday\, May 7 | 6-8 pm\nMonday\, May 12 | 6-8 pm\nMonday\, May 19 | 6-8 pm\nWednesday\, May 21 | 6-8 pm\nWednesday\, May 28 | 6-8 pm
URL:https://www.firstcallkc.org/register/how-to-cope-may-session/2025-05-12/
LOCATION:First Call\, 9091 State Line Road\, Kansas City\, MO\, United States
CATEGORIES:Families,How To Cope
ATTACH;FMTTYPE=image/webp:https://www.firstcallkc.org/wp-content/uploads/how-to-cope.webp
END:VEVENT
BEGIN:VEVENT
DTSTART;TZID=America/Chicago:20250507T180000
DTEND;TZID=America/Chicago:20250507T200000
DTSTAMP:20260425T202408
CREATED:20250323T162947Z
LAST-MODIFIED:20250402T170311Z
UID:10000194-1746640800-1746648000@www.firstcallkc.org
SUMMARY:How To Cope: May Session
DESCRIPTION:A seven-session course for adult family members and friends impacted by a loved one’s substance use. How to Cope helps participants overcome the related physical\, psychological\, and social effects and build a healthy life for themselves. How to Cope is recognized by the National Association of State Alcohol/Drug Abuse directors as a research informed program proven to strengthen relationship skills and increase resiliency. \n\nDates: Apr 30\, 2025 – May 21\, 2025 \n\nWednesday\, Apr 30 | 6-8 pm\nMonday\, May 5 | 6-8 pm\nWednesday\, May 7 | 6-8 pm\nMonday\, May 12 | 6-8 pm\nMonday\, May 19 | 6-8 pm\nWednesday\, May 21 | 6-8 pm\nWednesday\, May 28 | 6-8 pm
URL:https://www.firstcallkc.org/register/how-to-cope-may-session/2025-05-07/
LOCATION:First Call\, 9091 State Line Road\, Kansas City\, MO\, United States
CATEGORIES:Families,How To Cope
ATTACH;FMTTYPE=image/webp:https://www.firstcallkc.org/wp-content/uploads/how-to-cope.webp
END:VEVENT
BEGIN:VEVENT
DTSTART;TZID=America/Chicago:20250505T180000
DTEND;TZID=America/Chicago:20250505T200000
DTSTAMP:20260425T202408
CREATED:20250323T162947Z
LAST-MODIFIED:20250402T170311Z
UID:10000193-1746468000-1746475200@www.firstcallkc.org
SUMMARY:How To Cope: May Session
DESCRIPTION:A seven-session course for adult family members and friends impacted by a loved one’s substance use. How to Cope helps participants overcome the related physical\, psychological\, and social effects and build a healthy life for themselves. How to Cope is recognized by the National Association of State Alcohol/Drug Abuse directors as a research informed program proven to strengthen relationship skills and increase resiliency. \n\nDates: Apr 30\, 2025 – May 21\, 2025 \n\nWednesday\, Apr 30 | 6-8 pm\nMonday\, May 5 | 6-8 pm\nWednesday\, May 7 | 6-8 pm\nMonday\, May 12 | 6-8 pm\nMonday\, May 19 | 6-8 pm\nWednesday\, May 21 | 6-8 pm\nWednesday\, May 28 | 6-8 pm
URL:https://www.firstcallkc.org/register/how-to-cope-may-session/2025-05-05/
LOCATION:First Call\, 9091 State Line Road\, Kansas City\, MO\, United States
CATEGORIES:Families,How To Cope
ATTACH;FMTTYPE=image/webp:https://www.firstcallkc.org/wp-content/uploads/how-to-cope.webp
END:VEVENT
BEGIN:VEVENT
DTSTART;TZID=America/Chicago:20250430T180000
DTEND;TZID=America/Chicago:20250430T200000
DTSTAMP:20260425T202408
CREATED:20250323T162947Z
LAST-MODIFIED:20250402T170311Z
UID:10000192-1746036000-1746043200@www.firstcallkc.org
SUMMARY:How To Cope: May Session
DESCRIPTION:A seven-session course for adult family members and friends impacted by a loved one’s substance use. How to Cope helps participants overcome the related physical\, psychological\, and social effects and build a healthy life for themselves. How to Cope is recognized by the National Association of State Alcohol/Drug Abuse directors as a research informed program proven to strengthen relationship skills and increase resiliency. \n\nDates: Apr 30\, 2025 – May 21\, 2025 \n\nWednesday\, Apr 30 | 6-8 pm\nMonday\, May 5 | 6-8 pm\nWednesday\, May 7 | 6-8 pm\nMonday\, May 12 | 6-8 pm\nMonday\, May 19 | 6-8 pm\nWednesday\, May 21 | 6-8 pm\nWednesday\, May 28 | 6-8 pm
URL:https://www.firstcallkc.org/register/how-to-cope-may-session/2025-04-30/
LOCATION:First Call\, 9091 State Line Road\, Kansas City\, MO\, United States
CATEGORIES:Families,How To Cope
ATTACH;FMTTYPE=image/webp:https://www.firstcallkc.org/wp-content/uploads/how-to-cope.webp
END:VEVENT
BEGIN:VEVENT
DTSTART;TZID=America/Chicago:20250418T090000
DTEND;TZID=America/Chicago:20250418T120000
DTSTAMP:20260425T202408
CREATED:20250311T175929Z
LAST-MODIFIED:20250418T143821Z
UID:10000004-1744966800-1744977600@www.firstcallkc.org
SUMMARY:Cognitive Behavioral Therapy
DESCRIPTION:April 18\, 2025\n9AM-Noon\n3 CEUs \nJoin us for a 3-hour interactive CBT (Cognitive Behavioral Therapy) training designed to equip participants with foundational CBT skills. This session will introduce the CBT triangle (thoughts\, feelings\, behaviors) as a framework for understanding and addressing mental health and substance misuse challenges. Participants will learn to identify common thought distortions and gain practical tools to support others in reframing negative thinking patterns. Ideal for professionals and individuals seeking effective\, evidence-based strategies to promote mental well-being.
URL:https://www.firstcallkc.org/register/cognitive-behavioral-therapy/
LOCATION:First Call\, 9091 State Line Road\, Kansas City\, MO\, United States
CATEGORIES:Professional Development Institute
ATTACH;FMTTYPE=image/webp:https://www.firstcallkc.org/wp-content/uploads/11062b_816c4f06b94a4e928bca40ea0cc0559bmv2.webp
END:VEVENT
BEGIN:VEVENT
DTSTART;TZID=America/Chicago:20250328T090000
DTEND;TZID=America/Chicago:20250328T120000
DTSTAMP:20260425T202408
CREATED:20250311T175545Z
LAST-MODIFIED:20260224T152555Z
UID:10000003-1743152400-1743163200@www.firstcallkc.org
SUMMARY:SUDS/Mental Health Ethical Treatment
DESCRIPTION:March 28\, 2025\n9 am – Noon\nIn Person (3 CEUs) \n\nIn this live\, interactive training\, participants will discuss challenges within the workplace that involve ethical questioning. Ethical decision-making requires careful deliberation; assessment of multiple variables; self-regulation; choosing an ethical response; taking action; and evaluating the outcome.
URL:https://www.firstcallkc.org/register/suds-mental-health-ethical-treatment/
LOCATION:First Call\, 9091 State Line Road\, Kansas City\, MO\, United States
CATEGORIES:Professional Development Institute
ATTACH;FMTTYPE=image/webp:https://www.firstcallkc.org/wp-content/uploads/11062b_938d4c49eaa04cd5ac225719e9d98bb4mv2.webp
END:VEVENT
BEGIN:VEVENT
DTSTART;TZID=America/Toronto:20250304T130000
DTEND;TZID=America/Toronto:20250304T160000
DTSTAMP:20260425T202408
CREATED:20250311T175413Z
LAST-MODIFIED:20250311T192614Z
UID:10000002-1741093200-1741104000@www.firstcallkc.org
SUMMARY:Mindfulness & Social Support
DESCRIPTION:Mindfulness oriented recovery enhancement\, mindfulness-based stress reduction b. Social support c. Neuroplasticity
URL:https://www.firstcallkc.org/register/mindfulness-social-support/
LOCATION:First Call\, 9091 State Line Road\, Kansas City\, MO\, United States
CATEGORIES:Professional Development Institute
END:VEVENT
BEGIN:VEVENT
DTSTART;TZID=UTC:20250227T151400
DTEND;TZID=UTC:20250227T151400
DTSTAMP:20260425T202408
CREATED:20250227T211452Z
LAST-MODIFIED:20250313T192323Z
UID:10000001-1740669240-1740669240@www.firstcallkc.org
SUMMARY:Cultural Humility (4-Part Series)
DESCRIPTION:Join us for a transformative 4-part training series focused on Cultural Humility\, Intersectionality\, and Managing Microaggressions. Over four consecutive Fridays\, this immersive program will dive into these critical topics\, fostering deeper understanding and practical skills. Each 2-hour session builds on the last\, offering a combination of engaging discussions\, and actionable strategies. Participants will learn to approach cultural differences with humility\, explore the impact of intersecting identities\, and develop tools to effectively recognize and address microaggressions in diverse environments. Perfect for individuals and teams committed to creating inclusive and respectful spaces.
URL:https://www.firstcallkc.org/register/cal-test/
LOCATION:First Call\, 9091 State Line Road\, Kansas City\, MO\, United States
CATEGORIES:Professional Development Institute
END:VEVENT
END:VCALENDAR